BEGIN:VCALENDAR
VERSION:2.0
PRODID:-//Norway Memorial Library - ECPv6.15.20//NONSGML v1.0//EN
CALSCALE:GREGORIAN
METHOD:PUBLISH
X-ORIGINAL-URL:https://norwaymemoriallibrary.org
X-WR-CALDESC:Events for Norway Memorial Library
REFRESH-INTERVAL;VALUE=DURATION:PT1H
X-Robots-Tag:noindex
X-PUBLISHED-TTL:PT1H
BEGIN:VTIMEZONE
TZID:America/New_York
BEGIN:DAYLIGHT
TZOFFSETFROM:-0500
TZOFFSETTO:-0400
TZNAME:EDT
DTSTART:20250309T070000
END:DAYLIGHT
BEGIN:STANDARD
TZOFFSETFROM:-0400
TZOFFSETTO:-0500
TZNAME:EST
DTSTART:20251102T060000
END:STANDARD
BEGIN:DAYLIGHT
TZOFFSETFROM:-0500
TZOFFSETTO:-0400
TZNAME:EDT
DTSTART:20260308T070000
END:DAYLIGHT
BEGIN:STANDARD
TZOFFSETFROM:-0400
TZOFFSETTO:-0500
TZNAME:EST
DTSTART:20261101T060000
END:STANDARD
BEGIN:DAYLIGHT
TZOFFSETFROM:-0500
TZOFFSETTO:-0400
TZNAME:EDT
DTSTART:20270314T070000
END:DAYLIGHT
BEGIN:STANDARD
TZOFFSETFROM:-0400
TZOFFSETTO:-0500
TZNAME:EST
DTSTART:20271107T060000
END:STANDARD
END:VTIMEZONE
BEGIN:VEVENT
DTSTART;TZID=America/New_York:20260410T103000
DTEND;TZID=America/New_York:20260410T233000
DTSTAMP:20260419T190347
CREATED:20220221T214634Z
LAST-MODIFIED:20250908T155012Z
UID:10002043-1775817000-1775863800@norwaymemoriallibrary.org
SUMMARY:Music & Movement
DESCRIPTION:Every Friday at 10:30 am \nJoin us as we play and sing in a casual and fun atmosphere.
URL:https://norwaymemoriallibrary.org/event/music-movement/2026-04-10/
LOCATION:Norway Memorial Library
CATEGORIES:Music & Movement
ATTACH;FMTTYPE=image/jpeg:https://norwaymemoriallibrary.org/wp-content/uploads/2022/02/50644737_s-e1645481023470.jpg
END:VEVENT
BEGIN:VEVENT
DTSTART;TZID=America/New_York:20260417T103000
DTEND;TZID=America/New_York:20260417T233000
DTSTAMP:20260419T190347
CREATED:20220221T214634Z
LAST-MODIFIED:20250908T155012Z
UID:10002044-1776421800-1776468600@norwaymemoriallibrary.org
SUMMARY:Music & Movement
DESCRIPTION:Every Friday at 10:30 am \nJoin us as we play and sing in a casual and fun atmosphere.
URL:https://norwaymemoriallibrary.org/event/music-movement/2026-04-17/
LOCATION:Norway Memorial Library
CATEGORIES:Music & Movement
ATTACH;FMTTYPE=image/jpeg:https://norwaymemoriallibrary.org/wp-content/uploads/2022/02/50644737_s-e1645481023470.jpg
END:VEVENT
BEGIN:VEVENT
DTSTART;TZID=America/New_York:20260424T103000
DTEND;TZID=America/New_York:20260424T233000
DTSTAMP:20260419T190347
CREATED:20220221T214634Z
LAST-MODIFIED:20250908T155012Z
UID:10002045-1777026600-1777073400@norwaymemoriallibrary.org
SUMMARY:Music & Movement
DESCRIPTION:Every Friday at 10:30 am \nJoin us as we play and sing in a casual and fun atmosphere.
URL:https://norwaymemoriallibrary.org/event/music-movement/2026-04-24/
LOCATION:Norway Memorial Library
CATEGORIES:Music & Movement
ATTACH;FMTTYPE=image/jpeg:https://norwaymemoriallibrary.org/wp-content/uploads/2022/02/50644737_s-e1645481023470.jpg
END:VEVENT
BEGIN:VEVENT
DTSTART;TZID=America/New_York:20260501T103000
DTEND;TZID=America/New_York:20260501T233000
DTSTAMP:20260419T190347
CREATED:20220221T214634Z
LAST-MODIFIED:20250908T155012Z
UID:10002046-1777631400-1777678200@norwaymemoriallibrary.org
SUMMARY:Music & Movement
DESCRIPTION:Every Friday at 10:30 am \nJoin us as we play and sing in a casual and fun atmosphere.
URL:https://norwaymemoriallibrary.org/event/music-movement/2026-05-01/
LOCATION:Norway Memorial Library
CATEGORIES:Music & Movement
ATTACH;FMTTYPE=image/jpeg:https://norwaymemoriallibrary.org/wp-content/uploads/2022/02/50644737_s-e1645481023470.jpg
END:VEVENT
BEGIN:VEVENT
DTSTART;TZID=America/New_York:20260508T103000
DTEND;TZID=America/New_York:20260508T233000
DTSTAMP:20260419T190347
CREATED:20220221T214634Z
LAST-MODIFIED:20250908T155012Z
UID:10002047-1778236200-1778283000@norwaymemoriallibrary.org
SUMMARY:Music & Movement
DESCRIPTION:Every Friday at 10:30 am \nJoin us as we play and sing in a casual and fun atmosphere.
URL:https://norwaymemoriallibrary.org/event/music-movement/2026-05-08/
LOCATION:Norway Memorial Library
CATEGORIES:Music & Movement
ATTACH;FMTTYPE=image/jpeg:https://norwaymemoriallibrary.org/wp-content/uploads/2022/02/50644737_s-e1645481023470.jpg
END:VEVENT
BEGIN:VEVENT
DTSTART;TZID=America/New_York:20260515T103000
DTEND;TZID=America/New_York:20260515T233000
DTSTAMP:20260419T190347
CREATED:20220221T214634Z
LAST-MODIFIED:20250908T155012Z
UID:10002048-1778841000-1778887800@norwaymemoriallibrary.org
SUMMARY:Music & Movement
DESCRIPTION:Every Friday at 10:30 am \nJoin us as we play and sing in a casual and fun atmosphere.
URL:https://norwaymemoriallibrary.org/event/music-movement/2026-05-15/
LOCATION:Norway Memorial Library
CATEGORIES:Music & Movement
ATTACH;FMTTYPE=image/jpeg:https://norwaymemoriallibrary.org/wp-content/uploads/2022/02/50644737_s-e1645481023470.jpg
END:VEVENT
BEGIN:VEVENT
DTSTART;TZID=America/New_York:20260522T103000
DTEND;TZID=America/New_York:20260522T233000
DTSTAMP:20260419T190347
CREATED:20220221T214634Z
LAST-MODIFIED:20250908T155012Z
UID:10002049-1779445800-1779492600@norwaymemoriallibrary.org
SUMMARY:Music & Movement
DESCRIPTION:Every Friday at 10:30 am \nJoin us as we play and sing in a casual and fun atmosphere.
URL:https://norwaymemoriallibrary.org/event/music-movement/2026-05-22/
LOCATION:Norway Memorial Library
CATEGORIES:Music & Movement
ATTACH;FMTTYPE=image/jpeg:https://norwaymemoriallibrary.org/wp-content/uploads/2022/02/50644737_s-e1645481023470.jpg
END:VEVENT
BEGIN:VEVENT
DTSTART;TZID=America/New_York:20260529T103000
DTEND;TZID=America/New_York:20260529T233000
DTSTAMP:20260419T190347
CREATED:20220221T214634Z
LAST-MODIFIED:20250908T155012Z
UID:10002050-1780050600-1780097400@norwaymemoriallibrary.org
SUMMARY:Music & Movement
DESCRIPTION:Every Friday at 10:30 am \nJoin us as we play and sing in a casual and fun atmosphere.
URL:https://norwaymemoriallibrary.org/event/music-movement/2026-05-29/
LOCATION:Norway Memorial Library
CATEGORIES:Music & Movement
ATTACH;FMTTYPE=image/jpeg:https://norwaymemoriallibrary.org/wp-content/uploads/2022/02/50644737_s-e1645481023470.jpg
END:VEVENT
BEGIN:VEVENT
DTSTART;TZID=America/New_York:20260605T103000
DTEND;TZID=America/New_York:20260605T233000
DTSTAMP:20260419T190347
CREATED:20220221T214634Z
LAST-MODIFIED:20250908T155012Z
UID:10002051-1780655400-1780702200@norwaymemoriallibrary.org
SUMMARY:Music & Movement
DESCRIPTION:Every Friday at 10:30 am \nJoin us as we play and sing in a casual and fun atmosphere.
URL:https://norwaymemoriallibrary.org/event/music-movement/2026-06-05/
LOCATION:Norway Memorial Library
CATEGORIES:Music & Movement
ATTACH;FMTTYPE=image/jpeg:https://norwaymemoriallibrary.org/wp-content/uploads/2022/02/50644737_s-e1645481023470.jpg
END:VEVENT
BEGIN:VEVENT
DTSTART;TZID=America/New_York:20260612T103000
DTEND;TZID=America/New_York:20260612T233000
DTSTAMP:20260419T190347
CREATED:20220221T214634Z
LAST-MODIFIED:20250908T155012Z
UID:10002052-1781260200-1781307000@norwaymemoriallibrary.org
SUMMARY:Music & Movement
DESCRIPTION:Every Friday at 10:30 am \nJoin us as we play and sing in a casual and fun atmosphere.
URL:https://norwaymemoriallibrary.org/event/music-movement/2026-06-12/
LOCATION:Norway Memorial Library
CATEGORIES:Music & Movement
ATTACH;FMTTYPE=image/jpeg:https://norwaymemoriallibrary.org/wp-content/uploads/2022/02/50644737_s-e1645481023470.jpg
END:VEVENT
BEGIN:VEVENT
DTSTART;TZID=America/New_York:20260619T103000
DTEND;TZID=America/New_York:20260619T233000
DTSTAMP:20260419T190347
CREATED:20220221T214634Z
LAST-MODIFIED:20250908T155012Z
UID:10002053-1781865000-1781911800@norwaymemoriallibrary.org
SUMMARY:Music & Movement
DESCRIPTION:Every Friday at 10:30 am \nJoin us as we play and sing in a casual and fun atmosphere.
URL:https://norwaymemoriallibrary.org/event/music-movement/2026-06-19/
LOCATION:Norway Memorial Library
CATEGORIES:Music & Movement
ATTACH;FMTTYPE=image/jpeg:https://norwaymemoriallibrary.org/wp-content/uploads/2022/02/50644737_s-e1645481023470.jpg
END:VEVENT
BEGIN:VEVENT
DTSTART;TZID=America/New_York:20260626T103000
DTEND;TZID=America/New_York:20260626T233000
DTSTAMP:20260419T190347
CREATED:20220221T214634Z
LAST-MODIFIED:20250908T155012Z
UID:10002054-1782469800-1782516600@norwaymemoriallibrary.org
SUMMARY:Music & Movement
DESCRIPTION:Every Friday at 10:30 am \nJoin us as we play and sing in a casual and fun atmosphere.
URL:https://norwaymemoriallibrary.org/event/music-movement/2026-06-26/
LOCATION:Norway Memorial Library
CATEGORIES:Music & Movement
ATTACH;FMTTYPE=image/jpeg:https://norwaymemoriallibrary.org/wp-content/uploads/2022/02/50644737_s-e1645481023470.jpg
END:VEVENT
BEGIN:VEVENT
DTSTART;TZID=America/New_York:20260703T103000
DTEND;TZID=America/New_York:20260703T233000
DTSTAMP:20260419T190347
CREATED:20220221T214634Z
LAST-MODIFIED:20250908T155012Z
UID:10002055-1783074600-1783121400@norwaymemoriallibrary.org
SUMMARY:Music & Movement
DESCRIPTION:Every Friday at 10:30 am \nJoin us as we play and sing in a casual and fun atmosphere.
URL:https://norwaymemoriallibrary.org/event/music-movement/2026-07-03/
LOCATION:Norway Memorial Library
CATEGORIES:Music & Movement
ATTACH;FMTTYPE=image/jpeg:https://norwaymemoriallibrary.org/wp-content/uploads/2022/02/50644737_s-e1645481023470.jpg
END:VEVENT
BEGIN:VEVENT
DTSTART;TZID=America/New_York:20260710T103000
DTEND;TZID=America/New_York:20260710T233000
DTSTAMP:20260419T190347
CREATED:20220221T214634Z
LAST-MODIFIED:20250908T155012Z
UID:10002056-1783679400-1783726200@norwaymemoriallibrary.org
SUMMARY:Music & Movement
DESCRIPTION:Every Friday at 10:30 am \nJoin us as we play and sing in a casual and fun atmosphere.
URL:https://norwaymemoriallibrary.org/event/music-movement/2026-07-10/
LOCATION:Norway Memorial Library
CATEGORIES:Music & Movement
ATTACH;FMTTYPE=image/jpeg:https://norwaymemoriallibrary.org/wp-content/uploads/2022/02/50644737_s-e1645481023470.jpg
END:VEVENT
BEGIN:VEVENT
DTSTART;TZID=America/New_York:20260717T103000
DTEND;TZID=America/New_York:20260717T233000
DTSTAMP:20260419T190347
CREATED:20220221T214634Z
LAST-MODIFIED:20250908T155012Z
UID:10002057-1784284200-1784331000@norwaymemoriallibrary.org
SUMMARY:Music & Movement
DESCRIPTION:Every Friday at 10:30 am \nJoin us as we play and sing in a casual and fun atmosphere.
URL:https://norwaymemoriallibrary.org/event/music-movement/2026-07-17/
LOCATION:Norway Memorial Library
CATEGORIES:Music & Movement
ATTACH;FMTTYPE=image/jpeg:https://norwaymemoriallibrary.org/wp-content/uploads/2022/02/50644737_s-e1645481023470.jpg
END:VEVENT
BEGIN:VEVENT
DTSTART;TZID=America/New_York:20260724T103000
DTEND;TZID=America/New_York:20260724T233000
DTSTAMP:20260419T190347
CREATED:20220221T214634Z
LAST-MODIFIED:20250908T155012Z
UID:10002058-1784889000-1784935800@norwaymemoriallibrary.org
SUMMARY:Music & Movement
DESCRIPTION:Every Friday at 10:30 am \nJoin us as we play and sing in a casual and fun atmosphere.
URL:https://norwaymemoriallibrary.org/event/music-movement/2026-07-24/
LOCATION:Norway Memorial Library
CATEGORIES:Music & Movement
ATTACH;FMTTYPE=image/jpeg:https://norwaymemoriallibrary.org/wp-content/uploads/2022/02/50644737_s-e1645481023470.jpg
END:VEVENT
BEGIN:VEVENT
DTSTART;TZID=America/New_York:20260731T103000
DTEND;TZID=America/New_York:20260731T233000
DTSTAMP:20260419T190347
CREATED:20220221T214634Z
LAST-MODIFIED:20250908T155012Z
UID:10002059-1785493800-1785540600@norwaymemoriallibrary.org
SUMMARY:Music & Movement
DESCRIPTION:Every Friday at 10:30 am \nJoin us as we play and sing in a casual and fun atmosphere.
URL:https://norwaymemoriallibrary.org/event/music-movement/2026-07-31/
LOCATION:Norway Memorial Library
CATEGORIES:Music & Movement
ATTACH;FMTTYPE=image/jpeg:https://norwaymemoriallibrary.org/wp-content/uploads/2022/02/50644737_s-e1645481023470.jpg
END:VEVENT
BEGIN:VEVENT
DTSTART;TZID=America/New_York:20260807T103000
DTEND;TZID=America/New_York:20260807T233000
DTSTAMP:20260419T190347
CREATED:20220221T214634Z
LAST-MODIFIED:20250908T155012Z
UID:10002060-1786098600-1786145400@norwaymemoriallibrary.org
SUMMARY:Music & Movement
DESCRIPTION:Every Friday at 10:30 am \nJoin us as we play and sing in a casual and fun atmosphere.
URL:https://norwaymemoriallibrary.org/event/music-movement/2026-08-07/
LOCATION:Norway Memorial Library
CATEGORIES:Music & Movement
ATTACH;FMTTYPE=image/jpeg:https://norwaymemoriallibrary.org/wp-content/uploads/2022/02/50644737_s-e1645481023470.jpg
END:VEVENT
BEGIN:VEVENT
DTSTART;TZID=America/New_York:20260814T103000
DTEND;TZID=America/New_York:20260814T233000
DTSTAMP:20260419T190347
CREATED:20220221T214634Z
LAST-MODIFIED:20250908T155012Z
UID:10002061-1786703400-1786750200@norwaymemoriallibrary.org
SUMMARY:Music & Movement
DESCRIPTION:Every Friday at 10:30 am \nJoin us as we play and sing in a casual and fun atmosphere.
URL:https://norwaymemoriallibrary.org/event/music-movement/2026-08-14/
LOCATION:Norway Memorial Library
CATEGORIES:Music & Movement
ATTACH;FMTTYPE=image/jpeg:https://norwaymemoriallibrary.org/wp-content/uploads/2022/02/50644737_s-e1645481023470.jpg
END:VEVENT
BEGIN:VEVENT
DTSTART;TZID=America/New_York:20260821T103000
DTEND;TZID=America/New_York:20260821T233000
DTSTAMP:20260419T190347
CREATED:20220221T214634Z
LAST-MODIFIED:20250908T155012Z
UID:10002062-1787308200-1787355000@norwaymemoriallibrary.org
SUMMARY:Music & Movement
DESCRIPTION:Every Friday at 10:30 am \nJoin us as we play and sing in a casual and fun atmosphere.
URL:https://norwaymemoriallibrary.org/event/music-movement/2026-08-21/
LOCATION:Norway Memorial Library
CATEGORIES:Music & Movement
ATTACH;FMTTYPE=image/jpeg:https://norwaymemoriallibrary.org/wp-content/uploads/2022/02/50644737_s-e1645481023470.jpg
END:VEVENT
BEGIN:VEVENT
DTSTART;TZID=America/New_York:20260828T103000
DTEND;TZID=America/New_York:20260828T233000
DTSTAMP:20260419T190347
CREATED:20220221T214634Z
LAST-MODIFIED:20250908T155012Z
UID:10002063-1787913000-1787959800@norwaymemoriallibrary.org
SUMMARY:Music & Movement
DESCRIPTION:Every Friday at 10:30 am \nJoin us as we play and sing in a casual and fun atmosphere.
URL:https://norwaymemoriallibrary.org/event/music-movement/2026-08-28/
LOCATION:Norway Memorial Library
CATEGORIES:Music & Movement
ATTACH;FMTTYPE=image/jpeg:https://norwaymemoriallibrary.org/wp-content/uploads/2022/02/50644737_s-e1645481023470.jpg
END:VEVENT
BEGIN:VEVENT
DTSTART;TZID=America/New_York:20260904T103000
DTEND;TZID=America/New_York:20260904T233000
DTSTAMP:20260419T190347
CREATED:20220221T214634Z
LAST-MODIFIED:20250908T155012Z
UID:10002064-1788517800-1788564600@norwaymemoriallibrary.org
SUMMARY:Music & Movement
DESCRIPTION:Every Friday at 10:30 am \nJoin us as we play and sing in a casual and fun atmosphere.
URL:https://norwaymemoriallibrary.org/event/music-movement/2026-09-04/
LOCATION:Norway Memorial Library
CATEGORIES:Music & Movement
ATTACH;FMTTYPE=image/jpeg:https://norwaymemoriallibrary.org/wp-content/uploads/2022/02/50644737_s-e1645481023470.jpg
END:VEVENT
BEGIN:VEVENT
DTSTART;TZID=America/New_York:20260911T103000
DTEND;TZID=America/New_York:20260911T233000
DTSTAMP:20260419T190347
CREATED:20220221T214634Z
LAST-MODIFIED:20250908T155012Z
UID:10002065-1789122600-1789169400@norwaymemoriallibrary.org
SUMMARY:Music & Movement
DESCRIPTION:Every Friday at 10:30 am \nJoin us as we play and sing in a casual and fun atmosphere.
URL:https://norwaymemoriallibrary.org/event/music-movement/2026-09-11/
LOCATION:Norway Memorial Library
CATEGORIES:Music & Movement
ATTACH;FMTTYPE=image/jpeg:https://norwaymemoriallibrary.org/wp-content/uploads/2022/02/50644737_s-e1645481023470.jpg
END:VEVENT
BEGIN:VEVENT
DTSTART;TZID=America/New_York:20260918T103000
DTEND;TZID=America/New_York:20260918T233000
DTSTAMP:20260419T190347
CREATED:20220221T214634Z
LAST-MODIFIED:20250908T155012Z
UID:10002066-1789727400-1789774200@norwaymemoriallibrary.org
SUMMARY:Music & Movement
DESCRIPTION:Every Friday at 10:30 am \nJoin us as we play and sing in a casual and fun atmosphere.
URL:https://norwaymemoriallibrary.org/event/music-movement/2026-09-18/
LOCATION:Norway Memorial Library
CATEGORIES:Music & Movement
ATTACH;FMTTYPE=image/jpeg:https://norwaymemoriallibrary.org/wp-content/uploads/2022/02/50644737_s-e1645481023470.jpg
END:VEVENT
BEGIN:VEVENT
DTSTART;TZID=America/New_York:20260925T103000
DTEND;TZID=America/New_York:20260925T233000
DTSTAMP:20260419T190347
CREATED:20220221T214634Z
LAST-MODIFIED:20250908T155012Z
UID:10002067-1790332200-1790379000@norwaymemoriallibrary.org
SUMMARY:Music & Movement
DESCRIPTION:Every Friday at 10:30 am \nJoin us as we play and sing in a casual and fun atmosphere.
URL:https://norwaymemoriallibrary.org/event/music-movement/2026-09-25/
LOCATION:Norway Memorial Library
CATEGORIES:Music & Movement
ATTACH;FMTTYPE=image/jpeg:https://norwaymemoriallibrary.org/wp-content/uploads/2022/02/50644737_s-e1645481023470.jpg
END:VEVENT
BEGIN:VEVENT
DTSTART;TZID=America/New_York:20261002T103000
DTEND;TZID=America/New_York:20261002T233000
DTSTAMP:20260419T190347
CREATED:20220221T214634Z
LAST-MODIFIED:20250908T155012Z
UID:10002068-1790937000-1790983800@norwaymemoriallibrary.org
SUMMARY:Music & Movement
DESCRIPTION:Every Friday at 10:30 am \nJoin us as we play and sing in a casual and fun atmosphere.
URL:https://norwaymemoriallibrary.org/event/music-movement/2026-10-02/
LOCATION:Norway Memorial Library
CATEGORIES:Music & Movement
ATTACH;FMTTYPE=image/jpeg:https://norwaymemoriallibrary.org/wp-content/uploads/2022/02/50644737_s-e1645481023470.jpg
END:VEVENT
BEGIN:VEVENT
DTSTART;TZID=America/New_York:20261009T103000
DTEND;TZID=America/New_York:20261009T233000
DTSTAMP:20260419T190347
CREATED:20220221T214634Z
LAST-MODIFIED:20250908T155012Z
UID:10002069-1791541800-1791588600@norwaymemoriallibrary.org
SUMMARY:Music & Movement
DESCRIPTION:Every Friday at 10:30 am \nJoin us as we play and sing in a casual and fun atmosphere.
URL:https://norwaymemoriallibrary.org/event/music-movement/2026-10-09/
LOCATION:Norway Memorial Library
CATEGORIES:Music & Movement
ATTACH;FMTTYPE=image/jpeg:https://norwaymemoriallibrary.org/wp-content/uploads/2022/02/50644737_s-e1645481023470.jpg
END:VEVENT
BEGIN:VEVENT
DTSTART;TZID=America/New_York:20261016T103000
DTEND;TZID=America/New_York:20261016T233000
DTSTAMP:20260419T190347
CREATED:20220221T214634Z
LAST-MODIFIED:20250908T155012Z
UID:10002070-1792146600-1792193400@norwaymemoriallibrary.org
SUMMARY:Music & Movement
DESCRIPTION:Every Friday at 10:30 am \nJoin us as we play and sing in a casual and fun atmosphere.
URL:https://norwaymemoriallibrary.org/event/music-movement/2026-10-16/
LOCATION:Norway Memorial Library
CATEGORIES:Music & Movement
ATTACH;FMTTYPE=image/jpeg:https://norwaymemoriallibrary.org/wp-content/uploads/2022/02/50644737_s-e1645481023470.jpg
END:VEVENT
BEGIN:VEVENT
DTSTART;TZID=America/New_York:20261023T103000
DTEND;TZID=America/New_York:20261023T233000
DTSTAMP:20260419T190347
CREATED:20220221T214634Z
LAST-MODIFIED:20250908T155012Z
UID:10002071-1792751400-1792798200@norwaymemoriallibrary.org
SUMMARY:Music & Movement
DESCRIPTION:Every Friday at 10:30 am \nJoin us as we play and sing in a casual and fun atmosphere.
URL:https://norwaymemoriallibrary.org/event/music-movement/2026-10-23/
LOCATION:Norway Memorial Library
CATEGORIES:Music & Movement
ATTACH;FMTTYPE=image/jpeg:https://norwaymemoriallibrary.org/wp-content/uploads/2022/02/50644737_s-e1645481023470.jpg
END:VEVENT
BEGIN:VEVENT
DTSTART;TZID=America/New_York:20261030T103000
DTEND;TZID=America/New_York:20261030T233000
DTSTAMP:20260419T190347
CREATED:20220221T214634Z
LAST-MODIFIED:20250908T155012Z
UID:10002072-1793356200-1793403000@norwaymemoriallibrary.org
SUMMARY:Music & Movement
DESCRIPTION:Every Friday at 10:30 am \nJoin us as we play and sing in a casual and fun atmosphere.
URL:https://norwaymemoriallibrary.org/event/music-movement/2026-10-30/
LOCATION:Norway Memorial Library
CATEGORIES:Music & Movement
ATTACH;FMTTYPE=image/jpeg:https://norwaymemoriallibrary.org/wp-content/uploads/2022/02/50644737_s-e1645481023470.jpg
END:VEVENT
END:VCALENDAR