BEGIN:VCALENDAR
VERSION:2.0
PRODID:-//Norway Memorial Library - ECPv6.15.20//NONSGML v1.0//EN
CALSCALE:GREGORIAN
METHOD:PUBLISH
X-WR-CALNAME:Norway Memorial Library
X-ORIGINAL-URL:https://norwaymemoriallibrary.org
X-WR-CALDESC:Events for Norway Memorial Library
REFRESH-INTERVAL;VALUE=DURATION:PT1H
X-Robots-Tag:noindex
X-PUBLISHED-TTL:PT1H
BEGIN:VTIMEZONE
TZID:America/New_York
BEGIN:DAYLIGHT
TZOFFSETFROM:-0500
TZOFFSETTO:-0400
TZNAME:EDT
DTSTART:20260308T070000
END:DAYLIGHT
BEGIN:STANDARD
TZOFFSETFROM:-0400
TZOFFSETTO:-0500
TZNAME:EST
DTSTART:20261101T060000
END:STANDARD
BEGIN:DAYLIGHT
TZOFFSETFROM:-0500
TZOFFSETTO:-0400
TZNAME:EDT
DTSTART:20270314T070000
END:DAYLIGHT
BEGIN:STANDARD
TZOFFSETFROM:-0400
TZOFFSETTO:-0500
TZNAME:EST
DTSTART:20271107T060000
END:STANDARD
BEGIN:DAYLIGHT
TZOFFSETFROM:-0500
TZOFFSETTO:-0400
TZNAME:EDT
DTSTART:20280312T070000
END:DAYLIGHT
BEGIN:STANDARD
TZOFFSETFROM:-0400
TZOFFSETTO:-0500
TZNAME:EST
DTSTART:20281105T060000
END:STANDARD
BEGIN:DAYLIGHT
TZOFFSETFROM:-0500
TZOFFSETTO:-0400
TZNAME:EDT
DTSTART:20290311T070000
END:DAYLIGHT
BEGIN:STANDARD
TZOFFSETFROM:-0400
TZOFFSETTO:-0500
TZNAME:EST
DTSTART:20291104T060000
END:STANDARD
END:VTIMEZONE
BEGIN:VEVENT
DTSTART;TZID=America/New_York:20270618T103000
DTEND;TZID=America/New_York:20270618T233000
DTSTAMP:20260420T211913
CREATED:20220221T214634Z
LAST-MODIFIED:20250908T155012Z
UID:10002105-1813314600-1813361400@norwaymemoriallibrary.org
SUMMARY:Music & Movement
DESCRIPTION:Every Friday at 10:30 am \nJoin us as we play and sing in a casual and fun atmosphere.
URL:https://norwaymemoriallibrary.org/event/music-movement/2027-06-18/
LOCATION:Norway Memorial Library
CATEGORIES:Music & Movement
ATTACH;FMTTYPE=image/jpeg:https://norwaymemoriallibrary.org/wp-content/uploads/2022/02/50644737_s-e1645481023470.jpg
END:VEVENT
BEGIN:VEVENT
DTSTART;TZID=America/New_York:20270625T103000
DTEND;TZID=America/New_York:20270625T233000
DTSTAMP:20260420T211913
CREATED:20220221T214634Z
LAST-MODIFIED:20250908T155012Z
UID:10002106-1813919400-1813966200@norwaymemoriallibrary.org
SUMMARY:Music & Movement
DESCRIPTION:Every Friday at 10:30 am \nJoin us as we play and sing in a casual and fun atmosphere.
URL:https://norwaymemoriallibrary.org/event/music-movement/2027-06-25/
LOCATION:Norway Memorial Library
CATEGORIES:Music & Movement
ATTACH;FMTTYPE=image/jpeg:https://norwaymemoriallibrary.org/wp-content/uploads/2022/02/50644737_s-e1645481023470.jpg
END:VEVENT
BEGIN:VEVENT
DTSTART;TZID=America/New_York:20270702T103000
DTEND;TZID=America/New_York:20270702T233000
DTSTAMP:20260420T211913
CREATED:20220221T214634Z
LAST-MODIFIED:20250908T155012Z
UID:10002107-1814524200-1814571000@norwaymemoriallibrary.org
SUMMARY:Music & Movement
DESCRIPTION:Every Friday at 10:30 am \nJoin us as we play and sing in a casual and fun atmosphere.
URL:https://norwaymemoriallibrary.org/event/music-movement/2027-07-02/
LOCATION:Norway Memorial Library
CATEGORIES:Music & Movement
ATTACH;FMTTYPE=image/jpeg:https://norwaymemoriallibrary.org/wp-content/uploads/2022/02/50644737_s-e1645481023470.jpg
END:VEVENT
BEGIN:VEVENT
DTSTART;TZID=America/New_York:20270709T103000
DTEND;TZID=America/New_York:20270709T233000
DTSTAMP:20260420T211913
CREATED:20220221T214634Z
LAST-MODIFIED:20250908T155012Z
UID:10002108-1815129000-1815175800@norwaymemoriallibrary.org
SUMMARY:Music & Movement
DESCRIPTION:Every Friday at 10:30 am \nJoin us as we play and sing in a casual and fun atmosphere.
URL:https://norwaymemoriallibrary.org/event/music-movement/2027-07-09/
LOCATION:Norway Memorial Library
CATEGORIES:Music & Movement
ATTACH;FMTTYPE=image/jpeg:https://norwaymemoriallibrary.org/wp-content/uploads/2022/02/50644737_s-e1645481023470.jpg
END:VEVENT
BEGIN:VEVENT
DTSTART;TZID=America/New_York:20270716T103000
DTEND;TZID=America/New_York:20270716T233000
DTSTAMP:20260420T211913
CREATED:20220221T214634Z
LAST-MODIFIED:20250908T155012Z
UID:10002109-1815733800-1815780600@norwaymemoriallibrary.org
SUMMARY:Music & Movement
DESCRIPTION:Every Friday at 10:30 am \nJoin us as we play and sing in a casual and fun atmosphere.
URL:https://norwaymemoriallibrary.org/event/music-movement/2027-07-16/
LOCATION:Norway Memorial Library
CATEGORIES:Music & Movement
ATTACH;FMTTYPE=image/jpeg:https://norwaymemoriallibrary.org/wp-content/uploads/2022/02/50644737_s-e1645481023470.jpg
END:VEVENT
BEGIN:VEVENT
DTSTART;TZID=America/New_York:20270723T103000
DTEND;TZID=America/New_York:20270723T233000
DTSTAMP:20260420T211913
CREATED:20220221T214634Z
LAST-MODIFIED:20250908T155012Z
UID:10002110-1816338600-1816385400@norwaymemoriallibrary.org
SUMMARY:Music & Movement
DESCRIPTION:Every Friday at 10:30 am \nJoin us as we play and sing in a casual and fun atmosphere.
URL:https://norwaymemoriallibrary.org/event/music-movement/2027-07-23/
LOCATION:Norway Memorial Library
CATEGORIES:Music & Movement
ATTACH;FMTTYPE=image/jpeg:https://norwaymemoriallibrary.org/wp-content/uploads/2022/02/50644737_s-e1645481023470.jpg
END:VEVENT
BEGIN:VEVENT
DTSTART;TZID=America/New_York:20270730T103000
DTEND;TZID=America/New_York:20270730T233000
DTSTAMP:20260420T211914
CREATED:20220221T214634Z
LAST-MODIFIED:20250908T155012Z
UID:10002111-1816943400-1816990200@norwaymemoriallibrary.org
SUMMARY:Music & Movement
DESCRIPTION:Every Friday at 10:30 am \nJoin us as we play and sing in a casual and fun atmosphere.
URL:https://norwaymemoriallibrary.org/event/music-movement/2027-07-30/
LOCATION:Norway Memorial Library
CATEGORIES:Music & Movement
ATTACH;FMTTYPE=image/jpeg:https://norwaymemoriallibrary.org/wp-content/uploads/2022/02/50644737_s-e1645481023470.jpg
END:VEVENT
BEGIN:VEVENT
DTSTART;TZID=America/New_York:20270806T103000
DTEND;TZID=America/New_York:20270806T233000
DTSTAMP:20260420T211914
CREATED:20220221T214634Z
LAST-MODIFIED:20250908T155012Z
UID:10002112-1817548200-1817595000@norwaymemoriallibrary.org
SUMMARY:Music & Movement
DESCRIPTION:Every Friday at 10:30 am \nJoin us as we play and sing in a casual and fun atmosphere.
URL:https://norwaymemoriallibrary.org/event/music-movement/2027-08-06/
LOCATION:Norway Memorial Library
CATEGORIES:Music & Movement
ATTACH;FMTTYPE=image/jpeg:https://norwaymemoriallibrary.org/wp-content/uploads/2022/02/50644737_s-e1645481023470.jpg
END:VEVENT
BEGIN:VEVENT
DTSTART;TZID=America/New_York:20270813T103000
DTEND;TZID=America/New_York:20270813T233000
DTSTAMP:20260420T211914
CREATED:20220221T214634Z
LAST-MODIFIED:20250908T155012Z
UID:10002113-1818153000-1818199800@norwaymemoriallibrary.org
SUMMARY:Music & Movement
DESCRIPTION:Every Friday at 10:30 am \nJoin us as we play and sing in a casual and fun atmosphere.
URL:https://norwaymemoriallibrary.org/event/music-movement/2027-08-13/
LOCATION:Norway Memorial Library
CATEGORIES:Music & Movement
ATTACH;FMTTYPE=image/jpeg:https://norwaymemoriallibrary.org/wp-content/uploads/2022/02/50644737_s-e1645481023470.jpg
END:VEVENT
BEGIN:VEVENT
DTSTART;TZID=America/New_York:20270820T103000
DTEND;TZID=America/New_York:20270820T233000
DTSTAMP:20260420T211914
CREATED:20220221T214634Z
LAST-MODIFIED:20250908T155012Z
UID:10002114-1818757800-1818804600@norwaymemoriallibrary.org
SUMMARY:Music & Movement
DESCRIPTION:Every Friday at 10:30 am \nJoin us as we play and sing in a casual and fun atmosphere.
URL:https://norwaymemoriallibrary.org/event/music-movement/2027-08-20/
LOCATION:Norway Memorial Library
CATEGORIES:Music & Movement
ATTACH;FMTTYPE=image/jpeg:https://norwaymemoriallibrary.org/wp-content/uploads/2022/02/50644737_s-e1645481023470.jpg
END:VEVENT
BEGIN:VEVENT
DTSTART;TZID=America/New_York:20270827T103000
DTEND;TZID=America/New_York:20270827T233000
DTSTAMP:20260420T211914
CREATED:20220221T214634Z
LAST-MODIFIED:20250908T155012Z
UID:10002115-1819362600-1819409400@norwaymemoriallibrary.org
SUMMARY:Music & Movement
DESCRIPTION:Every Friday at 10:30 am \nJoin us as we play and sing in a casual and fun atmosphere.
URL:https://norwaymemoriallibrary.org/event/music-movement/2027-08-27/
LOCATION:Norway Memorial Library
CATEGORIES:Music & Movement
ATTACH;FMTTYPE=image/jpeg:https://norwaymemoriallibrary.org/wp-content/uploads/2022/02/50644737_s-e1645481023470.jpg
END:VEVENT
BEGIN:VEVENT
DTSTART;TZID=America/New_York:20270903T103000
DTEND;TZID=America/New_York:20270903T233000
DTSTAMP:20260420T211914
CREATED:20220221T214634Z
LAST-MODIFIED:20250908T155012Z
UID:10002116-1819967400-1820014200@norwaymemoriallibrary.org
SUMMARY:Music & Movement
DESCRIPTION:Every Friday at 10:30 am \nJoin us as we play and sing in a casual and fun atmosphere.
URL:https://norwaymemoriallibrary.org/event/music-movement/2027-09-03/
LOCATION:Norway Memorial Library
CATEGORIES:Music & Movement
ATTACH;FMTTYPE=image/jpeg:https://norwaymemoriallibrary.org/wp-content/uploads/2022/02/50644737_s-e1645481023470.jpg
END:VEVENT
BEGIN:VEVENT
DTSTART;TZID=America/New_York:20270910T103000
DTEND;TZID=America/New_York:20270910T233000
DTSTAMP:20260420T211914
CREATED:20220221T214634Z
LAST-MODIFIED:20250908T155012Z
UID:10002117-1820572200-1820619000@norwaymemoriallibrary.org
SUMMARY:Music & Movement
DESCRIPTION:Every Friday at 10:30 am \nJoin us as we play and sing in a casual and fun atmosphere.
URL:https://norwaymemoriallibrary.org/event/music-movement/2027-09-10/
LOCATION:Norway Memorial Library
CATEGORIES:Music & Movement
ATTACH;FMTTYPE=image/jpeg:https://norwaymemoriallibrary.org/wp-content/uploads/2022/02/50644737_s-e1645481023470.jpg
END:VEVENT
BEGIN:VEVENT
DTSTART;TZID=America/New_York:20270917T103000
DTEND;TZID=America/New_York:20270917T233000
DTSTAMP:20260420T211914
CREATED:20220221T214634Z
LAST-MODIFIED:20250908T155012Z
UID:10002118-1821177000-1821223800@norwaymemoriallibrary.org
SUMMARY:Music & Movement
DESCRIPTION:Every Friday at 10:30 am \nJoin us as we play and sing in a casual and fun atmosphere.
URL:https://norwaymemoriallibrary.org/event/music-movement/2027-09-17/
LOCATION:Norway Memorial Library
CATEGORIES:Music & Movement
ATTACH;FMTTYPE=image/jpeg:https://norwaymemoriallibrary.org/wp-content/uploads/2022/02/50644737_s-e1645481023470.jpg
END:VEVENT
BEGIN:VEVENT
DTSTART;TZID=America/New_York:20270924T103000
DTEND;TZID=America/New_York:20270924T233000
DTSTAMP:20260420T211914
CREATED:20220221T214634Z
LAST-MODIFIED:20250908T155012Z
UID:10002119-1821781800-1821828600@norwaymemoriallibrary.org
SUMMARY:Music & Movement
DESCRIPTION:Every Friday at 10:30 am \nJoin us as we play and sing in a casual and fun atmosphere.
URL:https://norwaymemoriallibrary.org/event/music-movement/2027-09-24/
LOCATION:Norway Memorial Library
CATEGORIES:Music & Movement
ATTACH;FMTTYPE=image/jpeg:https://norwaymemoriallibrary.org/wp-content/uploads/2022/02/50644737_s-e1645481023470.jpg
END:VEVENT
BEGIN:VEVENT
DTSTART;TZID=America/New_York:20271001T103000
DTEND;TZID=America/New_York:20271001T233000
DTSTAMP:20260420T211914
CREATED:20220221T214634Z
LAST-MODIFIED:20250908T155012Z
UID:10002120-1822386600-1822433400@norwaymemoriallibrary.org
SUMMARY:Music & Movement
DESCRIPTION:Every Friday at 10:30 am \nJoin us as we play and sing in a casual and fun atmosphere.
URL:https://norwaymemoriallibrary.org/event/music-movement/2027-10-01/
LOCATION:Norway Memorial Library
CATEGORIES:Music & Movement
ATTACH;FMTTYPE=image/jpeg:https://norwaymemoriallibrary.org/wp-content/uploads/2022/02/50644737_s-e1645481023470.jpg
END:VEVENT
BEGIN:VEVENT
DTSTART;TZID=America/New_York:20271008T103000
DTEND;TZID=America/New_York:20271008T233000
DTSTAMP:20260420T211914
CREATED:20220221T214634Z
LAST-MODIFIED:20250908T155012Z
UID:10002121-1822991400-1823038200@norwaymemoriallibrary.org
SUMMARY:Music & Movement
DESCRIPTION:Every Friday at 10:30 am \nJoin us as we play and sing in a casual and fun atmosphere.
URL:https://norwaymemoriallibrary.org/event/music-movement/2027-10-08/
LOCATION:Norway Memorial Library
CATEGORIES:Music & Movement
ATTACH;FMTTYPE=image/jpeg:https://norwaymemoriallibrary.org/wp-content/uploads/2022/02/50644737_s-e1645481023470.jpg
END:VEVENT
BEGIN:VEVENT
DTSTART;TZID=America/New_York:20271015T103000
DTEND;TZID=America/New_York:20271015T233000
DTSTAMP:20260420T211914
CREATED:20220221T214634Z
LAST-MODIFIED:20250908T155012Z
UID:10002122-1823596200-1823643000@norwaymemoriallibrary.org
SUMMARY:Music & Movement
DESCRIPTION:Every Friday at 10:30 am \nJoin us as we play and sing in a casual and fun atmosphere.
URL:https://norwaymemoriallibrary.org/event/music-movement/2027-10-15/
LOCATION:Norway Memorial Library
CATEGORIES:Music & Movement
ATTACH;FMTTYPE=image/jpeg:https://norwaymemoriallibrary.org/wp-content/uploads/2022/02/50644737_s-e1645481023470.jpg
END:VEVENT
BEGIN:VEVENT
DTSTART;TZID=America/New_York:20271022T103000
DTEND;TZID=America/New_York:20271022T233000
DTSTAMP:20260420T211914
CREATED:20220221T214634Z
LAST-MODIFIED:20250908T155012Z
UID:10002123-1824201000-1824247800@norwaymemoriallibrary.org
SUMMARY:Music & Movement
DESCRIPTION:Every Friday at 10:30 am \nJoin us as we play and sing in a casual and fun atmosphere.
URL:https://norwaymemoriallibrary.org/event/music-movement/2027-10-22/
LOCATION:Norway Memorial Library
CATEGORIES:Music & Movement
ATTACH;FMTTYPE=image/jpeg:https://norwaymemoriallibrary.org/wp-content/uploads/2022/02/50644737_s-e1645481023470.jpg
END:VEVENT
BEGIN:VEVENT
DTSTART;TZID=America/New_York:20271029T103000
DTEND;TZID=America/New_York:20271029T233000
DTSTAMP:20260420T211914
CREATED:20220221T214634Z
LAST-MODIFIED:20250908T155012Z
UID:10002124-1824805800-1824852600@norwaymemoriallibrary.org
SUMMARY:Music & Movement
DESCRIPTION:Every Friday at 10:30 am \nJoin us as we play and sing in a casual and fun atmosphere.
URL:https://norwaymemoriallibrary.org/event/music-movement/2027-10-29/
LOCATION:Norway Memorial Library
CATEGORIES:Music & Movement
ATTACH;FMTTYPE=image/jpeg:https://norwaymemoriallibrary.org/wp-content/uploads/2022/02/50644737_s-e1645481023470.jpg
END:VEVENT
BEGIN:VEVENT
DTSTART;TZID=America/New_York:20271105T103000
DTEND;TZID=America/New_York:20271105T233000
DTSTAMP:20260420T211914
CREATED:20220221T214634Z
LAST-MODIFIED:20250908T155012Z
UID:10002125-1825410600-1825457400@norwaymemoriallibrary.org
SUMMARY:Music & Movement
DESCRIPTION:Every Friday at 10:30 am \nJoin us as we play and sing in a casual and fun atmosphere.
URL:https://norwaymemoriallibrary.org/event/music-movement/2027-11-05/
LOCATION:Norway Memorial Library
CATEGORIES:Music & Movement
ATTACH;FMTTYPE=image/jpeg:https://norwaymemoriallibrary.org/wp-content/uploads/2022/02/50644737_s-e1645481023470.jpg
END:VEVENT
BEGIN:VEVENT
DTSTART;TZID=America/New_York:20271112T103000
DTEND;TZID=America/New_York:20271112T233000
DTSTAMP:20260420T211914
CREATED:20220221T214634Z
LAST-MODIFIED:20250908T155012Z
UID:10002126-1826015400-1826062200@norwaymemoriallibrary.org
SUMMARY:Music & Movement
DESCRIPTION:Every Friday at 10:30 am \nJoin us as we play and sing in a casual and fun atmosphere.
URL:https://norwaymemoriallibrary.org/event/music-movement/2027-11-12/
LOCATION:Norway Memorial Library
CATEGORIES:Music & Movement
ATTACH;FMTTYPE=image/jpeg:https://norwaymemoriallibrary.org/wp-content/uploads/2022/02/50644737_s-e1645481023470.jpg
END:VEVENT
BEGIN:VEVENT
DTSTART;TZID=America/New_York:20271119T103000
DTEND;TZID=America/New_York:20271119T233000
DTSTAMP:20260420T211914
CREATED:20220221T214634Z
LAST-MODIFIED:20250908T155012Z
UID:10002127-1826620200-1826667000@norwaymemoriallibrary.org
SUMMARY:Music & Movement
DESCRIPTION:Every Friday at 10:30 am \nJoin us as we play and sing in a casual and fun atmosphere.
URL:https://norwaymemoriallibrary.org/event/music-movement/2027-11-19/
LOCATION:Norway Memorial Library
CATEGORIES:Music & Movement
ATTACH;FMTTYPE=image/jpeg:https://norwaymemoriallibrary.org/wp-content/uploads/2022/02/50644737_s-e1645481023470.jpg
END:VEVENT
BEGIN:VEVENT
DTSTART;TZID=America/New_York:20271126T103000
DTEND;TZID=America/New_York:20271126T233000
DTSTAMP:20260420T211914
CREATED:20220221T214634Z
LAST-MODIFIED:20250908T155012Z
UID:10002128-1827225000-1827271800@norwaymemoriallibrary.org
SUMMARY:Music & Movement
DESCRIPTION:Every Friday at 10:30 am \nJoin us as we play and sing in a casual and fun atmosphere.
URL:https://norwaymemoriallibrary.org/event/music-movement/2027-11-26/
LOCATION:Norway Memorial Library
CATEGORIES:Music & Movement
ATTACH;FMTTYPE=image/jpeg:https://norwaymemoriallibrary.org/wp-content/uploads/2022/02/50644737_s-e1645481023470.jpg
END:VEVENT
BEGIN:VEVENT
DTSTART;TZID=America/New_York:20271203T103000
DTEND;TZID=America/New_York:20271203T233000
DTSTAMP:20260420T211914
CREATED:20220221T214634Z
LAST-MODIFIED:20250908T155012Z
UID:10002129-1827829800-1827876600@norwaymemoriallibrary.org
SUMMARY:Music & Movement
DESCRIPTION:Every Friday at 10:30 am \nJoin us as we play and sing in a casual and fun atmosphere.
URL:https://norwaymemoriallibrary.org/event/music-movement/2027-12-03/
LOCATION:Norway Memorial Library
CATEGORIES:Music & Movement
ATTACH;FMTTYPE=image/jpeg:https://norwaymemoriallibrary.org/wp-content/uploads/2022/02/50644737_s-e1645481023470.jpg
END:VEVENT
BEGIN:VEVENT
DTSTART;TZID=America/New_York:20271210T103000
DTEND;TZID=America/New_York:20271210T233000
DTSTAMP:20260420T211914
CREATED:20220221T214634Z
LAST-MODIFIED:20250908T155012Z
UID:10002130-1828434600-1828481400@norwaymemoriallibrary.org
SUMMARY:Music & Movement
DESCRIPTION:Every Friday at 10:30 am \nJoin us as we play and sing in a casual and fun atmosphere.
URL:https://norwaymemoriallibrary.org/event/music-movement/2027-12-10/
LOCATION:Norway Memorial Library
CATEGORIES:Music & Movement
ATTACH;FMTTYPE=image/jpeg:https://norwaymemoriallibrary.org/wp-content/uploads/2022/02/50644737_s-e1645481023470.jpg
END:VEVENT
BEGIN:VEVENT
DTSTART;TZID=America/New_York:20271217T103000
DTEND;TZID=America/New_York:20271217T233000
DTSTAMP:20260420T211914
CREATED:20220221T214634Z
LAST-MODIFIED:20250908T155012Z
UID:10002131-1829039400-1829086200@norwaymemoriallibrary.org
SUMMARY:Music & Movement
DESCRIPTION:Every Friday at 10:30 am \nJoin us as we play and sing in a casual and fun atmosphere.
URL:https://norwaymemoriallibrary.org/event/music-movement/2027-12-17/
LOCATION:Norway Memorial Library
CATEGORIES:Music & Movement
ATTACH;FMTTYPE=image/jpeg:https://norwaymemoriallibrary.org/wp-content/uploads/2022/02/50644737_s-e1645481023470.jpg
END:VEVENT
BEGIN:VEVENT
DTSTART;TZID=America/New_York:20271224T103000
DTEND;TZID=America/New_York:20271224T233000
DTSTAMP:20260420T211914
CREATED:20220221T214634Z
LAST-MODIFIED:20250908T155012Z
UID:10002132-1829644200-1829691000@norwaymemoriallibrary.org
SUMMARY:Music & Movement
DESCRIPTION:Every Friday at 10:30 am \nJoin us as we play and sing in a casual and fun atmosphere.
URL:https://norwaymemoriallibrary.org/event/music-movement/2027-12-24/
LOCATION:Norway Memorial Library
CATEGORIES:Music & Movement
ATTACH;FMTTYPE=image/jpeg:https://norwaymemoriallibrary.org/wp-content/uploads/2022/02/50644737_s-e1645481023470.jpg
END:VEVENT
BEGIN:VEVENT
DTSTART;TZID=America/New_York:20271231T103000
DTEND;TZID=America/New_York:20271231T233000
DTSTAMP:20260420T211914
CREATED:20220221T214634Z
LAST-MODIFIED:20250908T155012Z
UID:10002133-1830249000-1830295800@norwaymemoriallibrary.org
SUMMARY:Music & Movement
DESCRIPTION:Every Friday at 10:30 am \nJoin us as we play and sing in a casual and fun atmosphere.
URL:https://norwaymemoriallibrary.org/event/music-movement/2027-12-31/
LOCATION:Norway Memorial Library
CATEGORIES:Music & Movement
ATTACH;FMTTYPE=image/jpeg:https://norwaymemoriallibrary.org/wp-content/uploads/2022/02/50644737_s-e1645481023470.jpg
END:VEVENT
BEGIN:VEVENT
DTSTART;TZID=America/New_York:20280107T103000
DTEND;TZID=America/New_York:20280107T233000
DTSTAMP:20260420T211914
CREATED:20220221T214634Z
LAST-MODIFIED:20250908T155012Z
UID:10002134-1830853800-1830900600@norwaymemoriallibrary.org
SUMMARY:Music & Movement
DESCRIPTION:Every Friday at 10:30 am \nJoin us as we play and sing in a casual and fun atmosphere.
URL:https://norwaymemoriallibrary.org/event/music-movement/2028-01-07/
LOCATION:Norway Memorial Library
CATEGORIES:Music & Movement
ATTACH;FMTTYPE=image/jpeg:https://norwaymemoriallibrary.org/wp-content/uploads/2022/02/50644737_s-e1645481023470.jpg
END:VEVENT
END:VCALENDAR