BEGIN:VCALENDAR
VERSION:2.0
PRODID:-//Norway Memorial Library - ECPv6.15.20//NONSGML v1.0//EN
CALSCALE:GREGORIAN
METHOD:PUBLISH
X-ORIGINAL-URL:https://norwaymemoriallibrary.org
X-WR-CALDESC:Events for Norway Memorial Library
REFRESH-INTERVAL;VALUE=DURATION:PT1H
X-Robots-Tag:noindex
X-PUBLISHED-TTL:PT1H
BEGIN:VTIMEZONE
TZID:America/New_York
BEGIN:DAYLIGHT
TZOFFSETFROM:-0500
TZOFFSETTO:-0400
TZNAME:EDT
DTSTART:20240310T070000
END:DAYLIGHT
BEGIN:STANDARD
TZOFFSETFROM:-0400
TZOFFSETTO:-0500
TZNAME:EST
DTSTART:20241103T060000
END:STANDARD
BEGIN:DAYLIGHT
TZOFFSETFROM:-0500
TZOFFSETTO:-0400
TZNAME:EDT
DTSTART:20250309T070000
END:DAYLIGHT
BEGIN:STANDARD
TZOFFSETFROM:-0400
TZOFFSETTO:-0500
TZNAME:EST
DTSTART:20251102T060000
END:STANDARD
BEGIN:DAYLIGHT
TZOFFSETFROM:-0500
TZOFFSETTO:-0400
TZNAME:EDT
DTSTART:20260308T070000
END:DAYLIGHT
BEGIN:STANDARD
TZOFFSETFROM:-0400
TZOFFSETTO:-0500
TZNAME:EST
DTSTART:20261101T060000
END:STANDARD
BEGIN:DAYLIGHT
TZOFFSETFROM:-0500
TZOFFSETTO:-0400
TZNAME:EDT
DTSTART:20270314T070000
END:DAYLIGHT
BEGIN:STANDARD
TZOFFSETFROM:-0400
TZOFFSETTO:-0500
TZNAME:EST
DTSTART:20271107T060000
END:STANDARD
END:VTIMEZONE
BEGIN:VEVENT
DTSTART;TZID=America/New_York:20260417T103000
DTEND;TZID=America/New_York:20260417T233000
DTSTAMP:20260419T212205
CREATED:20220221T214634Z
LAST-MODIFIED:20250908T155012Z
UID:10002044-1776421800-1776468600@norwaymemoriallibrary.org
SUMMARY:Music & Movement
DESCRIPTION:Every Friday at 10:30 am \nJoin us as we play and sing in a casual and fun atmosphere.
URL:https://norwaymemoriallibrary.org/event/music-movement/2026-04-17/
LOCATION:Norway Memorial Library
CATEGORIES:Music & Movement
ATTACH;FMTTYPE=image/jpeg:https://norwaymemoriallibrary.org/wp-content/uploads/2022/02/50644737_s-e1645481023470.jpg
END:VEVENT
BEGIN:VEVENT
DTSTART;TZID=America/New_York:20260410T103000
DTEND;TZID=America/New_York:20260410T233000
DTSTAMP:20260419T212205
CREATED:20220221T214634Z
LAST-MODIFIED:20250908T155012Z
UID:10002043-1775817000-1775863800@norwaymemoriallibrary.org
SUMMARY:Music & Movement
DESCRIPTION:Every Friday at 10:30 am \nJoin us as we play and sing in a casual and fun atmosphere.
URL:https://norwaymemoriallibrary.org/event/music-movement/2026-04-10/
LOCATION:Norway Memorial Library
CATEGORIES:Music & Movement
ATTACH;FMTTYPE=image/jpeg:https://norwaymemoriallibrary.org/wp-content/uploads/2022/02/50644737_s-e1645481023470.jpg
END:VEVENT
BEGIN:VEVENT
DTSTART;TZID=America/New_York:20260403T103000
DTEND;TZID=America/New_York:20260403T233000
DTSTAMP:20260419T212205
CREATED:20220221T214634Z
LAST-MODIFIED:20250908T155012Z
UID:10002042-1775212200-1775259000@norwaymemoriallibrary.org
SUMMARY:Music & Movement
DESCRIPTION:Every Friday at 10:30 am \nJoin us as we play and sing in a casual and fun atmosphere.
URL:https://norwaymemoriallibrary.org/event/music-movement/2026-04-03/
LOCATION:Norway Memorial Library
CATEGORIES:Music & Movement
ATTACH;FMTTYPE=image/jpeg:https://norwaymemoriallibrary.org/wp-content/uploads/2022/02/50644737_s-e1645481023470.jpg
END:VEVENT
BEGIN:VEVENT
DTSTART;TZID=America/New_York:20260327T103000
DTEND;TZID=America/New_York:20260327T233000
DTSTAMP:20260419T212205
CREATED:20220221T214634Z
LAST-MODIFIED:20250908T155012Z
UID:10002041-1774607400-1774654200@norwaymemoriallibrary.org
SUMMARY:Music & Movement
DESCRIPTION:Every Friday at 10:30 am \nJoin us as we play and sing in a casual and fun atmosphere.
URL:https://norwaymemoriallibrary.org/event/music-movement/2026-03-27/
LOCATION:Norway Memorial Library
CATEGORIES:Music & Movement
ATTACH;FMTTYPE=image/jpeg:https://norwaymemoriallibrary.org/wp-content/uploads/2022/02/50644737_s-e1645481023470.jpg
END:VEVENT
BEGIN:VEVENT
DTSTART;TZID=America/New_York:20260320T103000
DTEND;TZID=America/New_York:20260320T233000
DTSTAMP:20260419T212205
CREATED:20220221T214634Z
LAST-MODIFIED:20250908T155012Z
UID:10002040-1774002600-1774049400@norwaymemoriallibrary.org
SUMMARY:Music & Movement
DESCRIPTION:Every Friday at 10:30 am \nJoin us as we play and sing in a casual and fun atmosphere.
URL:https://norwaymemoriallibrary.org/event/music-movement/2026-03-20/
LOCATION:Norway Memorial Library
CATEGORIES:Music & Movement
ATTACH;FMTTYPE=image/jpeg:https://norwaymemoriallibrary.org/wp-content/uploads/2022/02/50644737_s-e1645481023470.jpg
END:VEVENT
BEGIN:VEVENT
DTSTART;TZID=America/New_York:20260313T103000
DTEND;TZID=America/New_York:20260313T233000
DTSTAMP:20260419T212205
CREATED:20220221T214634Z
LAST-MODIFIED:20250908T155012Z
UID:10002039-1773397800-1773444600@norwaymemoriallibrary.org
SUMMARY:Music & Movement
DESCRIPTION:Every Friday at 10:30 am \nJoin us as we play and sing in a casual and fun atmosphere.
URL:https://norwaymemoriallibrary.org/event/music-movement/2026-03-13/
LOCATION:Norway Memorial Library
CATEGORIES:Music & Movement
ATTACH;FMTTYPE=image/jpeg:https://norwaymemoriallibrary.org/wp-content/uploads/2022/02/50644737_s-e1645481023470.jpg
END:VEVENT
BEGIN:VEVENT
DTSTART;TZID=America/New_York:20260306T103000
DTEND;TZID=America/New_York:20260306T233000
DTSTAMP:20260419T212205
CREATED:20220221T214634Z
LAST-MODIFIED:20250908T155012Z
UID:10002038-1772793000-1772839800@norwaymemoriallibrary.org
SUMMARY:Music & Movement
DESCRIPTION:Every Friday at 10:30 am \nJoin us as we play and sing in a casual and fun atmosphere.
URL:https://norwaymemoriallibrary.org/event/music-movement/2026-03-06/
LOCATION:Norway Memorial Library
CATEGORIES:Music & Movement
ATTACH;FMTTYPE=image/jpeg:https://norwaymemoriallibrary.org/wp-content/uploads/2022/02/50644737_s-e1645481023470.jpg
END:VEVENT
BEGIN:VEVENT
DTSTART;TZID=America/New_York:20260227T103000
DTEND;TZID=America/New_York:20260227T233000
DTSTAMP:20260419T212205
CREATED:20220221T214634Z
LAST-MODIFIED:20250908T155012Z
UID:10002037-1772188200-1772235000@norwaymemoriallibrary.org
SUMMARY:Music & Movement
DESCRIPTION:Every Friday at 10:30 am \nJoin us as we play and sing in a casual and fun atmosphere.
URL:https://norwaymemoriallibrary.org/event/music-movement/2026-02-27/
LOCATION:Norway Memorial Library
CATEGORIES:Music & Movement
ATTACH;FMTTYPE=image/jpeg:https://norwaymemoriallibrary.org/wp-content/uploads/2022/02/50644737_s-e1645481023470.jpg
END:VEVENT
BEGIN:VEVENT
DTSTART;TZID=America/New_York:20260220T103000
DTEND;TZID=America/New_York:20260220T233000
DTSTAMP:20260419T212205
CREATED:20220221T214634Z
LAST-MODIFIED:20250908T155012Z
UID:10002036-1771583400-1771630200@norwaymemoriallibrary.org
SUMMARY:Music & Movement
DESCRIPTION:Every Friday at 10:30 am \nJoin us as we play and sing in a casual and fun atmosphere.
URL:https://norwaymemoriallibrary.org/event/music-movement/2026-02-20/
LOCATION:Norway Memorial Library
CATEGORIES:Music & Movement
ATTACH;FMTTYPE=image/jpeg:https://norwaymemoriallibrary.org/wp-content/uploads/2022/02/50644737_s-e1645481023470.jpg
END:VEVENT
BEGIN:VEVENT
DTSTART;TZID=America/New_York:20260213T103000
DTEND;TZID=America/New_York:20260213T233000
DTSTAMP:20260419T212205
CREATED:20220221T214634Z
LAST-MODIFIED:20250908T155012Z
UID:10002035-1770978600-1771025400@norwaymemoriallibrary.org
SUMMARY:Music & Movement
DESCRIPTION:Every Friday at 10:30 am \nJoin us as we play and sing in a casual and fun atmosphere.
URL:https://norwaymemoriallibrary.org/event/music-movement/2026-02-13/
LOCATION:Norway Memorial Library
CATEGORIES:Music & Movement
ATTACH;FMTTYPE=image/jpeg:https://norwaymemoriallibrary.org/wp-content/uploads/2022/02/50644737_s-e1645481023470.jpg
END:VEVENT
BEGIN:VEVENT
DTSTART;TZID=America/New_York:20260206T103000
DTEND;TZID=America/New_York:20260206T233000
DTSTAMP:20260419T212205
CREATED:20220221T214634Z
LAST-MODIFIED:20250908T155012Z
UID:10002034-1770373800-1770420600@norwaymemoriallibrary.org
SUMMARY:Music & Movement
DESCRIPTION:Every Friday at 10:30 am \nJoin us as we play and sing in a casual and fun atmosphere.
URL:https://norwaymemoriallibrary.org/event/music-movement/2026-02-06/
LOCATION:Norway Memorial Library
CATEGORIES:Music & Movement
ATTACH;FMTTYPE=image/jpeg:https://norwaymemoriallibrary.org/wp-content/uploads/2022/02/50644737_s-e1645481023470.jpg
END:VEVENT
BEGIN:VEVENT
DTSTART;TZID=America/New_York:20260130T103000
DTEND;TZID=America/New_York:20260130T233000
DTSTAMP:20260419T212205
CREATED:20220221T214634Z
LAST-MODIFIED:20250908T155012Z
UID:10002033-1769769000-1769815800@norwaymemoriallibrary.org
SUMMARY:Music & Movement
DESCRIPTION:Every Friday at 10:30 am \nJoin us as we play and sing in a casual and fun atmosphere.
URL:https://norwaymemoriallibrary.org/event/music-movement/2026-01-30/
LOCATION:Norway Memorial Library
CATEGORIES:Music & Movement
ATTACH;FMTTYPE=image/jpeg:https://norwaymemoriallibrary.org/wp-content/uploads/2022/02/50644737_s-e1645481023470.jpg
END:VEVENT
BEGIN:VEVENT
DTSTART;TZID=America/New_York:20260123T103000
DTEND;TZID=America/New_York:20260123T233000
DTSTAMP:20260419T212205
CREATED:20220221T214634Z
LAST-MODIFIED:20250908T155012Z
UID:10002032-1769164200-1769211000@norwaymemoriallibrary.org
SUMMARY:Music & Movement
DESCRIPTION:Every Friday at 10:30 am \nJoin us as we play and sing in a casual and fun atmosphere.
URL:https://norwaymemoriallibrary.org/event/music-movement/2026-01-23/
LOCATION:Norway Memorial Library
CATEGORIES:Music & Movement
ATTACH;FMTTYPE=image/jpeg:https://norwaymemoriallibrary.org/wp-content/uploads/2022/02/50644737_s-e1645481023470.jpg
END:VEVENT
BEGIN:VEVENT
DTSTART;TZID=America/New_York:20260116T103000
DTEND;TZID=America/New_York:20260116T233000
DTSTAMP:20260419T212205
CREATED:20220221T214634Z
LAST-MODIFIED:20250908T155012Z
UID:10002031-1768559400-1768606200@norwaymemoriallibrary.org
SUMMARY:Music & Movement
DESCRIPTION:Every Friday at 10:30 am \nJoin us as we play and sing in a casual and fun atmosphere.
URL:https://norwaymemoriallibrary.org/event/music-movement/2026-01-16/
LOCATION:Norway Memorial Library
CATEGORIES:Music & Movement
ATTACH;FMTTYPE=image/jpeg:https://norwaymemoriallibrary.org/wp-content/uploads/2022/02/50644737_s-e1645481023470.jpg
END:VEVENT
BEGIN:VEVENT
DTSTART;TZID=America/New_York:20260109T103000
DTEND;TZID=America/New_York:20260109T233000
DTSTAMP:20260419T212205
CREATED:20220221T214634Z
LAST-MODIFIED:20250908T155012Z
UID:10002030-1767954600-1768001400@norwaymemoriallibrary.org
SUMMARY:Music & Movement
DESCRIPTION:Every Friday at 10:30 am \nJoin us as we play and sing in a casual and fun atmosphere.
URL:https://norwaymemoriallibrary.org/event/music-movement/2026-01-09/
LOCATION:Norway Memorial Library
CATEGORIES:Music & Movement
ATTACH;FMTTYPE=image/jpeg:https://norwaymemoriallibrary.org/wp-content/uploads/2022/02/50644737_s-e1645481023470.jpg
END:VEVENT
BEGIN:VEVENT
DTSTART;TZID=America/New_York:20260102T103000
DTEND;TZID=America/New_York:20260102T233000
DTSTAMP:20260419T212205
CREATED:20220221T214634Z
LAST-MODIFIED:20250908T155012Z
UID:10002029-1767349800-1767396600@norwaymemoriallibrary.org
SUMMARY:Music & Movement
DESCRIPTION:Every Friday at 10:30 am \nJoin us as we play and sing in a casual and fun atmosphere.
URL:https://norwaymemoriallibrary.org/event/music-movement/2026-01-02/
LOCATION:Norway Memorial Library
CATEGORIES:Music & Movement
ATTACH;FMTTYPE=image/jpeg:https://norwaymemoriallibrary.org/wp-content/uploads/2022/02/50644737_s-e1645481023470.jpg
END:VEVENT
BEGIN:VEVENT
DTSTART;TZID=America/New_York:20251226T103000
DTEND;TZID=America/New_York:20251226T233000
DTSTAMP:20260419T212205
CREATED:20220221T214634Z
LAST-MODIFIED:20250908T155012Z
UID:10002028-1766745000-1766791800@norwaymemoriallibrary.org
SUMMARY:Music & Movement
DESCRIPTION:Every Friday at 10:30 am \nJoin us as we play and sing in a casual and fun atmosphere.
URL:https://norwaymemoriallibrary.org/event/music-movement/2025-12-26/
LOCATION:Norway Memorial Library
CATEGORIES:Music & Movement
ATTACH;FMTTYPE=image/jpeg:https://norwaymemoriallibrary.org/wp-content/uploads/2022/02/50644737_s-e1645481023470.jpg
END:VEVENT
BEGIN:VEVENT
DTSTART;TZID=America/New_York:20251219T103000
DTEND;TZID=America/New_York:20251219T233000
DTSTAMP:20260419T212205
CREATED:20220221T214634Z
LAST-MODIFIED:20250908T155012Z
UID:10002027-1766140200-1766187000@norwaymemoriallibrary.org
SUMMARY:Music & Movement
DESCRIPTION:Every Friday at 10:30 am \nJoin us as we play and sing in a casual and fun atmosphere.
URL:https://norwaymemoriallibrary.org/event/music-movement/2025-12-19/
LOCATION:Norway Memorial Library
CATEGORIES:Music & Movement
ATTACH;FMTTYPE=image/jpeg:https://norwaymemoriallibrary.org/wp-content/uploads/2022/02/50644737_s-e1645481023470.jpg
END:VEVENT
BEGIN:VEVENT
DTSTART;TZID=America/New_York:20251212T103000
DTEND;TZID=America/New_York:20251212T233000
DTSTAMP:20260419T212205
CREATED:20220221T214634Z
LAST-MODIFIED:20250908T155012Z
UID:10002026-1765535400-1765582200@norwaymemoriallibrary.org
SUMMARY:Music & Movement
DESCRIPTION:Every Friday at 10:30 am \nJoin us as we play and sing in a casual and fun atmosphere.
URL:https://norwaymemoriallibrary.org/event/music-movement/2025-12-12/
LOCATION:Norway Memorial Library
CATEGORIES:Music & Movement
ATTACH;FMTTYPE=image/jpeg:https://norwaymemoriallibrary.org/wp-content/uploads/2022/02/50644737_s-e1645481023470.jpg
END:VEVENT
BEGIN:VEVENT
DTSTART;TZID=America/New_York:20251205T103000
DTEND;TZID=America/New_York:20251205T233000
DTSTAMP:20260419T212206
CREATED:20220221T214634Z
LAST-MODIFIED:20250908T155012Z
UID:10002025-1764930600-1764977400@norwaymemoriallibrary.org
SUMMARY:Music & Movement
DESCRIPTION:Every Friday at 10:30 am \nJoin us as we play and sing in a casual and fun atmosphere.
URL:https://norwaymemoriallibrary.org/event/music-movement/2025-12-05/
LOCATION:Norway Memorial Library
CATEGORIES:Music & Movement
ATTACH;FMTTYPE=image/jpeg:https://norwaymemoriallibrary.org/wp-content/uploads/2022/02/50644737_s-e1645481023470.jpg
END:VEVENT
BEGIN:VEVENT
DTSTART;TZID=America/New_York:20251128T103000
DTEND;TZID=America/New_York:20251128T233000
DTSTAMP:20260419T212206
CREATED:20220221T214634Z
LAST-MODIFIED:20250908T155012Z
UID:10002024-1764325800-1764372600@norwaymemoriallibrary.org
SUMMARY:Music & Movement
DESCRIPTION:Every Friday at 10:30 am \nJoin us as we play and sing in a casual and fun atmosphere.
URL:https://norwaymemoriallibrary.org/event/music-movement/2025-11-28/
LOCATION:Norway Memorial Library
CATEGORIES:Music & Movement
ATTACH;FMTTYPE=image/jpeg:https://norwaymemoriallibrary.org/wp-content/uploads/2022/02/50644737_s-e1645481023470.jpg
END:VEVENT
BEGIN:VEVENT
DTSTART;TZID=America/New_York:20251121T103000
DTEND;TZID=America/New_York:20251121T233000
DTSTAMP:20260419T212206
CREATED:20220221T214634Z
LAST-MODIFIED:20250908T155012Z
UID:10002023-1763721000-1763767800@norwaymemoriallibrary.org
SUMMARY:Music & Movement
DESCRIPTION:Every Friday at 10:30 am \nJoin us as we play and sing in a casual and fun atmosphere.
URL:https://norwaymemoriallibrary.org/event/music-movement/2025-11-21/
LOCATION:Norway Memorial Library
CATEGORIES:Music & Movement
ATTACH;FMTTYPE=image/jpeg:https://norwaymemoriallibrary.org/wp-content/uploads/2022/02/50644737_s-e1645481023470.jpg
END:VEVENT
BEGIN:VEVENT
DTSTART;TZID=America/New_York:20251114T103000
DTEND;TZID=America/New_York:20251114T233000
DTSTAMP:20260419T212206
CREATED:20220221T214634Z
LAST-MODIFIED:20250908T155012Z
UID:10002022-1763116200-1763163000@norwaymemoriallibrary.org
SUMMARY:Music & Movement
DESCRIPTION:Every Friday at 10:30 am \nJoin us as we play and sing in a casual and fun atmosphere.
URL:https://norwaymemoriallibrary.org/event/music-movement/2025-11-14/
LOCATION:Norway Memorial Library
CATEGORIES:Music & Movement
ATTACH;FMTTYPE=image/jpeg:https://norwaymemoriallibrary.org/wp-content/uploads/2022/02/50644737_s-e1645481023470.jpg
END:VEVENT
BEGIN:VEVENT
DTSTART;TZID=America/New_York:20251107T103000
DTEND;TZID=America/New_York:20251107T233000
DTSTAMP:20260419T212206
CREATED:20220221T214634Z
LAST-MODIFIED:20250908T155012Z
UID:10002021-1762511400-1762558200@norwaymemoriallibrary.org
SUMMARY:Music & Movement
DESCRIPTION:Every Friday at 10:30 am \nJoin us as we play and sing in a casual and fun atmosphere.
URL:https://norwaymemoriallibrary.org/event/music-movement/2025-11-07/
LOCATION:Norway Memorial Library
CATEGORIES:Music & Movement
ATTACH;FMTTYPE=image/jpeg:https://norwaymemoriallibrary.org/wp-content/uploads/2022/02/50644737_s-e1645481023470.jpg
END:VEVENT
BEGIN:VEVENT
DTSTART;TZID=America/New_York:20251031T103000
DTEND;TZID=America/New_York:20251031T233000
DTSTAMP:20260419T212206
CREATED:20220221T214634Z
LAST-MODIFIED:20250908T155012Z
UID:10002020-1761906600-1761953400@norwaymemoriallibrary.org
SUMMARY:Music & Movement
DESCRIPTION:Every Friday at 10:30 am \nJoin us as we play and sing in a casual and fun atmosphere.
URL:https://norwaymemoriallibrary.org/event/music-movement/2025-10-31/
LOCATION:Norway Memorial Library
CATEGORIES:Music & Movement
ATTACH;FMTTYPE=image/jpeg:https://norwaymemoriallibrary.org/wp-content/uploads/2022/02/50644737_s-e1645481023470.jpg
END:VEVENT
BEGIN:VEVENT
DTSTART;TZID=America/New_York:20251024T103000
DTEND;TZID=America/New_York:20251024T233000
DTSTAMP:20260419T212206
CREATED:20220221T214634Z
LAST-MODIFIED:20250908T155012Z
UID:10002019-1761301800-1761348600@norwaymemoriallibrary.org
SUMMARY:Music & Movement
DESCRIPTION:Every Friday at 10:30 am \nJoin us as we play and sing in a casual and fun atmosphere.
URL:https://norwaymemoriallibrary.org/event/music-movement/2025-10-24/
LOCATION:Norway Memorial Library
CATEGORIES:Music & Movement
ATTACH;FMTTYPE=image/jpeg:https://norwaymemoriallibrary.org/wp-content/uploads/2022/02/50644737_s-e1645481023470.jpg
END:VEVENT
BEGIN:VEVENT
DTSTART;TZID=America/New_York:20251017T103000
DTEND;TZID=America/New_York:20251017T233000
DTSTAMP:20260419T212206
CREATED:20220221T214634Z
LAST-MODIFIED:20250908T155012Z
UID:10002018-1760697000-1760743800@norwaymemoriallibrary.org
SUMMARY:Music & Movement
DESCRIPTION:Every Friday at 10:30 am \nJoin us as we play and sing in a casual and fun atmosphere.
URL:https://norwaymemoriallibrary.org/event/music-movement/2025-10-17/
LOCATION:Norway Memorial Library
CATEGORIES:Music & Movement
ATTACH;FMTTYPE=image/jpeg:https://norwaymemoriallibrary.org/wp-content/uploads/2022/02/50644737_s-e1645481023470.jpg
END:VEVENT
BEGIN:VEVENT
DTSTART;TZID=America/New_York:20251010T103000
DTEND;TZID=America/New_York:20251010T233000
DTSTAMP:20260419T212206
CREATED:20220221T214634Z
LAST-MODIFIED:20250908T155012Z
UID:10002017-1760092200-1760139000@norwaymemoriallibrary.org
SUMMARY:Music & Movement
DESCRIPTION:Every Friday at 10:30 am \nJoin us as we play and sing in a casual and fun atmosphere.
URL:https://norwaymemoriallibrary.org/event/music-movement/2025-10-10/
LOCATION:Norway Memorial Library
CATEGORIES:Music & Movement
ATTACH;FMTTYPE=image/jpeg:https://norwaymemoriallibrary.org/wp-content/uploads/2022/02/50644737_s-e1645481023470.jpg
END:VEVENT
BEGIN:VEVENT
DTSTART;TZID=America/New_York:20251003T103000
DTEND;TZID=America/New_York:20251003T233000
DTSTAMP:20260419T212206
CREATED:20220221T214634Z
LAST-MODIFIED:20250908T155012Z
UID:10002016-1759487400-1759534200@norwaymemoriallibrary.org
SUMMARY:Music & Movement
DESCRIPTION:Every Friday at 10:30 am \nJoin us as we play and sing in a casual and fun atmosphere.
URL:https://norwaymemoriallibrary.org/event/music-movement/2025-10-03/
LOCATION:Norway Memorial Library
CATEGORIES:Music & Movement
ATTACH;FMTTYPE=image/jpeg:https://norwaymemoriallibrary.org/wp-content/uploads/2022/02/50644737_s-e1645481023470.jpg
END:VEVENT
BEGIN:VEVENT
DTSTART;TZID=America/New_York:20250926T103000
DTEND;TZID=America/New_York:20250926T233000
DTSTAMP:20260419T212206
CREATED:20220221T214634Z
LAST-MODIFIED:20250908T155012Z
UID:10002015-1758882600-1758929400@norwaymemoriallibrary.org
SUMMARY:Music & Movement
DESCRIPTION:Every Friday at 10:30 am \nJoin us as we play and sing in a casual and fun atmosphere.
URL:https://norwaymemoriallibrary.org/event/music-movement/2025-09-26/
LOCATION:Norway Memorial Library
CATEGORIES:Music & Movement
ATTACH;FMTTYPE=image/jpeg:https://norwaymemoriallibrary.org/wp-content/uploads/2022/02/50644737_s-e1645481023470.jpg
END:VEVENT
END:VCALENDAR