BEGIN:VCALENDAR
VERSION:2.0
PRODID:-//Norway Memorial Library - ECPv6.15.20//NONSGML v1.0//EN
CALSCALE:GREGORIAN
METHOD:PUBLISH
X-WR-CALNAME:Norway Memorial Library
X-ORIGINAL-URL:https://norwaymemoriallibrary.org
X-WR-CALDESC:Events for Norway Memorial Library
REFRESH-INTERVAL;VALUE=DURATION:PT1H
X-Robots-Tag:noindex
X-PUBLISHED-TTL:PT1H
BEGIN:VTIMEZONE
TZID:America/New_York
BEGIN:DAYLIGHT
TZOFFSETFROM:-0500
TZOFFSETTO:-0400
TZNAME:EDT
DTSTART:20280312T070000
END:DAYLIGHT
BEGIN:STANDARD
TZOFFSETFROM:-0400
TZOFFSETTO:-0500
TZNAME:EST
DTSTART:20281105T060000
END:STANDARD
BEGIN:DAYLIGHT
TZOFFSETFROM:-0500
TZOFFSETTO:-0400
TZNAME:EDT
DTSTART:20290311T070000
END:DAYLIGHT
BEGIN:STANDARD
TZOFFSETFROM:-0400
TZOFFSETTO:-0500
TZNAME:EST
DTSTART:20291104T060000
END:STANDARD
BEGIN:DAYLIGHT
TZOFFSETFROM:-0500
TZOFFSETTO:-0400
TZNAME:EDT
DTSTART:20300310T070000
END:DAYLIGHT
BEGIN:STANDARD
TZOFFSETFROM:-0400
TZOFFSETTO:-0500
TZNAME:EST
DTSTART:20301103T060000
END:STANDARD
BEGIN:DAYLIGHT
TZOFFSETFROM:-0500
TZOFFSETTO:-0400
TZNAME:EDT
DTSTART:20310309T070000
END:DAYLIGHT
BEGIN:STANDARD
TZOFFSETFROM:-0400
TZOFFSETTO:-0500
TZNAME:EST
DTSTART:20311102T060000
END:STANDARD
END:VTIMEZONE
BEGIN:VEVENT
DTSTART;TZID=America/New_York:20291003T103000
DTEND;TZID=America/New_York:20291003T233000
DTSTAMP:20260420T001741
CREATED:20220221T214303Z
LAST-MODIFIED:20250908T154906Z
UID:10017285-1885717800-1885764600@norwaymemoriallibrary.org
SUMMARY:Storytime
DESCRIPTION:Storytime\, Every Wednesday at 10:30 am \nCome explore the wonderful world of picture books with Ms. Annika. \nPlease enjoy this video link of Annika reading “Whoosh!”
URL:https://norwaymemoriallibrary.org/event/story-time/2029-10-03/
LOCATION:Norway Memorial Library
CATEGORIES:Story Time
ATTACH;FMTTYPE=image/png:https://norwaymemoriallibrary.org/wp-content/uploads/2022/02/Preschool-Storytime.png
END:VEVENT
BEGIN:VEVENT
DTSTART;TZID=America/New_York:20291010T103000
DTEND;TZID=America/New_York:20291010T233000
DTSTAMP:20260420T001741
CREATED:20220221T214303Z
LAST-MODIFIED:20250908T154906Z
UID:10017286-1886322600-1886369400@norwaymemoriallibrary.org
SUMMARY:Storytime
DESCRIPTION:Storytime\, Every Wednesday at 10:30 am \nCome explore the wonderful world of picture books with Ms. Annika. \nPlease enjoy this video link of Annika reading “Whoosh!”
URL:https://norwaymemoriallibrary.org/event/story-time/2029-10-10/
LOCATION:Norway Memorial Library
CATEGORIES:Story Time
ATTACH;FMTTYPE=image/png:https://norwaymemoriallibrary.org/wp-content/uploads/2022/02/Preschool-Storytime.png
END:VEVENT
BEGIN:VEVENT
DTSTART;TZID=America/New_York:20291017T103000
DTEND;TZID=America/New_York:20291017T233000
DTSTAMP:20260420T001741
CREATED:20220221T214303Z
LAST-MODIFIED:20250908T154906Z
UID:10017287-1886927400-1886974200@norwaymemoriallibrary.org
SUMMARY:Storytime
DESCRIPTION:Storytime\, Every Wednesday at 10:30 am \nCome explore the wonderful world of picture books with Ms. Annika. \nPlease enjoy this video link of Annika reading “Whoosh!”
URL:https://norwaymemoriallibrary.org/event/story-time/2029-10-17/
LOCATION:Norway Memorial Library
CATEGORIES:Story Time
ATTACH;FMTTYPE=image/png:https://norwaymemoriallibrary.org/wp-content/uploads/2022/02/Preschool-Storytime.png
END:VEVENT
BEGIN:VEVENT
DTSTART;TZID=America/New_York:20291024T103000
DTEND;TZID=America/New_York:20291024T233000
DTSTAMP:20260420T001741
CREATED:20220221T214303Z
LAST-MODIFIED:20250908T154906Z
UID:10017288-1887532200-1887579000@norwaymemoriallibrary.org
SUMMARY:Storytime
DESCRIPTION:Storytime\, Every Wednesday at 10:30 am \nCome explore the wonderful world of picture books with Ms. Annika. \nPlease enjoy this video link of Annika reading “Whoosh!”
URL:https://norwaymemoriallibrary.org/event/story-time/2029-10-24/
LOCATION:Norway Memorial Library
CATEGORIES:Story Time
ATTACH;FMTTYPE=image/png:https://norwaymemoriallibrary.org/wp-content/uploads/2022/02/Preschool-Storytime.png
END:VEVENT
BEGIN:VEVENT
DTSTART;TZID=America/New_York:20291031T103000
DTEND;TZID=America/New_York:20291031T233000
DTSTAMP:20260420T001741
CREATED:20220221T214303Z
LAST-MODIFIED:20250908T154906Z
UID:10017289-1888137000-1888183800@norwaymemoriallibrary.org
SUMMARY:Storytime
DESCRIPTION:Storytime\, Every Wednesday at 10:30 am \nCome explore the wonderful world of picture books with Ms. Annika. \nPlease enjoy this video link of Annika reading “Whoosh!”
URL:https://norwaymemoriallibrary.org/event/story-time/2029-10-31/
LOCATION:Norway Memorial Library
CATEGORIES:Story Time
ATTACH;FMTTYPE=image/png:https://norwaymemoriallibrary.org/wp-content/uploads/2022/02/Preschool-Storytime.png
END:VEVENT
BEGIN:VEVENT
DTSTART;TZID=America/New_York:20291107T103000
DTEND;TZID=America/New_York:20291107T233000
DTSTAMP:20260420T001741
CREATED:20220221T214303Z
LAST-MODIFIED:20250908T154906Z
UID:10017290-1888741800-1888788600@norwaymemoriallibrary.org
SUMMARY:Storytime
DESCRIPTION:Storytime\, Every Wednesday at 10:30 am \nCome explore the wonderful world of picture books with Ms. Annika. \nPlease enjoy this video link of Annika reading “Whoosh!”
URL:https://norwaymemoriallibrary.org/event/story-time/2029-11-07/
LOCATION:Norway Memorial Library
CATEGORIES:Story Time
ATTACH;FMTTYPE=image/png:https://norwaymemoriallibrary.org/wp-content/uploads/2022/02/Preschool-Storytime.png
END:VEVENT
BEGIN:VEVENT
DTSTART;TZID=America/New_York:20291114T103000
DTEND;TZID=America/New_York:20291114T233000
DTSTAMP:20260420T001741
CREATED:20220221T214303Z
LAST-MODIFIED:20250908T154906Z
UID:10017291-1889346600-1889393400@norwaymemoriallibrary.org
SUMMARY:Storytime
DESCRIPTION:Storytime\, Every Wednesday at 10:30 am \nCome explore the wonderful world of picture books with Ms. Annika. \nPlease enjoy this video link of Annika reading “Whoosh!”
URL:https://norwaymemoriallibrary.org/event/story-time/2029-11-14/
LOCATION:Norway Memorial Library
CATEGORIES:Story Time
ATTACH;FMTTYPE=image/png:https://norwaymemoriallibrary.org/wp-content/uploads/2022/02/Preschool-Storytime.png
END:VEVENT
BEGIN:VEVENT
DTSTART;TZID=America/New_York:20291121T103000
DTEND;TZID=America/New_York:20291121T233000
DTSTAMP:20260420T001741
CREATED:20220221T214303Z
LAST-MODIFIED:20250908T154906Z
UID:10017292-1889951400-1889998200@norwaymemoriallibrary.org
SUMMARY:Storytime
DESCRIPTION:Storytime\, Every Wednesday at 10:30 am \nCome explore the wonderful world of picture books with Ms. Annika. \nPlease enjoy this video link of Annika reading “Whoosh!”
URL:https://norwaymemoriallibrary.org/event/story-time/2029-11-21/
LOCATION:Norway Memorial Library
CATEGORIES:Story Time
ATTACH;FMTTYPE=image/png:https://norwaymemoriallibrary.org/wp-content/uploads/2022/02/Preschool-Storytime.png
END:VEVENT
BEGIN:VEVENT
DTSTART;TZID=America/New_York:20291128T103000
DTEND;TZID=America/New_York:20291128T233000
DTSTAMP:20260420T001741
CREATED:20220221T214303Z
LAST-MODIFIED:20250908T154906Z
UID:10017293-1890556200-1890603000@norwaymemoriallibrary.org
SUMMARY:Storytime
DESCRIPTION:Storytime\, Every Wednesday at 10:30 am \nCome explore the wonderful world of picture books with Ms. Annika. \nPlease enjoy this video link of Annika reading “Whoosh!”
URL:https://norwaymemoriallibrary.org/event/story-time/2029-11-28/
LOCATION:Norway Memorial Library
CATEGORIES:Story Time
ATTACH;FMTTYPE=image/png:https://norwaymemoriallibrary.org/wp-content/uploads/2022/02/Preschool-Storytime.png
END:VEVENT
BEGIN:VEVENT
DTSTART;TZID=America/New_York:20291205T103000
DTEND;TZID=America/New_York:20291205T233000
DTSTAMP:20260420T001741
CREATED:20220221T214303Z
LAST-MODIFIED:20250908T154906Z
UID:10017294-1891161000-1891207800@norwaymemoriallibrary.org
SUMMARY:Storytime
DESCRIPTION:Storytime\, Every Wednesday at 10:30 am \nCome explore the wonderful world of picture books with Ms. Annika. \nPlease enjoy this video link of Annika reading “Whoosh!”
URL:https://norwaymemoriallibrary.org/event/story-time/2029-12-05/
LOCATION:Norway Memorial Library
CATEGORIES:Story Time
ATTACH;FMTTYPE=image/png:https://norwaymemoriallibrary.org/wp-content/uploads/2022/02/Preschool-Storytime.png
END:VEVENT
BEGIN:VEVENT
DTSTART;TZID=America/New_York:20291212T103000
DTEND;TZID=America/New_York:20291212T233000
DTSTAMP:20260420T001741
CREATED:20220221T214303Z
LAST-MODIFIED:20250908T154906Z
UID:10017295-1891765800-1891812600@norwaymemoriallibrary.org
SUMMARY:Storytime
DESCRIPTION:Storytime\, Every Wednesday at 10:30 am \nCome explore the wonderful world of picture books with Ms. Annika. \nPlease enjoy this video link of Annika reading “Whoosh!”
URL:https://norwaymemoriallibrary.org/event/story-time/2029-12-12/
LOCATION:Norway Memorial Library
CATEGORIES:Story Time
ATTACH;FMTTYPE=image/png:https://norwaymemoriallibrary.org/wp-content/uploads/2022/02/Preschool-Storytime.png
END:VEVENT
BEGIN:VEVENT
DTSTART;TZID=America/New_York:20291219T103000
DTEND;TZID=America/New_York:20291219T233000
DTSTAMP:20260420T001741
CREATED:20220221T214303Z
LAST-MODIFIED:20250908T154906Z
UID:10017296-1892370600-1892417400@norwaymemoriallibrary.org
SUMMARY:Storytime
DESCRIPTION:Storytime\, Every Wednesday at 10:30 am \nCome explore the wonderful world of picture books with Ms. Annika. \nPlease enjoy this video link of Annika reading “Whoosh!”
URL:https://norwaymemoriallibrary.org/event/story-time/2029-12-19/
LOCATION:Norway Memorial Library
CATEGORIES:Story Time
ATTACH;FMTTYPE=image/png:https://norwaymemoriallibrary.org/wp-content/uploads/2022/02/Preschool-Storytime.png
END:VEVENT
BEGIN:VEVENT
DTSTART;TZID=America/New_York:20291226T103000
DTEND;TZID=America/New_York:20291226T233000
DTSTAMP:20260420T001741
CREATED:20220221T214303Z
LAST-MODIFIED:20250908T154906Z
UID:10017297-1892975400-1893022200@norwaymemoriallibrary.org
SUMMARY:Storytime
DESCRIPTION:Storytime\, Every Wednesday at 10:30 am \nCome explore the wonderful world of picture books with Ms. Annika. \nPlease enjoy this video link of Annika reading “Whoosh!”
URL:https://norwaymemoriallibrary.org/event/story-time/2029-12-26/
LOCATION:Norway Memorial Library
CATEGORIES:Story Time
ATTACH;FMTTYPE=image/png:https://norwaymemoriallibrary.org/wp-content/uploads/2022/02/Preschool-Storytime.png
END:VEVENT
BEGIN:VEVENT
DTSTART;TZID=America/New_York:20300102T103000
DTEND;TZID=America/New_York:20300102T233000
DTSTAMP:20260420T001741
CREATED:20220221T214303Z
LAST-MODIFIED:20250908T154906Z
UID:10017298-1893580200-1893627000@norwaymemoriallibrary.org
SUMMARY:Storytime
DESCRIPTION:Storytime\, Every Wednesday at 10:30 am \nCome explore the wonderful world of picture books with Ms. Annika. \nPlease enjoy this video link of Annika reading “Whoosh!”
URL:https://norwaymemoriallibrary.org/event/story-time/2030-01-02/
LOCATION:Norway Memorial Library
CATEGORIES:Story Time
ATTACH;FMTTYPE=image/png:https://norwaymemoriallibrary.org/wp-content/uploads/2022/02/Preschool-Storytime.png
END:VEVENT
BEGIN:VEVENT
DTSTART;TZID=America/New_York:20300109T103000
DTEND;TZID=America/New_York:20300109T233000
DTSTAMP:20260420T001741
CREATED:20220221T214303Z
LAST-MODIFIED:20250908T154906Z
UID:10017299-1894185000-1894231800@norwaymemoriallibrary.org
SUMMARY:Storytime
DESCRIPTION:Storytime\, Every Wednesday at 10:30 am \nCome explore the wonderful world of picture books with Ms. Annika. \nPlease enjoy this video link of Annika reading “Whoosh!”
URL:https://norwaymemoriallibrary.org/event/story-time/2030-01-09/
LOCATION:Norway Memorial Library
CATEGORIES:Story Time
ATTACH;FMTTYPE=image/png:https://norwaymemoriallibrary.org/wp-content/uploads/2022/02/Preschool-Storytime.png
END:VEVENT
BEGIN:VEVENT
DTSTART;TZID=America/New_York:20300116T103000
DTEND;TZID=America/New_York:20300116T233000
DTSTAMP:20260420T001741
CREATED:20220221T214303Z
LAST-MODIFIED:20250908T154906Z
UID:10017300-1894789800-1894836600@norwaymemoriallibrary.org
SUMMARY:Storytime
DESCRIPTION:Storytime\, Every Wednesday at 10:30 am \nCome explore the wonderful world of picture books with Ms. Annika. \nPlease enjoy this video link of Annika reading “Whoosh!”
URL:https://norwaymemoriallibrary.org/event/story-time/2030-01-16/
LOCATION:Norway Memorial Library
CATEGORIES:Story Time
ATTACH;FMTTYPE=image/png:https://norwaymemoriallibrary.org/wp-content/uploads/2022/02/Preschool-Storytime.png
END:VEVENT
BEGIN:VEVENT
DTSTART;TZID=America/New_York:20300123T103000
DTEND;TZID=America/New_York:20300123T233000
DTSTAMP:20260420T001741
CREATED:20220221T214303Z
LAST-MODIFIED:20250908T154906Z
UID:10017301-1895394600-1895441400@norwaymemoriallibrary.org
SUMMARY:Storytime
DESCRIPTION:Storytime\, Every Wednesday at 10:30 am \nCome explore the wonderful world of picture books with Ms. Annika. \nPlease enjoy this video link of Annika reading “Whoosh!”
URL:https://norwaymemoriallibrary.org/event/story-time/2030-01-23/
LOCATION:Norway Memorial Library
CATEGORIES:Story Time
ATTACH;FMTTYPE=image/png:https://norwaymemoriallibrary.org/wp-content/uploads/2022/02/Preschool-Storytime.png
END:VEVENT
BEGIN:VEVENT
DTSTART;TZID=America/New_York:20300130T103000
DTEND;TZID=America/New_York:20300130T233000
DTSTAMP:20260420T001741
CREATED:20220221T214303Z
LAST-MODIFIED:20250908T154906Z
UID:10017302-1895999400-1896046200@norwaymemoriallibrary.org
SUMMARY:Storytime
DESCRIPTION:Storytime\, Every Wednesday at 10:30 am \nCome explore the wonderful world of picture books with Ms. Annika. \nPlease enjoy this video link of Annika reading “Whoosh!”
URL:https://norwaymemoriallibrary.org/event/story-time/2030-01-30/
LOCATION:Norway Memorial Library
CATEGORIES:Story Time
ATTACH;FMTTYPE=image/png:https://norwaymemoriallibrary.org/wp-content/uploads/2022/02/Preschool-Storytime.png
END:VEVENT
BEGIN:VEVENT
DTSTART;TZID=America/New_York:20300206T103000
DTEND;TZID=America/New_York:20300206T233000
DTSTAMP:20260420T001742
CREATED:20220221T214303Z
LAST-MODIFIED:20250908T154906Z
UID:10017303-1896604200-1896651000@norwaymemoriallibrary.org
SUMMARY:Storytime
DESCRIPTION:Storytime\, Every Wednesday at 10:30 am \nCome explore the wonderful world of picture books with Ms. Annika. \nPlease enjoy this video link of Annika reading “Whoosh!”
URL:https://norwaymemoriallibrary.org/event/story-time/2030-02-06/
LOCATION:Norway Memorial Library
CATEGORIES:Story Time
ATTACH;FMTTYPE=image/png:https://norwaymemoriallibrary.org/wp-content/uploads/2022/02/Preschool-Storytime.png
END:VEVENT
BEGIN:VEVENT
DTSTART;TZID=America/New_York:20300213T103000
DTEND;TZID=America/New_York:20300213T233000
DTSTAMP:20260420T001742
CREATED:20220221T214303Z
LAST-MODIFIED:20250908T154906Z
UID:10017304-1897209000-1897255800@norwaymemoriallibrary.org
SUMMARY:Storytime
DESCRIPTION:Storytime\, Every Wednesday at 10:30 am \nCome explore the wonderful world of picture books with Ms. Annika. \nPlease enjoy this video link of Annika reading “Whoosh!”
URL:https://norwaymemoriallibrary.org/event/story-time/2030-02-13/
LOCATION:Norway Memorial Library
CATEGORIES:Story Time
ATTACH;FMTTYPE=image/png:https://norwaymemoriallibrary.org/wp-content/uploads/2022/02/Preschool-Storytime.png
END:VEVENT
BEGIN:VEVENT
DTSTART;TZID=America/New_York:20300220T103000
DTEND;TZID=America/New_York:20300220T233000
DTSTAMP:20260420T001742
CREATED:20220221T214303Z
LAST-MODIFIED:20250908T154906Z
UID:10017305-1897813800-1897860600@norwaymemoriallibrary.org
SUMMARY:Storytime
DESCRIPTION:Storytime\, Every Wednesday at 10:30 am \nCome explore the wonderful world of picture books with Ms. Annika. \nPlease enjoy this video link of Annika reading “Whoosh!”
URL:https://norwaymemoriallibrary.org/event/story-time/2030-02-20/
LOCATION:Norway Memorial Library
CATEGORIES:Story Time
ATTACH;FMTTYPE=image/png:https://norwaymemoriallibrary.org/wp-content/uploads/2022/02/Preschool-Storytime.png
END:VEVENT
BEGIN:VEVENT
DTSTART;TZID=America/New_York:20300227T103000
DTEND;TZID=America/New_York:20300227T233000
DTSTAMP:20260420T001742
CREATED:20220221T214303Z
LAST-MODIFIED:20250908T154906Z
UID:10017306-1898418600-1898465400@norwaymemoriallibrary.org
SUMMARY:Storytime
DESCRIPTION:Storytime\, Every Wednesday at 10:30 am \nCome explore the wonderful world of picture books with Ms. Annika. \nPlease enjoy this video link of Annika reading “Whoosh!”
URL:https://norwaymemoriallibrary.org/event/story-time/2030-02-27/
LOCATION:Norway Memorial Library
CATEGORIES:Story Time
ATTACH;FMTTYPE=image/png:https://norwaymemoriallibrary.org/wp-content/uploads/2022/02/Preschool-Storytime.png
END:VEVENT
BEGIN:VEVENT
DTSTART;TZID=America/New_York:20300306T103000
DTEND;TZID=America/New_York:20300306T233000
DTSTAMP:20260420T001742
CREATED:20220221T214303Z
LAST-MODIFIED:20250908T154906Z
UID:10017307-1899023400-1899070200@norwaymemoriallibrary.org
SUMMARY:Storytime
DESCRIPTION:Storytime\, Every Wednesday at 10:30 am \nCome explore the wonderful world of picture books with Ms. Annika. \nPlease enjoy this video link of Annika reading “Whoosh!”
URL:https://norwaymemoriallibrary.org/event/story-time/2030-03-06/
LOCATION:Norway Memorial Library
CATEGORIES:Story Time
ATTACH;FMTTYPE=image/png:https://norwaymemoriallibrary.org/wp-content/uploads/2022/02/Preschool-Storytime.png
END:VEVENT
BEGIN:VEVENT
DTSTART;TZID=America/New_York:20300313T103000
DTEND;TZID=America/New_York:20300313T233000
DTSTAMP:20260420T001742
CREATED:20220221T214303Z
LAST-MODIFIED:20250908T154906Z
UID:10017308-1899628200-1899675000@norwaymemoriallibrary.org
SUMMARY:Storytime
DESCRIPTION:Storytime\, Every Wednesday at 10:30 am \nCome explore the wonderful world of picture books with Ms. Annika. \nPlease enjoy this video link of Annika reading “Whoosh!”
URL:https://norwaymemoriallibrary.org/event/story-time/2030-03-13/
LOCATION:Norway Memorial Library
CATEGORIES:Story Time
ATTACH;FMTTYPE=image/png:https://norwaymemoriallibrary.org/wp-content/uploads/2022/02/Preschool-Storytime.png
END:VEVENT
BEGIN:VEVENT
DTSTART;TZID=America/New_York:20300320T103000
DTEND;TZID=America/New_York:20300320T233000
DTSTAMP:20260420T001742
CREATED:20220221T214303Z
LAST-MODIFIED:20250908T154906Z
UID:10017309-1900233000-1900279800@norwaymemoriallibrary.org
SUMMARY:Storytime
DESCRIPTION:Storytime\, Every Wednesday at 10:30 am \nCome explore the wonderful world of picture books with Ms. Annika. \nPlease enjoy this video link of Annika reading “Whoosh!”
URL:https://norwaymemoriallibrary.org/event/story-time/2030-03-20/
LOCATION:Norway Memorial Library
CATEGORIES:Story Time
ATTACH;FMTTYPE=image/png:https://norwaymemoriallibrary.org/wp-content/uploads/2022/02/Preschool-Storytime.png
END:VEVENT
BEGIN:VEVENT
DTSTART;TZID=America/New_York:20300327T103000
DTEND;TZID=America/New_York:20300327T233000
DTSTAMP:20260420T001742
CREATED:20220221T214303Z
LAST-MODIFIED:20250908T154906Z
UID:10017310-1900837800-1900884600@norwaymemoriallibrary.org
SUMMARY:Storytime
DESCRIPTION:Storytime\, Every Wednesday at 10:30 am \nCome explore the wonderful world of picture books with Ms. Annika. \nPlease enjoy this video link of Annika reading “Whoosh!”
URL:https://norwaymemoriallibrary.org/event/story-time/2030-03-27/
LOCATION:Norway Memorial Library
CATEGORIES:Story Time
ATTACH;FMTTYPE=image/png:https://norwaymemoriallibrary.org/wp-content/uploads/2022/02/Preschool-Storytime.png
END:VEVENT
BEGIN:VEVENT
DTSTART;TZID=America/New_York:20300403T103000
DTEND;TZID=America/New_York:20300403T233000
DTSTAMP:20260420T001742
CREATED:20220221T214303Z
LAST-MODIFIED:20250908T154906Z
UID:10017311-1901442600-1901489400@norwaymemoriallibrary.org
SUMMARY:Storytime
DESCRIPTION:Storytime\, Every Wednesday at 10:30 am \nCome explore the wonderful world of picture books with Ms. Annika. \nPlease enjoy this video link of Annika reading “Whoosh!”
URL:https://norwaymemoriallibrary.org/event/story-time/2030-04-03/
LOCATION:Norway Memorial Library
CATEGORIES:Story Time
ATTACH;FMTTYPE=image/png:https://norwaymemoriallibrary.org/wp-content/uploads/2022/02/Preschool-Storytime.png
END:VEVENT
BEGIN:VEVENT
DTSTART;TZID=America/New_York:20300410T103000
DTEND;TZID=America/New_York:20300410T233000
DTSTAMP:20260420T001742
CREATED:20220221T214303Z
LAST-MODIFIED:20250908T154906Z
UID:10017312-1902047400-1902094200@norwaymemoriallibrary.org
SUMMARY:Storytime
DESCRIPTION:Storytime\, Every Wednesday at 10:30 am \nCome explore the wonderful world of picture books with Ms. Annika. \nPlease enjoy this video link of Annika reading “Whoosh!”
URL:https://norwaymemoriallibrary.org/event/story-time/2030-04-10/
LOCATION:Norway Memorial Library
CATEGORIES:Story Time
ATTACH;FMTTYPE=image/png:https://norwaymemoriallibrary.org/wp-content/uploads/2022/02/Preschool-Storytime.png
END:VEVENT
BEGIN:VEVENT
DTSTART;TZID=America/New_York:20300417T103000
DTEND;TZID=America/New_York:20300417T233000
DTSTAMP:20260420T001742
CREATED:20220221T214303Z
LAST-MODIFIED:20250908T154906Z
UID:10017313-1902652200-1902699000@norwaymemoriallibrary.org
SUMMARY:Storytime
DESCRIPTION:Storytime\, Every Wednesday at 10:30 am \nCome explore the wonderful world of picture books with Ms. Annika. \nPlease enjoy this video link of Annika reading “Whoosh!”
URL:https://norwaymemoriallibrary.org/event/story-time/2030-04-17/
LOCATION:Norway Memorial Library
CATEGORIES:Story Time
ATTACH;FMTTYPE=image/png:https://norwaymemoriallibrary.org/wp-content/uploads/2022/02/Preschool-Storytime.png
END:VEVENT
BEGIN:VEVENT
DTSTART;TZID=America/New_York:20300424T103000
DTEND;TZID=America/New_York:20300424T233000
DTSTAMP:20260420T001742
CREATED:20220221T214303Z
LAST-MODIFIED:20250908T154906Z
UID:10017314-1903257000-1903303800@norwaymemoriallibrary.org
SUMMARY:Storytime
DESCRIPTION:Storytime\, Every Wednesday at 10:30 am \nCome explore the wonderful world of picture books with Ms. Annika. \nPlease enjoy this video link of Annika reading “Whoosh!”
URL:https://norwaymemoriallibrary.org/event/story-time/2030-04-24/
LOCATION:Norway Memorial Library
CATEGORIES:Story Time
ATTACH;FMTTYPE=image/png:https://norwaymemoriallibrary.org/wp-content/uploads/2022/02/Preschool-Storytime.png
END:VEVENT
END:VCALENDAR