BEGIN:VCALENDAR
VERSION:2.0
PRODID:-//Norway Memorial Library - ECPv6.15.20//NONSGML v1.0//EN
CALSCALE:GREGORIAN
METHOD:PUBLISH
X-WR-CALNAME:Norway Memorial Library
X-ORIGINAL-URL:https://norwaymemoriallibrary.org
X-WR-CALDESC:Events for Norway Memorial Library
REFRESH-INTERVAL;VALUE=DURATION:PT1H
X-Robots-Tag:noindex
X-PUBLISHED-TTL:PT1H
BEGIN:VTIMEZONE
TZID:America/New_York
BEGIN:DAYLIGHT
TZOFFSETFROM:-0500
TZOFFSETTO:-0400
TZNAME:EDT
DTSTART:20230312T070000
END:DAYLIGHT
BEGIN:STANDARD
TZOFFSETFROM:-0400
TZOFFSETTO:-0500
TZNAME:EST
DTSTART:20231105T060000
END:STANDARD
BEGIN:DAYLIGHT
TZOFFSETFROM:-0500
TZOFFSETTO:-0400
TZNAME:EDT
DTSTART:20240310T070000
END:DAYLIGHT
BEGIN:STANDARD
TZOFFSETFROM:-0400
TZOFFSETTO:-0500
TZNAME:EST
DTSTART:20241103T060000
END:STANDARD
BEGIN:DAYLIGHT
TZOFFSETFROM:-0500
TZOFFSETTO:-0400
TZNAME:EDT
DTSTART:20250309T070000
END:DAYLIGHT
BEGIN:STANDARD
TZOFFSETFROM:-0400
TZOFFSETTO:-0500
TZNAME:EST
DTSTART:20251102T060000
END:STANDARD
END:VTIMEZONE
BEGIN:VEVENT
DTSTART;TZID=America/New_York:20240904T103000
DTEND;TZID=America/New_York:20240904T233000
DTSTAMP:20260419T123015
CREATED:20220221T214303Z
LAST-MODIFIED:20250908T154906Z
UID:10001620-1725445800-1725492600@norwaymemoriallibrary.org
SUMMARY:Storytime
DESCRIPTION:Storytime\, Every Wednesday at 10:30 am \nCome explore the wonderful world of picture books with Ms. Annika. \nPlease enjoy this video link of Annika reading “Whoosh!”
URL:https://norwaymemoriallibrary.org/event/story-time/2024-09-04/
LOCATION:Norway Memorial Library
CATEGORIES:Story Time
ATTACH;FMTTYPE=image/png:https://norwaymemoriallibrary.org/wp-content/uploads/2022/02/Preschool-Storytime.png
END:VEVENT
BEGIN:VEVENT
DTSTART;TZID=America/New_York:20240828T103000
DTEND;TZID=America/New_York:20240828T233000
DTSTAMP:20260419T123015
CREATED:20220221T214303Z
LAST-MODIFIED:20250908T154906Z
UID:10001619-1724841000-1724887800@norwaymemoriallibrary.org
SUMMARY:Storytime
DESCRIPTION:Storytime\, Every Wednesday at 10:30 am \nCome explore the wonderful world of picture books with Ms. Annika. \nPlease enjoy this video link of Annika reading “Whoosh!”
URL:https://norwaymemoriallibrary.org/event/story-time/2024-08-28/
LOCATION:Norway Memorial Library
CATEGORIES:Story Time
ATTACH;FMTTYPE=image/png:https://norwaymemoriallibrary.org/wp-content/uploads/2022/02/Preschool-Storytime.png
END:VEVENT
BEGIN:VEVENT
DTSTART;TZID=America/New_York:20240821T103000
DTEND;TZID=America/New_York:20240821T233000
DTSTAMP:20260419T123015
CREATED:20220221T214303Z
LAST-MODIFIED:20250908T154906Z
UID:10001618-1724236200-1724283000@norwaymemoriallibrary.org
SUMMARY:Storytime
DESCRIPTION:Storytime\, Every Wednesday at 10:30 am \nCome explore the wonderful world of picture books with Ms. Annika. \nPlease enjoy this video link of Annika reading “Whoosh!”
URL:https://norwaymemoriallibrary.org/event/story-time/2024-08-21/
LOCATION:Norway Memorial Library
CATEGORIES:Story Time
ATTACH;FMTTYPE=image/png:https://norwaymemoriallibrary.org/wp-content/uploads/2022/02/Preschool-Storytime.png
END:VEVENT
BEGIN:VEVENT
DTSTART;TZID=America/New_York:20240814T103000
DTEND;TZID=America/New_York:20240814T233000
DTSTAMP:20260419T123015
CREATED:20220221T214303Z
LAST-MODIFIED:20250908T154906Z
UID:10001617-1723631400-1723678200@norwaymemoriallibrary.org
SUMMARY:Storytime
DESCRIPTION:Storytime\, Every Wednesday at 10:30 am \nCome explore the wonderful world of picture books with Ms. Annika. \nPlease enjoy this video link of Annika reading “Whoosh!”
URL:https://norwaymemoriallibrary.org/event/story-time/2024-08-14/
LOCATION:Norway Memorial Library
CATEGORIES:Story Time
ATTACH;FMTTYPE=image/png:https://norwaymemoriallibrary.org/wp-content/uploads/2022/02/Preschool-Storytime.png
END:VEVENT
BEGIN:VEVENT
DTSTART;TZID=America/New_York:20240807T103000
DTEND;TZID=America/New_York:20240807T233000
DTSTAMP:20260419T123015
CREATED:20220221T214303Z
LAST-MODIFIED:20250908T154906Z
UID:10001616-1723026600-1723073400@norwaymemoriallibrary.org
SUMMARY:Storytime
DESCRIPTION:Storytime\, Every Wednesday at 10:30 am \nCome explore the wonderful world of picture books with Ms. Annika. \nPlease enjoy this video link of Annika reading “Whoosh!”
URL:https://norwaymemoriallibrary.org/event/story-time/2024-08-07/
LOCATION:Norway Memorial Library
CATEGORIES:Story Time
ATTACH;FMTTYPE=image/png:https://norwaymemoriallibrary.org/wp-content/uploads/2022/02/Preschool-Storytime.png
END:VEVENT
BEGIN:VEVENT
DTSTART;TZID=America/New_York:20240731T103000
DTEND;TZID=America/New_York:20240731T233000
DTSTAMP:20260419T123015
CREATED:20220221T214303Z
LAST-MODIFIED:20250908T154906Z
UID:10001615-1722421800-1722468600@norwaymemoriallibrary.org
SUMMARY:Storytime
DESCRIPTION:Storytime\, Every Wednesday at 10:30 am \nCome explore the wonderful world of picture books with Ms. Annika. \nPlease enjoy this video link of Annika reading “Whoosh!”
URL:https://norwaymemoriallibrary.org/event/story-time/2024-07-31/
LOCATION:Norway Memorial Library
CATEGORIES:Story Time
ATTACH;FMTTYPE=image/png:https://norwaymemoriallibrary.org/wp-content/uploads/2022/02/Preschool-Storytime.png
END:VEVENT
BEGIN:VEVENT
DTSTART;TZID=America/New_York:20240724T103000
DTEND;TZID=America/New_York:20240724T233000
DTSTAMP:20260419T123015
CREATED:20220221T214303Z
LAST-MODIFIED:20250908T154906Z
UID:10001614-1721817000-1721863800@norwaymemoriallibrary.org
SUMMARY:Storytime
DESCRIPTION:Storytime\, Every Wednesday at 10:30 am \nCome explore the wonderful world of picture books with Ms. Annika. \nPlease enjoy this video link of Annika reading “Whoosh!”
URL:https://norwaymemoriallibrary.org/event/story-time/2024-07-24/
LOCATION:Norway Memorial Library
CATEGORIES:Story Time
ATTACH;FMTTYPE=image/png:https://norwaymemoriallibrary.org/wp-content/uploads/2022/02/Preschool-Storytime.png
END:VEVENT
BEGIN:VEVENT
DTSTART;TZID=America/New_York:20240717T103000
DTEND;TZID=America/New_York:20240717T233000
DTSTAMP:20260419T123015
CREATED:20220221T214303Z
LAST-MODIFIED:20250908T154906Z
UID:10001613-1721212200-1721259000@norwaymemoriallibrary.org
SUMMARY:Storytime
DESCRIPTION:Storytime\, Every Wednesday at 10:30 am \nCome explore the wonderful world of picture books with Ms. Annika. \nPlease enjoy this video link of Annika reading “Whoosh!”
URL:https://norwaymemoriallibrary.org/event/story-time/2024-07-17/
LOCATION:Norway Memorial Library
CATEGORIES:Story Time
ATTACH;FMTTYPE=image/png:https://norwaymemoriallibrary.org/wp-content/uploads/2022/02/Preschool-Storytime.png
END:VEVENT
END:VCALENDAR