BEGIN:VCALENDAR
VERSION:2.0
PRODID:-//Norway Memorial Library - ECPv6.15.20//NONSGML v1.0//EN
CALSCALE:GREGORIAN
METHOD:PUBLISH
X-ORIGINAL-URL:https://norwaymemoriallibrary.org
X-WR-CALDESC:Events for Norway Memorial Library
REFRESH-INTERVAL;VALUE=DURATION:PT1H
X-Robots-Tag:noindex
X-PUBLISHED-TTL:PT1H
BEGIN:VTIMEZONE
TZID:America/New_York
BEGIN:DAYLIGHT
TZOFFSETFROM:-0500
TZOFFSETTO:-0400
TZNAME:EDT
DTSTART:20290311T070000
END:DAYLIGHT
BEGIN:STANDARD
TZOFFSETFROM:-0400
TZOFFSETTO:-0500
TZNAME:EST
DTSTART:20291104T060000
END:STANDARD
BEGIN:DAYLIGHT
TZOFFSETFROM:-0500
TZOFFSETTO:-0400
TZNAME:EDT
DTSTART:20300310T070000
END:DAYLIGHT
BEGIN:STANDARD
TZOFFSETFROM:-0400
TZOFFSETTO:-0500
TZNAME:EST
DTSTART:20301103T060000
END:STANDARD
BEGIN:DAYLIGHT
TZOFFSETFROM:-0500
TZOFFSETTO:-0400
TZNAME:EDT
DTSTART:20310309T070000
END:DAYLIGHT
BEGIN:STANDARD
TZOFFSETFROM:-0400
TZOFFSETTO:-0500
TZNAME:EST
DTSTART:20311102T060000
END:STANDARD
END:VTIMEZONE
BEGIN:VEVENT
DTSTART;TZID=America/New_York:20300319T103000
DTEND;TZID=America/New_York:20300319T120000
DTSTAMP:20260420T193507
CREATED:20220221T213455Z
LAST-MODIFIED:20250908T154752Z
UID:10017214-1900146600-1900152000@norwaymemoriallibrary.org
SUMMARY:Toybox Tuesday
DESCRIPTION:Every Tuesday starting at 10:30 am \nPlay time for children (birth-age four) and their caregivers.
URL:https://norwaymemoriallibrary.org/event/toybox-tuesday/2030-03-19/
LOCATION:Norway Memorial Library
CATEGORIES:Toybox Tuesdays
ATTACH;FMTTYPE=image/jpeg:https://norwaymemoriallibrary.org/wp-content/uploads/2022/02/117258094_s-e1645480934288.jpg
END:VEVENT
BEGIN:VEVENT
DTSTART;TZID=America/New_York:20300326T103000
DTEND;TZID=America/New_York:20300326T120000
DTSTAMP:20260420T193507
CREATED:20220221T213455Z
LAST-MODIFIED:20250908T154752Z
UID:10017215-1900751400-1900756800@norwaymemoriallibrary.org
SUMMARY:Toybox Tuesday
DESCRIPTION:Every Tuesday starting at 10:30 am \nPlay time for children (birth-age four) and their caregivers.
URL:https://norwaymemoriallibrary.org/event/toybox-tuesday/2030-03-26/
LOCATION:Norway Memorial Library
CATEGORIES:Toybox Tuesdays
ATTACH;FMTTYPE=image/jpeg:https://norwaymemoriallibrary.org/wp-content/uploads/2022/02/117258094_s-e1645480934288.jpg
END:VEVENT
BEGIN:VEVENT
DTSTART;TZID=America/New_York:20300402T103000
DTEND;TZID=America/New_York:20300402T120000
DTSTAMP:20260420T193507
CREATED:20220221T213455Z
LAST-MODIFIED:20250908T154752Z
UID:10017216-1901356200-1901361600@norwaymemoriallibrary.org
SUMMARY:Toybox Tuesday
DESCRIPTION:Every Tuesday starting at 10:30 am \nPlay time for children (birth-age four) and their caregivers.
URL:https://norwaymemoriallibrary.org/event/toybox-tuesday/2030-04-02/
LOCATION:Norway Memorial Library
CATEGORIES:Toybox Tuesdays
ATTACH;FMTTYPE=image/jpeg:https://norwaymemoriallibrary.org/wp-content/uploads/2022/02/117258094_s-e1645480934288.jpg
END:VEVENT
BEGIN:VEVENT
DTSTART;TZID=America/New_York:20300409T103000
DTEND;TZID=America/New_York:20300409T120000
DTSTAMP:20260420T193507
CREATED:20220221T213455Z
LAST-MODIFIED:20250908T154752Z
UID:10017217-1901961000-1901966400@norwaymemoriallibrary.org
SUMMARY:Toybox Tuesday
DESCRIPTION:Every Tuesday starting at 10:30 am \nPlay time for children (birth-age four) and their caregivers.
URL:https://norwaymemoriallibrary.org/event/toybox-tuesday/2030-04-09/
LOCATION:Norway Memorial Library
CATEGORIES:Toybox Tuesdays
ATTACH;FMTTYPE=image/jpeg:https://norwaymemoriallibrary.org/wp-content/uploads/2022/02/117258094_s-e1645480934288.jpg
END:VEVENT
BEGIN:VEVENT
DTSTART;TZID=America/New_York:20300416T103000
DTEND;TZID=America/New_York:20300416T120000
DTSTAMP:20260420T193507
CREATED:20220221T213455Z
LAST-MODIFIED:20250908T154752Z
UID:10017218-1902565800-1902571200@norwaymemoriallibrary.org
SUMMARY:Toybox Tuesday
DESCRIPTION:Every Tuesday starting at 10:30 am \nPlay time for children (birth-age four) and their caregivers.
URL:https://norwaymemoriallibrary.org/event/toybox-tuesday/2030-04-16/
LOCATION:Norway Memorial Library
CATEGORIES:Toybox Tuesdays
ATTACH;FMTTYPE=image/jpeg:https://norwaymemoriallibrary.org/wp-content/uploads/2022/02/117258094_s-e1645480934288.jpg
END:VEVENT
BEGIN:VEVENT
DTSTART;TZID=America/New_York:20300423T103000
DTEND;TZID=America/New_York:20300423T120000
DTSTAMP:20260420T193507
CREATED:20220221T213455Z
LAST-MODIFIED:20250908T154752Z
UID:10017219-1903170600-1903176000@norwaymemoriallibrary.org
SUMMARY:Toybox Tuesday
DESCRIPTION:Every Tuesday starting at 10:30 am \nPlay time for children (birth-age four) and their caregivers.
URL:https://norwaymemoriallibrary.org/event/toybox-tuesday/2030-04-23/
LOCATION:Norway Memorial Library
CATEGORIES:Toybox Tuesdays
ATTACH;FMTTYPE=image/jpeg:https://norwaymemoriallibrary.org/wp-content/uploads/2022/02/117258094_s-e1645480934288.jpg
END:VEVENT
BEGIN:VEVENT
DTSTART;TZID=America/New_York:20300430T103000
DTEND;TZID=America/New_York:20300430T120000
DTSTAMP:20260420T193507
CREATED:20220221T213455Z
LAST-MODIFIED:20250908T154752Z
UID:10017220-1903775400-1903780800@norwaymemoriallibrary.org
SUMMARY:Toybox Tuesday
DESCRIPTION:Every Tuesday starting at 10:30 am \nPlay time for children (birth-age four) and their caregivers.
URL:https://norwaymemoriallibrary.org/event/toybox-tuesday/2030-04-30/
LOCATION:Norway Memorial Library
CATEGORIES:Toybox Tuesdays
ATTACH;FMTTYPE=image/jpeg:https://norwaymemoriallibrary.org/wp-content/uploads/2022/02/117258094_s-e1645480934288.jpg
END:VEVENT
BEGIN:VEVENT
DTSTART;TZID=America/New_York:20300507T103000
DTEND;TZID=America/New_York:20300507T120000
DTSTAMP:20260420T193507
CREATED:20220221T213455Z
LAST-MODIFIED:20250908T154752Z
UID:10017221-1904380200-1904385600@norwaymemoriallibrary.org
SUMMARY:Toybox Tuesday
DESCRIPTION:Every Tuesday starting at 10:30 am \nPlay time for children (birth-age four) and their caregivers.
URL:https://norwaymemoriallibrary.org/event/toybox-tuesday/2030-05-07/
LOCATION:Norway Memorial Library
CATEGORIES:Toybox Tuesdays
ATTACH;FMTTYPE=image/jpeg:https://norwaymemoriallibrary.org/wp-content/uploads/2022/02/117258094_s-e1645480934288.jpg
END:VEVENT
BEGIN:VEVENT
DTSTART;TZID=America/New_York:20300514T103000
DTEND;TZID=America/New_York:20300514T120000
DTSTAMP:20260420T193507
CREATED:20220221T213455Z
LAST-MODIFIED:20250908T154752Z
UID:10017222-1904985000-1904990400@norwaymemoriallibrary.org
SUMMARY:Toybox Tuesday
DESCRIPTION:Every Tuesday starting at 10:30 am \nPlay time for children (birth-age four) and their caregivers.
URL:https://norwaymemoriallibrary.org/event/toybox-tuesday/2030-05-14/
LOCATION:Norway Memorial Library
CATEGORIES:Toybox Tuesdays
ATTACH;FMTTYPE=image/jpeg:https://norwaymemoriallibrary.org/wp-content/uploads/2022/02/117258094_s-e1645480934288.jpg
END:VEVENT
BEGIN:VEVENT
DTSTART;TZID=America/New_York:20300521T103000
DTEND;TZID=America/New_York:20300521T120000
DTSTAMP:20260420T193507
CREATED:20220221T213455Z
LAST-MODIFIED:20250908T154752Z
UID:10017223-1905589800-1905595200@norwaymemoriallibrary.org
SUMMARY:Toybox Tuesday
DESCRIPTION:Every Tuesday starting at 10:30 am \nPlay time for children (birth-age four) and their caregivers.
URL:https://norwaymemoriallibrary.org/event/toybox-tuesday/2030-05-21/
LOCATION:Norway Memorial Library
CATEGORIES:Toybox Tuesdays
ATTACH;FMTTYPE=image/jpeg:https://norwaymemoriallibrary.org/wp-content/uploads/2022/02/117258094_s-e1645480934288.jpg
END:VEVENT
BEGIN:VEVENT
DTSTART;TZID=America/New_York:20300528T103000
DTEND;TZID=America/New_York:20300528T120000
DTSTAMP:20260420T193507
CREATED:20220221T213455Z
LAST-MODIFIED:20250908T154752Z
UID:10017224-1906194600-1906200000@norwaymemoriallibrary.org
SUMMARY:Toybox Tuesday
DESCRIPTION:Every Tuesday starting at 10:30 am \nPlay time for children (birth-age four) and their caregivers.
URL:https://norwaymemoriallibrary.org/event/toybox-tuesday/2030-05-28/
LOCATION:Norway Memorial Library
CATEGORIES:Toybox Tuesdays
ATTACH;FMTTYPE=image/jpeg:https://norwaymemoriallibrary.org/wp-content/uploads/2022/02/117258094_s-e1645480934288.jpg
END:VEVENT
BEGIN:VEVENT
DTSTART;TZID=America/New_York:20300604T103000
DTEND;TZID=America/New_York:20300604T120000
DTSTAMP:20260420T193507
CREATED:20220221T213455Z
LAST-MODIFIED:20250908T154752Z
UID:10017225-1906799400-1906804800@norwaymemoriallibrary.org
SUMMARY:Toybox Tuesday
DESCRIPTION:Every Tuesday starting at 10:30 am \nPlay time for children (birth-age four) and their caregivers.
URL:https://norwaymemoriallibrary.org/event/toybox-tuesday/2030-06-04/
LOCATION:Norway Memorial Library
CATEGORIES:Toybox Tuesdays
ATTACH;FMTTYPE=image/jpeg:https://norwaymemoriallibrary.org/wp-content/uploads/2022/02/117258094_s-e1645480934288.jpg
END:VEVENT
BEGIN:VEVENT
DTSTART;TZID=America/New_York:20300611T103000
DTEND;TZID=America/New_York:20300611T120000
DTSTAMP:20260420T193507
CREATED:20220221T213455Z
LAST-MODIFIED:20250908T154752Z
UID:10017226-1907404200-1907409600@norwaymemoriallibrary.org
SUMMARY:Toybox Tuesday
DESCRIPTION:Every Tuesday starting at 10:30 am \nPlay time for children (birth-age four) and their caregivers.
URL:https://norwaymemoriallibrary.org/event/toybox-tuesday/2030-06-11/
LOCATION:Norway Memorial Library
CATEGORIES:Toybox Tuesdays
ATTACH;FMTTYPE=image/jpeg:https://norwaymemoriallibrary.org/wp-content/uploads/2022/02/117258094_s-e1645480934288.jpg
END:VEVENT
BEGIN:VEVENT
DTSTART;TZID=America/New_York:20300618T103000
DTEND;TZID=America/New_York:20300618T120000
DTSTAMP:20260420T193507
CREATED:20220221T213455Z
LAST-MODIFIED:20250908T154752Z
UID:10017227-1908009000-1908014400@norwaymemoriallibrary.org
SUMMARY:Toybox Tuesday
DESCRIPTION:Every Tuesday starting at 10:30 am \nPlay time for children (birth-age four) and their caregivers.
URL:https://norwaymemoriallibrary.org/event/toybox-tuesday/2030-06-18/
LOCATION:Norway Memorial Library
CATEGORIES:Toybox Tuesdays
ATTACH;FMTTYPE=image/jpeg:https://norwaymemoriallibrary.org/wp-content/uploads/2022/02/117258094_s-e1645480934288.jpg
END:VEVENT
BEGIN:VEVENT
DTSTART;TZID=America/New_York:20300625T103000
DTEND;TZID=America/New_York:20300625T120000
DTSTAMP:20260420T193507
CREATED:20220221T213455Z
LAST-MODIFIED:20250908T154752Z
UID:10017228-1908613800-1908619200@norwaymemoriallibrary.org
SUMMARY:Toybox Tuesday
DESCRIPTION:Every Tuesday starting at 10:30 am \nPlay time for children (birth-age four) and their caregivers.
URL:https://norwaymemoriallibrary.org/event/toybox-tuesday/2030-06-25/
LOCATION:Norway Memorial Library
CATEGORIES:Toybox Tuesdays
ATTACH;FMTTYPE=image/jpeg:https://norwaymemoriallibrary.org/wp-content/uploads/2022/02/117258094_s-e1645480934288.jpg
END:VEVENT
BEGIN:VEVENT
DTSTART;TZID=America/New_York:20300702T103000
DTEND;TZID=America/New_York:20300702T120000
DTSTAMP:20260420T193507
CREATED:20220221T213455Z
LAST-MODIFIED:20250908T154752Z
UID:10017229-1909218600-1909224000@norwaymemoriallibrary.org
SUMMARY:Toybox Tuesday
DESCRIPTION:Every Tuesday starting at 10:30 am \nPlay time for children (birth-age four) and their caregivers.
URL:https://norwaymemoriallibrary.org/event/toybox-tuesday/2030-07-02/
LOCATION:Norway Memorial Library
CATEGORIES:Toybox Tuesdays
ATTACH;FMTTYPE=image/jpeg:https://norwaymemoriallibrary.org/wp-content/uploads/2022/02/117258094_s-e1645480934288.jpg
END:VEVENT
BEGIN:VEVENT
DTSTART;TZID=America/New_York:20300709T103000
DTEND;TZID=America/New_York:20300709T120000
DTSTAMP:20260420T193507
CREATED:20220221T213455Z
LAST-MODIFIED:20250908T154752Z
UID:10017230-1909823400-1909828800@norwaymemoriallibrary.org
SUMMARY:Toybox Tuesday
DESCRIPTION:Every Tuesday starting at 10:30 am \nPlay time for children (birth-age four) and their caregivers.
URL:https://norwaymemoriallibrary.org/event/toybox-tuesday/2030-07-09/
LOCATION:Norway Memorial Library
CATEGORIES:Toybox Tuesdays
ATTACH;FMTTYPE=image/jpeg:https://norwaymemoriallibrary.org/wp-content/uploads/2022/02/117258094_s-e1645480934288.jpg
END:VEVENT
BEGIN:VEVENT
DTSTART;TZID=America/New_York:20300716T103000
DTEND;TZID=America/New_York:20300716T120000
DTSTAMP:20260420T193507
CREATED:20220221T213455Z
LAST-MODIFIED:20250908T154752Z
UID:10017231-1910428200-1910433600@norwaymemoriallibrary.org
SUMMARY:Toybox Tuesday
DESCRIPTION:Every Tuesday starting at 10:30 am \nPlay time for children (birth-age four) and their caregivers.
URL:https://norwaymemoriallibrary.org/event/toybox-tuesday/2030-07-16/
LOCATION:Norway Memorial Library
CATEGORIES:Toybox Tuesdays
ATTACH;FMTTYPE=image/jpeg:https://norwaymemoriallibrary.org/wp-content/uploads/2022/02/117258094_s-e1645480934288.jpg
END:VEVENT
BEGIN:VEVENT
DTSTART;TZID=America/New_York:20300723T103000
DTEND;TZID=America/New_York:20300723T120000
DTSTAMP:20260420T193507
CREATED:20220221T213455Z
LAST-MODIFIED:20250908T154752Z
UID:10017232-1911033000-1911038400@norwaymemoriallibrary.org
SUMMARY:Toybox Tuesday
DESCRIPTION:Every Tuesday starting at 10:30 am \nPlay time for children (birth-age four) and their caregivers.
URL:https://norwaymemoriallibrary.org/event/toybox-tuesday/2030-07-23/
LOCATION:Norway Memorial Library
CATEGORIES:Toybox Tuesdays
ATTACH;FMTTYPE=image/jpeg:https://norwaymemoriallibrary.org/wp-content/uploads/2022/02/117258094_s-e1645480934288.jpg
END:VEVENT
BEGIN:VEVENT
DTSTART;TZID=America/New_York:20300730T103000
DTEND;TZID=America/New_York:20300730T120000
DTSTAMP:20260420T193507
CREATED:20220221T213455Z
LAST-MODIFIED:20250908T154752Z
UID:10017450-1911637800-1911643200@norwaymemoriallibrary.org
SUMMARY:Toybox Tuesday
DESCRIPTION:Every Tuesday starting at 10:30 am \nPlay time for children (birth-age four) and their caregivers.
URL:https://norwaymemoriallibrary.org/event/toybox-tuesday/2030-07-30/
LOCATION:Norway Memorial Library
CATEGORIES:Toybox Tuesdays
ATTACH;FMTTYPE=image/jpeg:https://norwaymemoriallibrary.org/wp-content/uploads/2022/02/117258094_s-e1645480934288.jpg
END:VEVENT
BEGIN:VEVENT
DTSTART;TZID=America/New_York:20300806T103000
DTEND;TZID=America/New_York:20300806T120000
DTSTAMP:20260420T193507
CREATED:20220221T213455Z
LAST-MODIFIED:20250908T154752Z
UID:10017454-1912242600-1912248000@norwaymemoriallibrary.org
SUMMARY:Toybox Tuesday
DESCRIPTION:Every Tuesday starting at 10:30 am \nPlay time for children (birth-age four) and their caregivers.
URL:https://norwaymemoriallibrary.org/event/toybox-tuesday/2030-08-06/
LOCATION:Norway Memorial Library
CATEGORIES:Toybox Tuesdays
ATTACH;FMTTYPE=image/jpeg:https://norwaymemoriallibrary.org/wp-content/uploads/2022/02/117258094_s-e1645480934288.jpg
END:VEVENT
BEGIN:VEVENT
DTSTART;TZID=America/New_York:20300813T103000
DTEND;TZID=America/New_York:20300813T120000
DTSTAMP:20260420T193507
CREATED:20220221T213455Z
LAST-MODIFIED:20250908T154752Z
UID:10017517-1912847400-1912852800@norwaymemoriallibrary.org
SUMMARY:Toybox Tuesday
DESCRIPTION:Every Tuesday starting at 10:30 am \nPlay time for children (birth-age four) and their caregivers.
URL:https://norwaymemoriallibrary.org/event/toybox-tuesday/2030-08-13/
LOCATION:Norway Memorial Library
CATEGORIES:Toybox Tuesdays
ATTACH;FMTTYPE=image/jpeg:https://norwaymemoriallibrary.org/wp-content/uploads/2022/02/117258094_s-e1645480934288.jpg
END:VEVENT
BEGIN:VEVENT
DTSTART;TZID=America/New_York:20300820T103000
DTEND;TZID=America/New_York:20300820T120000
DTSTAMP:20260420T193507
CREATED:20220221T213455Z
LAST-MODIFIED:20250908T154752Z
UID:10017518-1913452200-1913457600@norwaymemoriallibrary.org
SUMMARY:Toybox Tuesday
DESCRIPTION:Every Tuesday starting at 10:30 am \nPlay time for children (birth-age four) and their caregivers.
URL:https://norwaymemoriallibrary.org/event/toybox-tuesday/2030-08-20/
LOCATION:Norway Memorial Library
CATEGORIES:Toybox Tuesdays
ATTACH;FMTTYPE=image/jpeg:https://norwaymemoriallibrary.org/wp-content/uploads/2022/02/117258094_s-e1645480934288.jpg
END:VEVENT
BEGIN:VEVENT
DTSTART;TZID=America/New_York:20300827T103000
DTEND;TZID=America/New_York:20300827T120000
DTSTAMP:20260420T193507
CREATED:20220221T213455Z
LAST-MODIFIED:20250908T154752Z
UID:10017519-1914057000-1914062400@norwaymemoriallibrary.org
SUMMARY:Toybox Tuesday
DESCRIPTION:Every Tuesday starting at 10:30 am \nPlay time for children (birth-age four) and their caregivers.
URL:https://norwaymemoriallibrary.org/event/toybox-tuesday/2030-08-27/
LOCATION:Norway Memorial Library
CATEGORIES:Toybox Tuesdays
ATTACH;FMTTYPE=image/jpeg:https://norwaymemoriallibrary.org/wp-content/uploads/2022/02/117258094_s-e1645480934288.jpg
END:VEVENT
BEGIN:VEVENT
DTSTART;TZID=America/New_York:20300903T103000
DTEND;TZID=America/New_York:20300903T120000
DTSTAMP:20260420T193507
CREATED:20220221T213455Z
LAST-MODIFIED:20250908T154752Z
UID:10017520-1914661800-1914667200@norwaymemoriallibrary.org
SUMMARY:Toybox Tuesday
DESCRIPTION:Every Tuesday starting at 10:30 am \nPlay time for children (birth-age four) and their caregivers.
URL:https://norwaymemoriallibrary.org/event/toybox-tuesday/2030-09-03/
LOCATION:Norway Memorial Library
CATEGORIES:Toybox Tuesdays
ATTACH;FMTTYPE=image/jpeg:https://norwaymemoriallibrary.org/wp-content/uploads/2022/02/117258094_s-e1645480934288.jpg
END:VEVENT
END:VCALENDAR