BEGIN:VCALENDAR
VERSION:2.0
PRODID:-//Norway Memorial Library - ECPv6.15.20//NONSGML v1.0//EN
CALSCALE:GREGORIAN
METHOD:PUBLISH
X-WR-CALNAME:Norway Memorial Library
X-ORIGINAL-URL:https://norwaymemoriallibrary.org
X-WR-CALDESC:Events for Norway Memorial Library
REFRESH-INTERVAL;VALUE=DURATION:PT1H
X-Robots-Tag:noindex
X-PUBLISHED-TTL:PT1H
BEGIN:VTIMEZONE
TZID:America/New_York
BEGIN:DAYLIGHT
TZOFFSETFROM:-0500
TZOFFSETTO:-0400
TZNAME:EDT
DTSTART:20280312T070000
END:DAYLIGHT
BEGIN:STANDARD
TZOFFSETFROM:-0400
TZOFFSETTO:-0500
TZNAME:EST
DTSTART:20281105T060000
END:STANDARD
BEGIN:DAYLIGHT
TZOFFSETFROM:-0500
TZOFFSETTO:-0400
TZNAME:EDT
DTSTART:20290311T070000
END:DAYLIGHT
BEGIN:STANDARD
TZOFFSETFROM:-0400
TZOFFSETTO:-0500
TZNAME:EST
DTSTART:20291104T060000
END:STANDARD
BEGIN:DAYLIGHT
TZOFFSETFROM:-0500
TZOFFSETTO:-0400
TZNAME:EDT
DTSTART:20300310T070000
END:DAYLIGHT
BEGIN:STANDARD
TZOFFSETFROM:-0400
TZOFFSETTO:-0500
TZNAME:EST
DTSTART:20301103T060000
END:STANDARD
BEGIN:DAYLIGHT
TZOFFSETFROM:-0500
TZOFFSETTO:-0400
TZNAME:EDT
DTSTART:20310309T070000
END:DAYLIGHT
BEGIN:STANDARD
TZOFFSETFROM:-0400
TZOFFSETTO:-0500
TZNAME:EST
DTSTART:20311102T060000
END:STANDARD
END:VTIMEZONE
BEGIN:VEVENT
DTSTART;TZID=America/New_York:20291002T103000
DTEND;TZID=America/New_York:20291002T120000
DTSTAMP:20260420T211703
CREATED:20220221T213455Z
LAST-MODIFIED:20250908T154752Z
UID:10017190-1885631400-1885636800@norwaymemoriallibrary.org
SUMMARY:Toybox Tuesday
DESCRIPTION:Every Tuesday starting at 10:30 am \nPlay time for children (birth-age four) and their caregivers.
URL:https://norwaymemoriallibrary.org/event/toybox-tuesday/2029-10-02/
LOCATION:Norway Memorial Library
CATEGORIES:Toybox Tuesdays
ATTACH;FMTTYPE=image/jpeg:https://norwaymemoriallibrary.org/wp-content/uploads/2022/02/117258094_s-e1645480934288.jpg
END:VEVENT
BEGIN:VEVENT
DTSTART;TZID=America/New_York:20291009T103000
DTEND;TZID=America/New_York:20291009T120000
DTSTAMP:20260420T211703
CREATED:20220221T213455Z
LAST-MODIFIED:20250908T154752Z
UID:10017191-1886236200-1886241600@norwaymemoriallibrary.org
SUMMARY:Toybox Tuesday
DESCRIPTION:Every Tuesday starting at 10:30 am \nPlay time for children (birth-age four) and their caregivers.
URL:https://norwaymemoriallibrary.org/event/toybox-tuesday/2029-10-09/
LOCATION:Norway Memorial Library
CATEGORIES:Toybox Tuesdays
ATTACH;FMTTYPE=image/jpeg:https://norwaymemoriallibrary.org/wp-content/uploads/2022/02/117258094_s-e1645480934288.jpg
END:VEVENT
BEGIN:VEVENT
DTSTART;TZID=America/New_York:20291016T103000
DTEND;TZID=America/New_York:20291016T120000
DTSTAMP:20260420T211703
CREATED:20220221T213455Z
LAST-MODIFIED:20250908T154752Z
UID:10017192-1886841000-1886846400@norwaymemoriallibrary.org
SUMMARY:Toybox Tuesday
DESCRIPTION:Every Tuesday starting at 10:30 am \nPlay time for children (birth-age four) and their caregivers.
URL:https://norwaymemoriallibrary.org/event/toybox-tuesday/2029-10-16/
LOCATION:Norway Memorial Library
CATEGORIES:Toybox Tuesdays
ATTACH;FMTTYPE=image/jpeg:https://norwaymemoriallibrary.org/wp-content/uploads/2022/02/117258094_s-e1645480934288.jpg
END:VEVENT
BEGIN:VEVENT
DTSTART;TZID=America/New_York:20291023T103000
DTEND;TZID=America/New_York:20291023T120000
DTSTAMP:20260420T211703
CREATED:20220221T213455Z
LAST-MODIFIED:20250908T154752Z
UID:10017193-1887445800-1887451200@norwaymemoriallibrary.org
SUMMARY:Toybox Tuesday
DESCRIPTION:Every Tuesday starting at 10:30 am \nPlay time for children (birth-age four) and their caregivers.
URL:https://norwaymemoriallibrary.org/event/toybox-tuesday/2029-10-23/
LOCATION:Norway Memorial Library
CATEGORIES:Toybox Tuesdays
ATTACH;FMTTYPE=image/jpeg:https://norwaymemoriallibrary.org/wp-content/uploads/2022/02/117258094_s-e1645480934288.jpg
END:VEVENT
BEGIN:VEVENT
DTSTART;TZID=America/New_York:20291030T103000
DTEND;TZID=America/New_York:20291030T120000
DTSTAMP:20260420T211703
CREATED:20220221T213455Z
LAST-MODIFIED:20250908T154752Z
UID:10017194-1888050600-1888056000@norwaymemoriallibrary.org
SUMMARY:Toybox Tuesday
DESCRIPTION:Every Tuesday starting at 10:30 am \nPlay time for children (birth-age four) and their caregivers.
URL:https://norwaymemoriallibrary.org/event/toybox-tuesday/2029-10-30/
LOCATION:Norway Memorial Library
CATEGORIES:Toybox Tuesdays
ATTACH;FMTTYPE=image/jpeg:https://norwaymemoriallibrary.org/wp-content/uploads/2022/02/117258094_s-e1645480934288.jpg
END:VEVENT
BEGIN:VEVENT
DTSTART;TZID=America/New_York:20291106T103000
DTEND;TZID=America/New_York:20291106T120000
DTSTAMP:20260420T211703
CREATED:20220221T213455Z
LAST-MODIFIED:20250908T154752Z
UID:10017195-1888655400-1888660800@norwaymemoriallibrary.org
SUMMARY:Toybox Tuesday
DESCRIPTION:Every Tuesday starting at 10:30 am \nPlay time for children (birth-age four) and their caregivers.
URL:https://norwaymemoriallibrary.org/event/toybox-tuesday/2029-11-06/
LOCATION:Norway Memorial Library
CATEGORIES:Toybox Tuesdays
ATTACH;FMTTYPE=image/jpeg:https://norwaymemoriallibrary.org/wp-content/uploads/2022/02/117258094_s-e1645480934288.jpg
END:VEVENT
BEGIN:VEVENT
DTSTART;TZID=America/New_York:20291113T103000
DTEND;TZID=America/New_York:20291113T120000
DTSTAMP:20260420T211703
CREATED:20220221T213455Z
LAST-MODIFIED:20250908T154752Z
UID:10017196-1889260200-1889265600@norwaymemoriallibrary.org
SUMMARY:Toybox Tuesday
DESCRIPTION:Every Tuesday starting at 10:30 am \nPlay time for children (birth-age four) and their caregivers.
URL:https://norwaymemoriallibrary.org/event/toybox-tuesday/2029-11-13/
LOCATION:Norway Memorial Library
CATEGORIES:Toybox Tuesdays
ATTACH;FMTTYPE=image/jpeg:https://norwaymemoriallibrary.org/wp-content/uploads/2022/02/117258094_s-e1645480934288.jpg
END:VEVENT
BEGIN:VEVENT
DTSTART;TZID=America/New_York:20291120T103000
DTEND;TZID=America/New_York:20291120T120000
DTSTAMP:20260420T211703
CREATED:20220221T213455Z
LAST-MODIFIED:20250908T154752Z
UID:10017197-1889865000-1889870400@norwaymemoriallibrary.org
SUMMARY:Toybox Tuesday
DESCRIPTION:Every Tuesday starting at 10:30 am \nPlay time for children (birth-age four) and their caregivers.
URL:https://norwaymemoriallibrary.org/event/toybox-tuesday/2029-11-20/
LOCATION:Norway Memorial Library
CATEGORIES:Toybox Tuesdays
ATTACH;FMTTYPE=image/jpeg:https://norwaymemoriallibrary.org/wp-content/uploads/2022/02/117258094_s-e1645480934288.jpg
END:VEVENT
BEGIN:VEVENT
DTSTART;TZID=America/New_York:20291127T103000
DTEND;TZID=America/New_York:20291127T120000
DTSTAMP:20260420T211703
CREATED:20220221T213455Z
LAST-MODIFIED:20250908T154752Z
UID:10017198-1890469800-1890475200@norwaymemoriallibrary.org
SUMMARY:Toybox Tuesday
DESCRIPTION:Every Tuesday starting at 10:30 am \nPlay time for children (birth-age four) and their caregivers.
URL:https://norwaymemoriallibrary.org/event/toybox-tuesday/2029-11-27/
LOCATION:Norway Memorial Library
CATEGORIES:Toybox Tuesdays
ATTACH;FMTTYPE=image/jpeg:https://norwaymemoriallibrary.org/wp-content/uploads/2022/02/117258094_s-e1645480934288.jpg
END:VEVENT
BEGIN:VEVENT
DTSTART;TZID=America/New_York:20291204T103000
DTEND;TZID=America/New_York:20291204T120000
DTSTAMP:20260420T211703
CREATED:20220221T213455Z
LAST-MODIFIED:20250908T154752Z
UID:10017199-1891074600-1891080000@norwaymemoriallibrary.org
SUMMARY:Toybox Tuesday
DESCRIPTION:Every Tuesday starting at 10:30 am \nPlay time for children (birth-age four) and their caregivers.
URL:https://norwaymemoriallibrary.org/event/toybox-tuesday/2029-12-04/
LOCATION:Norway Memorial Library
CATEGORIES:Toybox Tuesdays
ATTACH;FMTTYPE=image/jpeg:https://norwaymemoriallibrary.org/wp-content/uploads/2022/02/117258094_s-e1645480934288.jpg
END:VEVENT
BEGIN:VEVENT
DTSTART;TZID=America/New_York:20291211T103000
DTEND;TZID=America/New_York:20291211T120000
DTSTAMP:20260420T211703
CREATED:20220221T213455Z
LAST-MODIFIED:20250908T154752Z
UID:10017200-1891679400-1891684800@norwaymemoriallibrary.org
SUMMARY:Toybox Tuesday
DESCRIPTION:Every Tuesday starting at 10:30 am \nPlay time for children (birth-age four) and their caregivers.
URL:https://norwaymemoriallibrary.org/event/toybox-tuesday/2029-12-11/
LOCATION:Norway Memorial Library
CATEGORIES:Toybox Tuesdays
ATTACH;FMTTYPE=image/jpeg:https://norwaymemoriallibrary.org/wp-content/uploads/2022/02/117258094_s-e1645480934288.jpg
END:VEVENT
BEGIN:VEVENT
DTSTART;TZID=America/New_York:20291218T103000
DTEND;TZID=America/New_York:20291218T120000
DTSTAMP:20260420T211703
CREATED:20220221T213455Z
LAST-MODIFIED:20250908T154752Z
UID:10017201-1892284200-1892289600@norwaymemoriallibrary.org
SUMMARY:Toybox Tuesday
DESCRIPTION:Every Tuesday starting at 10:30 am \nPlay time for children (birth-age four) and their caregivers.
URL:https://norwaymemoriallibrary.org/event/toybox-tuesday/2029-12-18/
LOCATION:Norway Memorial Library
CATEGORIES:Toybox Tuesdays
ATTACH;FMTTYPE=image/jpeg:https://norwaymemoriallibrary.org/wp-content/uploads/2022/02/117258094_s-e1645480934288.jpg
END:VEVENT
BEGIN:VEVENT
DTSTART;TZID=America/New_York:20291225T103000
DTEND;TZID=America/New_York:20291225T120000
DTSTAMP:20260420T211703
CREATED:20220221T213455Z
LAST-MODIFIED:20250908T154752Z
UID:10017202-1892889000-1892894400@norwaymemoriallibrary.org
SUMMARY:Toybox Tuesday
DESCRIPTION:Every Tuesday starting at 10:30 am \nPlay time for children (birth-age four) and their caregivers.
URL:https://norwaymemoriallibrary.org/event/toybox-tuesday/2029-12-25/
LOCATION:Norway Memorial Library
CATEGORIES:Toybox Tuesdays
ATTACH;FMTTYPE=image/jpeg:https://norwaymemoriallibrary.org/wp-content/uploads/2022/02/117258094_s-e1645480934288.jpg
END:VEVENT
BEGIN:VEVENT
DTSTART;TZID=America/New_York:20300101T103000
DTEND;TZID=America/New_York:20300101T120000
DTSTAMP:20260420T211703
CREATED:20220221T213455Z
LAST-MODIFIED:20250908T154752Z
UID:10017203-1893493800-1893499200@norwaymemoriallibrary.org
SUMMARY:Toybox Tuesday
DESCRIPTION:Every Tuesday starting at 10:30 am \nPlay time for children (birth-age four) and their caregivers.
URL:https://norwaymemoriallibrary.org/event/toybox-tuesday/2030-01-01/
LOCATION:Norway Memorial Library
CATEGORIES:Toybox Tuesdays
ATTACH;FMTTYPE=image/jpeg:https://norwaymemoriallibrary.org/wp-content/uploads/2022/02/117258094_s-e1645480934288.jpg
END:VEVENT
BEGIN:VEVENT
DTSTART;TZID=America/New_York:20300108T103000
DTEND;TZID=America/New_York:20300108T120000
DTSTAMP:20260420T211703
CREATED:20220221T213455Z
LAST-MODIFIED:20250908T154752Z
UID:10017204-1894098600-1894104000@norwaymemoriallibrary.org
SUMMARY:Toybox Tuesday
DESCRIPTION:Every Tuesday starting at 10:30 am \nPlay time for children (birth-age four) and their caregivers.
URL:https://norwaymemoriallibrary.org/event/toybox-tuesday/2030-01-08/
LOCATION:Norway Memorial Library
CATEGORIES:Toybox Tuesdays
ATTACH;FMTTYPE=image/jpeg:https://norwaymemoriallibrary.org/wp-content/uploads/2022/02/117258094_s-e1645480934288.jpg
END:VEVENT
BEGIN:VEVENT
DTSTART;TZID=America/New_York:20300115T103000
DTEND;TZID=America/New_York:20300115T120000
DTSTAMP:20260420T211703
CREATED:20220221T213455Z
LAST-MODIFIED:20250908T154752Z
UID:10017205-1894703400-1894708800@norwaymemoriallibrary.org
SUMMARY:Toybox Tuesday
DESCRIPTION:Every Tuesday starting at 10:30 am \nPlay time for children (birth-age four) and their caregivers.
URL:https://norwaymemoriallibrary.org/event/toybox-tuesday/2030-01-15/
LOCATION:Norway Memorial Library
CATEGORIES:Toybox Tuesdays
ATTACH;FMTTYPE=image/jpeg:https://norwaymemoriallibrary.org/wp-content/uploads/2022/02/117258094_s-e1645480934288.jpg
END:VEVENT
BEGIN:VEVENT
DTSTART;TZID=America/New_York:20300122T103000
DTEND;TZID=America/New_York:20300122T120000
DTSTAMP:20260420T211703
CREATED:20220221T213455Z
LAST-MODIFIED:20250908T154752Z
UID:10017206-1895308200-1895313600@norwaymemoriallibrary.org
SUMMARY:Toybox Tuesday
DESCRIPTION:Every Tuesday starting at 10:30 am \nPlay time for children (birth-age four) and their caregivers.
URL:https://norwaymemoriallibrary.org/event/toybox-tuesday/2030-01-22/
LOCATION:Norway Memorial Library
CATEGORIES:Toybox Tuesdays
ATTACH;FMTTYPE=image/jpeg:https://norwaymemoriallibrary.org/wp-content/uploads/2022/02/117258094_s-e1645480934288.jpg
END:VEVENT
BEGIN:VEVENT
DTSTART;TZID=America/New_York:20300129T103000
DTEND;TZID=America/New_York:20300129T120000
DTSTAMP:20260420T211703
CREATED:20220221T213455Z
LAST-MODIFIED:20250908T154752Z
UID:10017207-1895913000-1895918400@norwaymemoriallibrary.org
SUMMARY:Toybox Tuesday
DESCRIPTION:Every Tuesday starting at 10:30 am \nPlay time for children (birth-age four) and their caregivers.
URL:https://norwaymemoriallibrary.org/event/toybox-tuesday/2030-01-29/
LOCATION:Norway Memorial Library
CATEGORIES:Toybox Tuesdays
ATTACH;FMTTYPE=image/jpeg:https://norwaymemoriallibrary.org/wp-content/uploads/2022/02/117258094_s-e1645480934288.jpg
END:VEVENT
BEGIN:VEVENT
DTSTART;TZID=America/New_York:20300205T103000
DTEND;TZID=America/New_York:20300205T120000
DTSTAMP:20260420T211703
CREATED:20220221T213455Z
LAST-MODIFIED:20250908T154752Z
UID:10017208-1896517800-1896523200@norwaymemoriallibrary.org
SUMMARY:Toybox Tuesday
DESCRIPTION:Every Tuesday starting at 10:30 am \nPlay time for children (birth-age four) and their caregivers.
URL:https://norwaymemoriallibrary.org/event/toybox-tuesday/2030-02-05/
LOCATION:Norway Memorial Library
CATEGORIES:Toybox Tuesdays
ATTACH;FMTTYPE=image/jpeg:https://norwaymemoriallibrary.org/wp-content/uploads/2022/02/117258094_s-e1645480934288.jpg
END:VEVENT
BEGIN:VEVENT
DTSTART;TZID=America/New_York:20300212T103000
DTEND;TZID=America/New_York:20300212T120000
DTSTAMP:20260420T211703
CREATED:20220221T213455Z
LAST-MODIFIED:20250908T154752Z
UID:10017209-1897122600-1897128000@norwaymemoriallibrary.org
SUMMARY:Toybox Tuesday
DESCRIPTION:Every Tuesday starting at 10:30 am \nPlay time for children (birth-age four) and their caregivers.
URL:https://norwaymemoriallibrary.org/event/toybox-tuesday/2030-02-12/
LOCATION:Norway Memorial Library
CATEGORIES:Toybox Tuesdays
ATTACH;FMTTYPE=image/jpeg:https://norwaymemoriallibrary.org/wp-content/uploads/2022/02/117258094_s-e1645480934288.jpg
END:VEVENT
BEGIN:VEVENT
DTSTART;TZID=America/New_York:20300219T103000
DTEND;TZID=America/New_York:20300219T120000
DTSTAMP:20260420T211703
CREATED:20220221T213455Z
LAST-MODIFIED:20250908T154752Z
UID:10017210-1897727400-1897732800@norwaymemoriallibrary.org
SUMMARY:Toybox Tuesday
DESCRIPTION:Every Tuesday starting at 10:30 am \nPlay time for children (birth-age four) and their caregivers.
URL:https://norwaymemoriallibrary.org/event/toybox-tuesday/2030-02-19/
LOCATION:Norway Memorial Library
CATEGORIES:Toybox Tuesdays
ATTACH;FMTTYPE=image/jpeg:https://norwaymemoriallibrary.org/wp-content/uploads/2022/02/117258094_s-e1645480934288.jpg
END:VEVENT
BEGIN:VEVENT
DTSTART;TZID=America/New_York:20300226T103000
DTEND;TZID=America/New_York:20300226T120000
DTSTAMP:20260420T211703
CREATED:20220221T213455Z
LAST-MODIFIED:20250908T154752Z
UID:10017211-1898332200-1898337600@norwaymemoriallibrary.org
SUMMARY:Toybox Tuesday
DESCRIPTION:Every Tuesday starting at 10:30 am \nPlay time for children (birth-age four) and their caregivers.
URL:https://norwaymemoriallibrary.org/event/toybox-tuesday/2030-02-26/
LOCATION:Norway Memorial Library
CATEGORIES:Toybox Tuesdays
ATTACH;FMTTYPE=image/jpeg:https://norwaymemoriallibrary.org/wp-content/uploads/2022/02/117258094_s-e1645480934288.jpg
END:VEVENT
BEGIN:VEVENT
DTSTART;TZID=America/New_York:20300305T103000
DTEND;TZID=America/New_York:20300305T120000
DTSTAMP:20260420T211703
CREATED:20220221T213455Z
LAST-MODIFIED:20250908T154752Z
UID:10017212-1898937000-1898942400@norwaymemoriallibrary.org
SUMMARY:Toybox Tuesday
DESCRIPTION:Every Tuesday starting at 10:30 am \nPlay time for children (birth-age four) and their caregivers.
URL:https://norwaymemoriallibrary.org/event/toybox-tuesday/2030-03-05/
LOCATION:Norway Memorial Library
CATEGORIES:Toybox Tuesdays
ATTACH;FMTTYPE=image/jpeg:https://norwaymemoriallibrary.org/wp-content/uploads/2022/02/117258094_s-e1645480934288.jpg
END:VEVENT
BEGIN:VEVENT
DTSTART;TZID=America/New_York:20300312T103000
DTEND;TZID=America/New_York:20300312T120000
DTSTAMP:20260420T211703
CREATED:20220221T213455Z
LAST-MODIFIED:20250908T154752Z
UID:10017213-1899541800-1899547200@norwaymemoriallibrary.org
SUMMARY:Toybox Tuesday
DESCRIPTION:Every Tuesday starting at 10:30 am \nPlay time for children (birth-age four) and their caregivers.
URL:https://norwaymemoriallibrary.org/event/toybox-tuesday/2030-03-12/
LOCATION:Norway Memorial Library
CATEGORIES:Toybox Tuesdays
ATTACH;FMTTYPE=image/jpeg:https://norwaymemoriallibrary.org/wp-content/uploads/2022/02/117258094_s-e1645480934288.jpg
END:VEVENT
BEGIN:VEVENT
DTSTART;TZID=America/New_York:20300319T103000
DTEND;TZID=America/New_York:20300319T120000
DTSTAMP:20260420T211703
CREATED:20220221T213455Z
LAST-MODIFIED:20250908T154752Z
UID:10017214-1900146600-1900152000@norwaymemoriallibrary.org
SUMMARY:Toybox Tuesday
DESCRIPTION:Every Tuesday starting at 10:30 am \nPlay time for children (birth-age four) and their caregivers.
URL:https://norwaymemoriallibrary.org/event/toybox-tuesday/2030-03-19/
LOCATION:Norway Memorial Library
CATEGORIES:Toybox Tuesdays
ATTACH;FMTTYPE=image/jpeg:https://norwaymemoriallibrary.org/wp-content/uploads/2022/02/117258094_s-e1645480934288.jpg
END:VEVENT
BEGIN:VEVENT
DTSTART;TZID=America/New_York:20300326T103000
DTEND;TZID=America/New_York:20300326T120000
DTSTAMP:20260420T211703
CREATED:20220221T213455Z
LAST-MODIFIED:20250908T154752Z
UID:10017215-1900751400-1900756800@norwaymemoriallibrary.org
SUMMARY:Toybox Tuesday
DESCRIPTION:Every Tuesday starting at 10:30 am \nPlay time for children (birth-age four) and their caregivers.
URL:https://norwaymemoriallibrary.org/event/toybox-tuesday/2030-03-26/
LOCATION:Norway Memorial Library
CATEGORIES:Toybox Tuesdays
ATTACH;FMTTYPE=image/jpeg:https://norwaymemoriallibrary.org/wp-content/uploads/2022/02/117258094_s-e1645480934288.jpg
END:VEVENT
BEGIN:VEVENT
DTSTART;TZID=America/New_York:20300402T103000
DTEND;TZID=America/New_York:20300402T120000
DTSTAMP:20260420T211703
CREATED:20220221T213455Z
LAST-MODIFIED:20250908T154752Z
UID:10017216-1901356200-1901361600@norwaymemoriallibrary.org
SUMMARY:Toybox Tuesday
DESCRIPTION:Every Tuesday starting at 10:30 am \nPlay time for children (birth-age four) and their caregivers.
URL:https://norwaymemoriallibrary.org/event/toybox-tuesday/2030-04-02/
LOCATION:Norway Memorial Library
CATEGORIES:Toybox Tuesdays
ATTACH;FMTTYPE=image/jpeg:https://norwaymemoriallibrary.org/wp-content/uploads/2022/02/117258094_s-e1645480934288.jpg
END:VEVENT
BEGIN:VEVENT
DTSTART;TZID=America/New_York:20300409T103000
DTEND;TZID=America/New_York:20300409T120000
DTSTAMP:20260420T211703
CREATED:20220221T213455Z
LAST-MODIFIED:20250908T154752Z
UID:10017217-1901961000-1901966400@norwaymemoriallibrary.org
SUMMARY:Toybox Tuesday
DESCRIPTION:Every Tuesday starting at 10:30 am \nPlay time for children (birth-age four) and their caregivers.
URL:https://norwaymemoriallibrary.org/event/toybox-tuesday/2030-04-09/
LOCATION:Norway Memorial Library
CATEGORIES:Toybox Tuesdays
ATTACH;FMTTYPE=image/jpeg:https://norwaymemoriallibrary.org/wp-content/uploads/2022/02/117258094_s-e1645480934288.jpg
END:VEVENT
BEGIN:VEVENT
DTSTART;TZID=America/New_York:20300416T103000
DTEND;TZID=America/New_York:20300416T120000
DTSTAMP:20260420T211703
CREATED:20220221T213455Z
LAST-MODIFIED:20250908T154752Z
UID:10017218-1902565800-1902571200@norwaymemoriallibrary.org
SUMMARY:Toybox Tuesday
DESCRIPTION:Every Tuesday starting at 10:30 am \nPlay time for children (birth-age four) and their caregivers.
URL:https://norwaymemoriallibrary.org/event/toybox-tuesday/2030-04-16/
LOCATION:Norway Memorial Library
CATEGORIES:Toybox Tuesdays
ATTACH;FMTTYPE=image/jpeg:https://norwaymemoriallibrary.org/wp-content/uploads/2022/02/117258094_s-e1645480934288.jpg
END:VEVENT
BEGIN:VEVENT
DTSTART;TZID=America/New_York:20300423T103000
DTEND;TZID=America/New_York:20300423T120000
DTSTAMP:20260420T211703
CREATED:20220221T213455Z
LAST-MODIFIED:20250908T154752Z
UID:10017219-1903170600-1903176000@norwaymemoriallibrary.org
SUMMARY:Toybox Tuesday
DESCRIPTION:Every Tuesday starting at 10:30 am \nPlay time for children (birth-age four) and their caregivers.
URL:https://norwaymemoriallibrary.org/event/toybox-tuesday/2030-04-23/
LOCATION:Norway Memorial Library
CATEGORIES:Toybox Tuesdays
ATTACH;FMTTYPE=image/jpeg:https://norwaymemoriallibrary.org/wp-content/uploads/2022/02/117258094_s-e1645480934288.jpg
END:VEVENT
END:VCALENDAR