BEGIN:VCALENDAR
VERSION:2.0
PRODID:-//Norway Memorial Library - ECPv6.15.20//NONSGML v1.0//EN
CALSCALE:GREGORIAN
METHOD:PUBLISH
X-WR-CALNAME:Norway Memorial Library
X-ORIGINAL-URL:https://norwaymemoriallibrary.org
X-WR-CALDESC:Events for Norway Memorial Library
REFRESH-INTERVAL;VALUE=DURATION:PT1H
X-Robots-Tag:noindex
X-PUBLISHED-TTL:PT1H
BEGIN:VTIMEZONE
TZID:America/New_York
BEGIN:DAYLIGHT
TZOFFSETFROM:-0500
TZOFFSETTO:-0400
TZNAME:EDT
DTSTART:20260308T070000
END:DAYLIGHT
BEGIN:STANDARD
TZOFFSETFROM:-0400
TZOFFSETTO:-0500
TZNAME:EST
DTSTART:20261101T060000
END:STANDARD
BEGIN:DAYLIGHT
TZOFFSETFROM:-0500
TZOFFSETTO:-0400
TZNAME:EDT
DTSTART:20270314T070000
END:DAYLIGHT
BEGIN:STANDARD
TZOFFSETFROM:-0400
TZOFFSETTO:-0500
TZNAME:EST
DTSTART:20271107T060000
END:STANDARD
BEGIN:DAYLIGHT
TZOFFSETFROM:-0500
TZOFFSETTO:-0400
TZNAME:EDT
DTSTART:20280312T070000
END:DAYLIGHT
BEGIN:STANDARD
TZOFFSETFROM:-0400
TZOFFSETTO:-0500
TZNAME:EST
DTSTART:20281105T060000
END:STANDARD
END:VTIMEZONE
BEGIN:VEVENT
DTSTART;TZID=America/New_York:20270609T103000
DTEND;TZID=America/New_York:20270609T233000
DTSTAMP:20260420T225114
CREATED:20220221T214303Z
LAST-MODIFIED:20250908T154906Z
UID:10001764-1812537000-1812583800@norwaymemoriallibrary.org
SUMMARY:Storytime
DESCRIPTION:Storytime\, Every Wednesday at 10:30 am \nCome explore the wonderful world of picture books with Ms. Annika. \nPlease enjoy this video link of Annika reading “Whoosh!”
URL:https://norwaymemoriallibrary.org/event/story-time/2027-06-09/
LOCATION:Norway Memorial Library
CATEGORIES:Story Time
ATTACH;FMTTYPE=image/png:https://norwaymemoriallibrary.org/wp-content/uploads/2022/02/Preschool-Storytime.png
END:VEVENT
BEGIN:VEVENT
DTSTART;TZID=America/New_York:20270611T103000
DTEND;TZID=America/New_York:20270611T233000
DTSTAMP:20260420T225114
CREATED:20220221T214634Z
LAST-MODIFIED:20250908T155012Z
UID:10002104-1812709800-1812756600@norwaymemoriallibrary.org
SUMMARY:Music & Movement
DESCRIPTION:Every Friday at 10:30 am \nJoin us as we play and sing in a casual and fun atmosphere.
URL:https://norwaymemoriallibrary.org/event/music-movement/2027-06-11/
LOCATION:Norway Memorial Library
CATEGORIES:Music & Movement
ATTACH;FMTTYPE=image/jpeg:https://norwaymemoriallibrary.org/wp-content/uploads/2022/02/50644737_s-e1645481023470.jpg
END:VEVENT
BEGIN:VEVENT
DTSTART;TZID=America/New_York:20270615T103000
DTEND;TZID=America/New_York:20270615T120000
DTSTAMP:20260420T225114
CREATED:20220221T213455Z
LAST-MODIFIED:20250908T154752Z
UID:10001427-1813055400-1813060800@norwaymemoriallibrary.org
SUMMARY:Toybox Tuesday
DESCRIPTION:Every Tuesday starting at 10:30 am \nPlay time for children (birth-age four) and their caregivers.
URL:https://norwaymemoriallibrary.org/event/toybox-tuesday/2027-06-15/
LOCATION:Norway Memorial Library
CATEGORIES:Toybox Tuesdays
ATTACH;FMTTYPE=image/jpeg:https://norwaymemoriallibrary.org/wp-content/uploads/2022/02/117258094_s-e1645480934288.jpg
END:VEVENT
BEGIN:VEVENT
DTSTART;TZID=America/New_York:20270616T103000
DTEND;TZID=America/New_York:20270616T233000
DTSTAMP:20260420T225114
CREATED:20220221T214303Z
LAST-MODIFIED:20250908T154906Z
UID:10001765-1813141800-1813188600@norwaymemoriallibrary.org
SUMMARY:Storytime
DESCRIPTION:Storytime\, Every Wednesday at 10:30 am \nCome explore the wonderful world of picture books with Ms. Annika. \nPlease enjoy this video link of Annika reading “Whoosh!”
URL:https://norwaymemoriallibrary.org/event/story-time/2027-06-16/
LOCATION:Norway Memorial Library
CATEGORIES:Story Time
ATTACH;FMTTYPE=image/png:https://norwaymemoriallibrary.org/wp-content/uploads/2022/02/Preschool-Storytime.png
END:VEVENT
BEGIN:VEVENT
DTSTART;TZID=America/New_York:20270618T103000
DTEND;TZID=America/New_York:20270618T233000
DTSTAMP:20260420T225114
CREATED:20220221T214634Z
LAST-MODIFIED:20250908T155012Z
UID:10002105-1813314600-1813361400@norwaymemoriallibrary.org
SUMMARY:Music & Movement
DESCRIPTION:Every Friday at 10:30 am \nJoin us as we play and sing in a casual and fun atmosphere.
URL:https://norwaymemoriallibrary.org/event/music-movement/2027-06-18/
LOCATION:Norway Memorial Library
CATEGORIES:Music & Movement
ATTACH;FMTTYPE=image/jpeg:https://norwaymemoriallibrary.org/wp-content/uploads/2022/02/50644737_s-e1645481023470.jpg
END:VEVENT
BEGIN:VEVENT
DTSTART;TZID=America/New_York:20270622T103000
DTEND;TZID=America/New_York:20270622T120000
DTSTAMP:20260420T225114
CREATED:20220221T213455Z
LAST-MODIFIED:20250908T154752Z
UID:10001428-1813660200-1813665600@norwaymemoriallibrary.org
SUMMARY:Toybox Tuesday
DESCRIPTION:Every Tuesday starting at 10:30 am \nPlay time for children (birth-age four) and their caregivers.
URL:https://norwaymemoriallibrary.org/event/toybox-tuesday/2027-06-22/
LOCATION:Norway Memorial Library
CATEGORIES:Toybox Tuesdays
ATTACH;FMTTYPE=image/jpeg:https://norwaymemoriallibrary.org/wp-content/uploads/2022/02/117258094_s-e1645480934288.jpg
END:VEVENT
BEGIN:VEVENT
DTSTART;TZID=America/New_York:20270623T103000
DTEND;TZID=America/New_York:20270623T233000
DTSTAMP:20260420T225114
CREATED:20220221T214303Z
LAST-MODIFIED:20250908T154906Z
UID:10001766-1813746600-1813793400@norwaymemoriallibrary.org
SUMMARY:Storytime
DESCRIPTION:Storytime\, Every Wednesday at 10:30 am \nCome explore the wonderful world of picture books with Ms. Annika. \nPlease enjoy this video link of Annika reading “Whoosh!”
URL:https://norwaymemoriallibrary.org/event/story-time/2027-06-23/
LOCATION:Norway Memorial Library
CATEGORIES:Story Time
ATTACH;FMTTYPE=image/png:https://norwaymemoriallibrary.org/wp-content/uploads/2022/02/Preschool-Storytime.png
END:VEVENT
BEGIN:VEVENT
DTSTART;TZID=America/New_York:20270625T103000
DTEND;TZID=America/New_York:20270625T233000
DTSTAMP:20260420T225114
CREATED:20220221T214634Z
LAST-MODIFIED:20250908T155012Z
UID:10002106-1813919400-1813966200@norwaymemoriallibrary.org
SUMMARY:Music & Movement
DESCRIPTION:Every Friday at 10:30 am \nJoin us as we play and sing in a casual and fun atmosphere.
URL:https://norwaymemoriallibrary.org/event/music-movement/2027-06-25/
LOCATION:Norway Memorial Library
CATEGORIES:Music & Movement
ATTACH;FMTTYPE=image/jpeg:https://norwaymemoriallibrary.org/wp-content/uploads/2022/02/50644737_s-e1645481023470.jpg
END:VEVENT
BEGIN:VEVENT
DTSTART;TZID=America/New_York:20270629T103000
DTEND;TZID=America/New_York:20270629T120000
DTSTAMP:20260420T225114
CREATED:20220221T213455Z
LAST-MODIFIED:20250908T154752Z
UID:10001429-1814265000-1814270400@norwaymemoriallibrary.org
SUMMARY:Toybox Tuesday
DESCRIPTION:Every Tuesday starting at 10:30 am \nPlay time for children (birth-age four) and their caregivers.
URL:https://norwaymemoriallibrary.org/event/toybox-tuesday/2027-06-29/
LOCATION:Norway Memorial Library
CATEGORIES:Toybox Tuesdays
ATTACH;FMTTYPE=image/jpeg:https://norwaymemoriallibrary.org/wp-content/uploads/2022/02/117258094_s-e1645480934288.jpg
END:VEVENT
BEGIN:VEVENT
DTSTART;TZID=America/New_York:20270630T103000
DTEND;TZID=America/New_York:20270630T233000
DTSTAMP:20260420T225114
CREATED:20220221T214303Z
LAST-MODIFIED:20250908T154906Z
UID:10001767-1814351400-1814398200@norwaymemoriallibrary.org
SUMMARY:Storytime
DESCRIPTION:Storytime\, Every Wednesday at 10:30 am \nCome explore the wonderful world of picture books with Ms. Annika. \nPlease enjoy this video link of Annika reading “Whoosh!”
URL:https://norwaymemoriallibrary.org/event/story-time/2027-06-30/
LOCATION:Norway Memorial Library
CATEGORIES:Story Time
ATTACH;FMTTYPE=image/png:https://norwaymemoriallibrary.org/wp-content/uploads/2022/02/Preschool-Storytime.png
END:VEVENT
BEGIN:VEVENT
DTSTART;TZID=America/New_York:20270702T103000
DTEND;TZID=America/New_York:20270702T233000
DTSTAMP:20260420T225114
CREATED:20220221T214634Z
LAST-MODIFIED:20250908T155012Z
UID:10002107-1814524200-1814571000@norwaymemoriallibrary.org
SUMMARY:Music & Movement
DESCRIPTION:Every Friday at 10:30 am \nJoin us as we play and sing in a casual and fun atmosphere.
URL:https://norwaymemoriallibrary.org/event/music-movement/2027-07-02/
LOCATION:Norway Memorial Library
CATEGORIES:Music & Movement
ATTACH;FMTTYPE=image/jpeg:https://norwaymemoriallibrary.org/wp-content/uploads/2022/02/50644737_s-e1645481023470.jpg
END:VEVENT
BEGIN:VEVENT
DTSTART;TZID=America/New_York:20270706T103000
DTEND;TZID=America/New_York:20270706T120000
DTSTAMP:20260420T225114
CREATED:20220221T213455Z
LAST-MODIFIED:20250908T154752Z
UID:10001430-1814869800-1814875200@norwaymemoriallibrary.org
SUMMARY:Toybox Tuesday
DESCRIPTION:Every Tuesday starting at 10:30 am \nPlay time for children (birth-age four) and their caregivers.
URL:https://norwaymemoriallibrary.org/event/toybox-tuesday/2027-07-06/
LOCATION:Norway Memorial Library
CATEGORIES:Toybox Tuesdays
ATTACH;FMTTYPE=image/jpeg:https://norwaymemoriallibrary.org/wp-content/uploads/2022/02/117258094_s-e1645480934288.jpg
END:VEVENT
BEGIN:VEVENT
DTSTART;TZID=America/New_York:20270707T103000
DTEND;TZID=America/New_York:20270707T233000
DTSTAMP:20260420T225114
CREATED:20220221T214303Z
LAST-MODIFIED:20250908T154906Z
UID:10001768-1814956200-1815003000@norwaymemoriallibrary.org
SUMMARY:Storytime
DESCRIPTION:Storytime\, Every Wednesday at 10:30 am \nCome explore the wonderful world of picture books with Ms. Annika. \nPlease enjoy this video link of Annika reading “Whoosh!”
URL:https://norwaymemoriallibrary.org/event/story-time/2027-07-07/
LOCATION:Norway Memorial Library
CATEGORIES:Story Time
ATTACH;FMTTYPE=image/png:https://norwaymemoriallibrary.org/wp-content/uploads/2022/02/Preschool-Storytime.png
END:VEVENT
BEGIN:VEVENT
DTSTART;TZID=America/New_York:20270709T103000
DTEND;TZID=America/New_York:20270709T233000
DTSTAMP:20260420T225114
CREATED:20220221T214634Z
LAST-MODIFIED:20250908T155012Z
UID:10002108-1815129000-1815175800@norwaymemoriallibrary.org
SUMMARY:Music & Movement
DESCRIPTION:Every Friday at 10:30 am \nJoin us as we play and sing in a casual and fun atmosphere.
URL:https://norwaymemoriallibrary.org/event/music-movement/2027-07-09/
LOCATION:Norway Memorial Library
CATEGORIES:Music & Movement
ATTACH;FMTTYPE=image/jpeg:https://norwaymemoriallibrary.org/wp-content/uploads/2022/02/50644737_s-e1645481023470.jpg
END:VEVENT
BEGIN:VEVENT
DTSTART;TZID=America/New_York:20270713T103000
DTEND;TZID=America/New_York:20270713T120000
DTSTAMP:20260420T225114
CREATED:20220221T213455Z
LAST-MODIFIED:20250908T154752Z
UID:10001431-1815474600-1815480000@norwaymemoriallibrary.org
SUMMARY:Toybox Tuesday
DESCRIPTION:Every Tuesday starting at 10:30 am \nPlay time for children (birth-age four) and their caregivers.
URL:https://norwaymemoriallibrary.org/event/toybox-tuesday/2027-07-13/
LOCATION:Norway Memorial Library
CATEGORIES:Toybox Tuesdays
ATTACH;FMTTYPE=image/jpeg:https://norwaymemoriallibrary.org/wp-content/uploads/2022/02/117258094_s-e1645480934288.jpg
END:VEVENT
BEGIN:VEVENT
DTSTART;TZID=America/New_York:20270714T103000
DTEND;TZID=America/New_York:20270714T233000
DTSTAMP:20260420T225114
CREATED:20220221T214303Z
LAST-MODIFIED:20250908T154906Z
UID:10001769-1815561000-1815607800@norwaymemoriallibrary.org
SUMMARY:Storytime
DESCRIPTION:Storytime\, Every Wednesday at 10:30 am \nCome explore the wonderful world of picture books with Ms. Annika. \nPlease enjoy this video link of Annika reading “Whoosh!”
URL:https://norwaymemoriallibrary.org/event/story-time/2027-07-14/
LOCATION:Norway Memorial Library
CATEGORIES:Story Time
ATTACH;FMTTYPE=image/png:https://norwaymemoriallibrary.org/wp-content/uploads/2022/02/Preschool-Storytime.png
END:VEVENT
BEGIN:VEVENT
DTSTART;TZID=America/New_York:20270716T103000
DTEND;TZID=America/New_York:20270716T233000
DTSTAMP:20260420T225114
CREATED:20220221T214634Z
LAST-MODIFIED:20250908T155012Z
UID:10002109-1815733800-1815780600@norwaymemoriallibrary.org
SUMMARY:Music & Movement
DESCRIPTION:Every Friday at 10:30 am \nJoin us as we play and sing in a casual and fun atmosphere.
URL:https://norwaymemoriallibrary.org/event/music-movement/2027-07-16/
LOCATION:Norway Memorial Library
CATEGORIES:Music & Movement
ATTACH;FMTTYPE=image/jpeg:https://norwaymemoriallibrary.org/wp-content/uploads/2022/02/50644737_s-e1645481023470.jpg
END:VEVENT
BEGIN:VEVENT
DTSTART;TZID=America/New_York:20270720T103000
DTEND;TZID=America/New_York:20270720T120000
DTSTAMP:20260420T225114
CREATED:20220221T213455Z
LAST-MODIFIED:20250908T154752Z
UID:10001432-1816079400-1816084800@norwaymemoriallibrary.org
SUMMARY:Toybox Tuesday
DESCRIPTION:Every Tuesday starting at 10:30 am \nPlay time for children (birth-age four) and their caregivers.
URL:https://norwaymemoriallibrary.org/event/toybox-tuesday/2027-07-20/
LOCATION:Norway Memorial Library
CATEGORIES:Toybox Tuesdays
ATTACH;FMTTYPE=image/jpeg:https://norwaymemoriallibrary.org/wp-content/uploads/2022/02/117258094_s-e1645480934288.jpg
END:VEVENT
BEGIN:VEVENT
DTSTART;TZID=America/New_York:20270721T103000
DTEND;TZID=America/New_York:20270721T233000
DTSTAMP:20260420T225114
CREATED:20220221T214303Z
LAST-MODIFIED:20250908T154906Z
UID:10001770-1816165800-1816212600@norwaymemoriallibrary.org
SUMMARY:Storytime
DESCRIPTION:Storytime\, Every Wednesday at 10:30 am \nCome explore the wonderful world of picture books with Ms. Annika. \nPlease enjoy this video link of Annika reading “Whoosh!”
URL:https://norwaymemoriallibrary.org/event/story-time/2027-07-21/
LOCATION:Norway Memorial Library
CATEGORIES:Story Time
ATTACH;FMTTYPE=image/png:https://norwaymemoriallibrary.org/wp-content/uploads/2022/02/Preschool-Storytime.png
END:VEVENT
BEGIN:VEVENT
DTSTART;TZID=America/New_York:20270723T103000
DTEND;TZID=America/New_York:20270723T233000
DTSTAMP:20260420T225114
CREATED:20220221T214634Z
LAST-MODIFIED:20250908T155012Z
UID:10002110-1816338600-1816385400@norwaymemoriallibrary.org
SUMMARY:Music & Movement
DESCRIPTION:Every Friday at 10:30 am \nJoin us as we play and sing in a casual and fun atmosphere.
URL:https://norwaymemoriallibrary.org/event/music-movement/2027-07-23/
LOCATION:Norway Memorial Library
CATEGORIES:Music & Movement
ATTACH;FMTTYPE=image/jpeg:https://norwaymemoriallibrary.org/wp-content/uploads/2022/02/50644737_s-e1645481023470.jpg
END:VEVENT
BEGIN:VEVENT
DTSTART;TZID=America/New_York:20270727T103000
DTEND;TZID=America/New_York:20270727T120000
DTSTAMP:20260420T225114
CREATED:20220221T213455Z
LAST-MODIFIED:20250908T154752Z
UID:10001433-1816684200-1816689600@norwaymemoriallibrary.org
SUMMARY:Toybox Tuesday
DESCRIPTION:Every Tuesday starting at 10:30 am \nPlay time for children (birth-age four) and their caregivers.
URL:https://norwaymemoriallibrary.org/event/toybox-tuesday/2027-07-27/
LOCATION:Norway Memorial Library
CATEGORIES:Toybox Tuesdays
ATTACH;FMTTYPE=image/jpeg:https://norwaymemoriallibrary.org/wp-content/uploads/2022/02/117258094_s-e1645480934288.jpg
END:VEVENT
BEGIN:VEVENT
DTSTART;TZID=America/New_York:20270728T103000
DTEND;TZID=America/New_York:20270728T233000
DTSTAMP:20260420T225114
CREATED:20220221T214303Z
LAST-MODIFIED:20250908T154906Z
UID:10001771-1816770600-1816817400@norwaymemoriallibrary.org
SUMMARY:Storytime
DESCRIPTION:Storytime\, Every Wednesday at 10:30 am \nCome explore the wonderful world of picture books with Ms. Annika. \nPlease enjoy this video link of Annika reading “Whoosh!”
URL:https://norwaymemoriallibrary.org/event/story-time/2027-07-28/
LOCATION:Norway Memorial Library
CATEGORIES:Story Time
ATTACH;FMTTYPE=image/png:https://norwaymemoriallibrary.org/wp-content/uploads/2022/02/Preschool-Storytime.png
END:VEVENT
BEGIN:VEVENT
DTSTART;TZID=America/New_York:20270730T103000
DTEND;TZID=America/New_York:20270730T233000
DTSTAMP:20260420T225114
CREATED:20220221T214634Z
LAST-MODIFIED:20250908T155012Z
UID:10002111-1816943400-1816990200@norwaymemoriallibrary.org
SUMMARY:Music & Movement
DESCRIPTION:Every Friday at 10:30 am \nJoin us as we play and sing in a casual and fun atmosphere.
URL:https://norwaymemoriallibrary.org/event/music-movement/2027-07-30/
LOCATION:Norway Memorial Library
CATEGORIES:Music & Movement
ATTACH;FMTTYPE=image/jpeg:https://norwaymemoriallibrary.org/wp-content/uploads/2022/02/50644737_s-e1645481023470.jpg
END:VEVENT
BEGIN:VEVENT
DTSTART;TZID=America/New_York:20270803T103000
DTEND;TZID=America/New_York:20270803T120000
DTSTAMP:20260420T225114
CREATED:20220221T213455Z
LAST-MODIFIED:20250908T154752Z
UID:10001434-1817289000-1817294400@norwaymemoriallibrary.org
SUMMARY:Toybox Tuesday
DESCRIPTION:Every Tuesday starting at 10:30 am \nPlay time for children (birth-age four) and their caregivers.
URL:https://norwaymemoriallibrary.org/event/toybox-tuesday/2027-08-03/
LOCATION:Norway Memorial Library
CATEGORIES:Toybox Tuesdays
ATTACH;FMTTYPE=image/jpeg:https://norwaymemoriallibrary.org/wp-content/uploads/2022/02/117258094_s-e1645480934288.jpg
END:VEVENT
BEGIN:VEVENT
DTSTART;TZID=America/New_York:20270804T103000
DTEND;TZID=America/New_York:20270804T233000
DTSTAMP:20260420T225114
CREATED:20220221T214303Z
LAST-MODIFIED:20250908T154906Z
UID:10001772-1817375400-1817422200@norwaymemoriallibrary.org
SUMMARY:Storytime
DESCRIPTION:Storytime\, Every Wednesday at 10:30 am \nCome explore the wonderful world of picture books with Ms. Annika. \nPlease enjoy this video link of Annika reading “Whoosh!”
URL:https://norwaymemoriallibrary.org/event/story-time/2027-08-04/
LOCATION:Norway Memorial Library
CATEGORIES:Story Time
ATTACH;FMTTYPE=image/png:https://norwaymemoriallibrary.org/wp-content/uploads/2022/02/Preschool-Storytime.png
END:VEVENT
BEGIN:VEVENT
DTSTART;TZID=America/New_York:20270806T103000
DTEND;TZID=America/New_York:20270806T233000
DTSTAMP:20260420T225114
CREATED:20220221T214634Z
LAST-MODIFIED:20250908T155012Z
UID:10002112-1817548200-1817595000@norwaymemoriallibrary.org
SUMMARY:Music & Movement
DESCRIPTION:Every Friday at 10:30 am \nJoin us as we play and sing in a casual and fun atmosphere.
URL:https://norwaymemoriallibrary.org/event/music-movement/2027-08-06/
LOCATION:Norway Memorial Library
CATEGORIES:Music & Movement
ATTACH;FMTTYPE=image/jpeg:https://norwaymemoriallibrary.org/wp-content/uploads/2022/02/50644737_s-e1645481023470.jpg
END:VEVENT
BEGIN:VEVENT
DTSTART;TZID=America/New_York:20270810T103000
DTEND;TZID=America/New_York:20270810T120000
DTSTAMP:20260420T225114
CREATED:20220221T213455Z
LAST-MODIFIED:20250908T154752Z
UID:10001435-1817893800-1817899200@norwaymemoriallibrary.org
SUMMARY:Toybox Tuesday
DESCRIPTION:Every Tuesday starting at 10:30 am \nPlay time for children (birth-age four) and their caregivers.
URL:https://norwaymemoriallibrary.org/event/toybox-tuesday/2027-08-10/
LOCATION:Norway Memorial Library
CATEGORIES:Toybox Tuesdays
ATTACH;FMTTYPE=image/jpeg:https://norwaymemoriallibrary.org/wp-content/uploads/2022/02/117258094_s-e1645480934288.jpg
END:VEVENT
BEGIN:VEVENT
DTSTART;TZID=America/New_York:20270811T103000
DTEND;TZID=America/New_York:20270811T233000
DTSTAMP:20260420T225114
CREATED:20220221T214303Z
LAST-MODIFIED:20250908T154906Z
UID:10001773-1817980200-1818027000@norwaymemoriallibrary.org
SUMMARY:Storytime
DESCRIPTION:Storytime\, Every Wednesday at 10:30 am \nCome explore the wonderful world of picture books with Ms. Annika. \nPlease enjoy this video link of Annika reading “Whoosh!”
URL:https://norwaymemoriallibrary.org/event/story-time/2027-08-11/
LOCATION:Norway Memorial Library
CATEGORIES:Story Time
ATTACH;FMTTYPE=image/png:https://norwaymemoriallibrary.org/wp-content/uploads/2022/02/Preschool-Storytime.png
END:VEVENT
BEGIN:VEVENT
DTSTART;TZID=America/New_York:20270813T103000
DTEND;TZID=America/New_York:20270813T233000
DTSTAMP:20260420T225114
CREATED:20220221T214634Z
LAST-MODIFIED:20250908T155012Z
UID:10002113-1818153000-1818199800@norwaymemoriallibrary.org
SUMMARY:Music & Movement
DESCRIPTION:Every Friday at 10:30 am \nJoin us as we play and sing in a casual and fun atmosphere.
URL:https://norwaymemoriallibrary.org/event/music-movement/2027-08-13/
LOCATION:Norway Memorial Library
CATEGORIES:Music & Movement
ATTACH;FMTTYPE=image/jpeg:https://norwaymemoriallibrary.org/wp-content/uploads/2022/02/50644737_s-e1645481023470.jpg
END:VEVENT
BEGIN:VEVENT
DTSTART;TZID=America/New_York:20270817T103000
DTEND;TZID=America/New_York:20270817T120000
DTSTAMP:20260420T225114
CREATED:20220221T213455Z
LAST-MODIFIED:20250908T154752Z
UID:10001436-1818498600-1818504000@norwaymemoriallibrary.org
SUMMARY:Toybox Tuesday
DESCRIPTION:Every Tuesday starting at 10:30 am \nPlay time for children (birth-age four) and their caregivers.
URL:https://norwaymemoriallibrary.org/event/toybox-tuesday/2027-08-17/
LOCATION:Norway Memorial Library
CATEGORIES:Toybox Tuesdays
ATTACH;FMTTYPE=image/jpeg:https://norwaymemoriallibrary.org/wp-content/uploads/2022/02/117258094_s-e1645480934288.jpg
END:VEVENT
END:VCALENDAR