BEGIN:VCALENDAR
VERSION:2.0
PRODID:-//Norway Memorial Library - ECPv6.15.20//NONSGML v1.0//EN
CALSCALE:GREGORIAN
METHOD:PUBLISH
X-WR-CALNAME:Norway Memorial Library
X-ORIGINAL-URL:https://norwaymemoriallibrary.org
X-WR-CALDESC:Events for Norway Memorial Library
REFRESH-INTERVAL;VALUE=DURATION:PT1H
X-Robots-Tag:noindex
X-PUBLISHED-TTL:PT1H
BEGIN:VTIMEZONE
TZID:America/New_York
BEGIN:DAYLIGHT
TZOFFSETFROM:-0500
TZOFFSETTO:-0400
TZNAME:EDT
DTSTART:20230312T070000
END:DAYLIGHT
BEGIN:STANDARD
TZOFFSETFROM:-0400
TZOFFSETTO:-0500
TZNAME:EST
DTSTART:20231105T060000
END:STANDARD
BEGIN:DAYLIGHT
TZOFFSETFROM:-0500
TZOFFSETTO:-0400
TZNAME:EDT
DTSTART:20240310T070000
END:DAYLIGHT
BEGIN:STANDARD
TZOFFSETFROM:-0400
TZOFFSETTO:-0500
TZNAME:EST
DTSTART:20241103T060000
END:STANDARD
BEGIN:DAYLIGHT
TZOFFSETFROM:-0500
TZOFFSETTO:-0400
TZNAME:EDT
DTSTART:20250309T070000
END:DAYLIGHT
BEGIN:STANDARD
TZOFFSETFROM:-0400
TZOFFSETTO:-0500
TZNAME:EST
DTSTART:20251102T060000
END:STANDARD
END:VTIMEZONE
BEGIN:VEVENT
DTSTART;TZID=America/New_York:20241016T103000
DTEND;TZID=America/New_York:20241016T233000
DTSTAMP:20260423T082008
CREATED:20220221T214303Z
LAST-MODIFIED:20250908T154906Z
UID:10001626-1729074600-1729121400@norwaymemoriallibrary.org
SUMMARY:Storytime
DESCRIPTION:Storytime\, Every Wednesday at 10:30 am \nCome explore the wonderful world of picture books with Ms. Annika. \nPlease enjoy this video link of Annika reading “Whoosh!”
URL:https://norwaymemoriallibrary.org/event/story-time/2024-10-16/
LOCATION:Norway Memorial Library
CATEGORIES:Story Time
ATTACH;FMTTYPE=image/png:https://norwaymemoriallibrary.org/wp-content/uploads/2022/02/Preschool-Storytime.png
END:VEVENT
BEGIN:VEVENT
DTSTART;TZID=America/New_York:20241016T153000
DTEND;TZID=America/New_York:20241016T163000
DTSTAMP:20260423T082008
CREATED:20240909T202430Z
LAST-MODIFIED:20240924T192632Z
UID:10003013-1729092600-1729096200@norwaymemoriallibrary.org
SUMMARY:Fall Children's Book Club in partnership with 4-H
DESCRIPTION:Reading Once Upon a Dream\, by Liz Braswell \nWednesdays\, 3:30 – 4:30 pm \nOctober 9\, 16\, 23\, and 30 \nTen spaces available for 10 – 13 year olds. \nFor more information and to register and get a free copy of the book\, \ncontact Annika or norchild@norwaymemoriallibrary.org or 743-5309 ext 4.
URL:https://norwaymemoriallibrary.org/event/10-13-year-old-book-club-in-partnership-with-4h/2024-10-16/
LOCATION:McLaughlin Garden and Homestead\, 97 Main Street\, South Paris\, ME\, 04281\, United States
GEO:44.2122183;-70.5392601
X-APPLE-STRUCTURED-LOCATION;VALUE=URI;X-ADDRESS=McLaughlin Garden and Homestead 97 Main Street South Paris ME 04281 United States;X-APPLE-RADIUS=500;X-TITLE=97 Main Street:geo:-70.5392601,44.2122183
END:VEVENT
BEGIN:VEVENT
DTSTART;TZID=America/New_York:20241018T103000
DTEND;TZID=America/New_York:20241018T233000
DTSTAMP:20260423T082008
CREATED:20220221T214634Z
LAST-MODIFIED:20250908T155012Z
UID:10001966-1729247400-1729294200@norwaymemoriallibrary.org
SUMMARY:Music & Movement
DESCRIPTION:Every Friday at 10:30 am \nJoin us as we play and sing in a casual and fun atmosphere.
URL:https://norwaymemoriallibrary.org/event/music-movement/2024-10-18/
LOCATION:Norway Memorial Library
CATEGORIES:Music & Movement
ATTACH;FMTTYPE=image/jpeg:https://norwaymemoriallibrary.org/wp-content/uploads/2022/02/50644737_s-e1645481023470.jpg
END:VEVENT
BEGIN:VEVENT
DTSTART;TZID=America/New_York:20241019T110000
DTEND;TZID=America/New_York:20241019T130000
DTSTAMP:20260423T082008
CREATED:20240816T202841Z
LAST-MODIFIED:20250909T175309Z
UID:10002979-1729335600-1729342800@norwaymemoriallibrary.org
SUMMARY:Knitting and Crochet Group
DESCRIPTION:Knitting and Crochet Group\nBring your own project!\nFirst and third Saturdays from 11:00 am – 1:00 pm\n\nThis group is open to the public. Other needlework projects welcome! Newbies are welcome. \nFor more information\, call the library’s information desk\, (207) 743-5309 ext. 1.
URL:https://norwaymemoriallibrary.org/event/knitting-and-crochet-group-6/2024-10-19/
LOCATION:Norway Memorial Library
END:VEVENT
BEGIN:VEVENT
DTSTART;TZID=America/New_York:20241022T103000
DTEND;TZID=America/New_York:20241022T120000
DTSTAMP:20260423T082008
CREATED:20220221T213455Z
LAST-MODIFIED:20250908T154752Z
UID:10001289-1729593000-1729598400@norwaymemoriallibrary.org
SUMMARY:Toybox Tuesday
DESCRIPTION:Every Tuesday starting at 10:30 am \nPlay time for children (birth-age four) and their caregivers.
URL:https://norwaymemoriallibrary.org/event/toybox-tuesday/2024-10-22/
LOCATION:Norway Memorial Library
CATEGORIES:Toybox Tuesdays
ATTACH;FMTTYPE=image/jpeg:https://norwaymemoriallibrary.org/wp-content/uploads/2022/02/117258094_s-e1645480934288.jpg
END:VEVENT
BEGIN:VEVENT
DTSTART;TZID=America/New_York:20241023T103000
DTEND;TZID=America/New_York:20241023T233000
DTSTAMP:20260423T082008
CREATED:20220221T214303Z
LAST-MODIFIED:20250908T154906Z
UID:10001627-1729679400-1729726200@norwaymemoriallibrary.org
SUMMARY:Storytime
DESCRIPTION:Storytime\, Every Wednesday at 10:30 am \nCome explore the wonderful world of picture books with Ms. Annika. \nPlease enjoy this video link of Annika reading “Whoosh!”
URL:https://norwaymemoriallibrary.org/event/story-time/2024-10-23/
LOCATION:Norway Memorial Library
CATEGORIES:Story Time
ATTACH;FMTTYPE=image/png:https://norwaymemoriallibrary.org/wp-content/uploads/2022/02/Preschool-Storytime.png
END:VEVENT
BEGIN:VEVENT
DTSTART;TZID=America/New_York:20241023T153000
DTEND;TZID=America/New_York:20241023T163000
DTSTAMP:20260423T082008
CREATED:20240909T202430Z
LAST-MODIFIED:20240924T192632Z
UID:10003014-1729697400-1729701000@norwaymemoriallibrary.org
SUMMARY:Fall Children's Book Club in partnership with 4-H
DESCRIPTION:Reading Once Upon a Dream\, by Liz Braswell \nWednesdays\, 3:30 – 4:30 pm \nOctober 9\, 16\, 23\, and 30 \nTen spaces available for 10 – 13 year olds. \nFor more information and to register and get a free copy of the book\, \ncontact Annika or norchild@norwaymemoriallibrary.org or 743-5309 ext 4.
URL:https://norwaymemoriallibrary.org/event/10-13-year-old-book-club-in-partnership-with-4h/2024-10-23/
LOCATION:McLaughlin Garden and Homestead\, 97 Main Street\, South Paris\, ME\, 04281\, United States
GEO:44.2122183;-70.5392601
X-APPLE-STRUCTURED-LOCATION;VALUE=URI;X-ADDRESS=McLaughlin Garden and Homestead 97 Main Street South Paris ME 04281 United States;X-APPLE-RADIUS=500;X-TITLE=97 Main Street:geo:-70.5392601,44.2122183
END:VEVENT
BEGIN:VEVENT
DTSTART;TZID=America/New_York:20241025T103000
DTEND;TZID=America/New_York:20241025T233000
DTSTAMP:20260423T082008
CREATED:20220221T214634Z
LAST-MODIFIED:20250908T155012Z
UID:10001967-1729852200-1729899000@norwaymemoriallibrary.org
SUMMARY:Music & Movement
DESCRIPTION:Every Friday at 10:30 am \nJoin us as we play and sing in a casual and fun atmosphere.
URL:https://norwaymemoriallibrary.org/event/music-movement/2024-10-25/
LOCATION:Norway Memorial Library
CATEGORIES:Music & Movement
ATTACH;FMTTYPE=image/jpeg:https://norwaymemoriallibrary.org/wp-content/uploads/2022/02/50644737_s-e1645481023470.jpg
END:VEVENT
BEGIN:VEVENT
DTSTART;TZID=America/New_York:20241029T103000
DTEND;TZID=America/New_York:20241029T120000
DTSTAMP:20260423T082008
CREATED:20220221T213455Z
LAST-MODIFIED:20250908T154752Z
UID:10001290-1730197800-1730203200@norwaymemoriallibrary.org
SUMMARY:Toybox Tuesday
DESCRIPTION:Every Tuesday starting at 10:30 am \nPlay time for children (birth-age four) and their caregivers.
URL:https://norwaymemoriallibrary.org/event/toybox-tuesday/2024-10-29/
LOCATION:Norway Memorial Library
CATEGORIES:Toybox Tuesdays
ATTACH;FMTTYPE=image/jpeg:https://norwaymemoriallibrary.org/wp-content/uploads/2022/02/117258094_s-e1645480934288.jpg
END:VEVENT
BEGIN:VEVENT
DTSTART;TZID=America/New_York:20241030T103000
DTEND;TZID=America/New_York:20241030T233000
DTSTAMP:20260423T082009
CREATED:20220221T214303Z
LAST-MODIFIED:20250908T154906Z
UID:10001628-1730284200-1730331000@norwaymemoriallibrary.org
SUMMARY:Storytime
DESCRIPTION:Storytime\, Every Wednesday at 10:30 am \nCome explore the wonderful world of picture books with Ms. Annika. \nPlease enjoy this video link of Annika reading “Whoosh!”
URL:https://norwaymemoriallibrary.org/event/story-time/2024-10-30/
LOCATION:Norway Memorial Library
CATEGORIES:Story Time
ATTACH;FMTTYPE=image/png:https://norwaymemoriallibrary.org/wp-content/uploads/2022/02/Preschool-Storytime.png
END:VEVENT
BEGIN:VEVENT
DTSTART;TZID=America/New_York:20241030T153000
DTEND;TZID=America/New_York:20241030T163000
DTSTAMP:20260423T082009
CREATED:20240909T202430Z
LAST-MODIFIED:20240924T192632Z
UID:10003015-1730302200-1730305800@norwaymemoriallibrary.org
SUMMARY:Fall Children's Book Club in partnership with 4-H
DESCRIPTION:Reading Once Upon a Dream\, by Liz Braswell \nWednesdays\, 3:30 – 4:30 pm \nOctober 9\, 16\, 23\, and 30 \nTen spaces available for 10 – 13 year olds. \nFor more information and to register and get a free copy of the book\, \ncontact Annika or norchild@norwaymemoriallibrary.org or 743-5309 ext 4.
URL:https://norwaymemoriallibrary.org/event/10-13-year-old-book-club-in-partnership-with-4h/2024-10-30/
LOCATION:McLaughlin Garden and Homestead\, 97 Main Street\, South Paris\, ME\, 04281\, United States
GEO:44.2122183;-70.5392601
X-APPLE-STRUCTURED-LOCATION;VALUE=URI;X-ADDRESS=McLaughlin Garden and Homestead 97 Main Street South Paris ME 04281 United States;X-APPLE-RADIUS=500;X-TITLE=97 Main Street:geo:-70.5392601,44.2122183
END:VEVENT
BEGIN:VEVENT
DTSTART;TZID=America/New_York:20241101T103000
DTEND;TZID=America/New_York:20241101T233000
DTSTAMP:20260423T082009
CREATED:20220221T214634Z
LAST-MODIFIED:20250908T155012Z
UID:10001968-1730457000-1730503800@norwaymemoriallibrary.org
SUMMARY:Music & Movement
DESCRIPTION:Every Friday at 10:30 am \nJoin us as we play and sing in a casual and fun atmosphere.
URL:https://norwaymemoriallibrary.org/event/music-movement/2024-11-01/
LOCATION:Norway Memorial Library
CATEGORIES:Music & Movement
ATTACH;FMTTYPE=image/jpeg:https://norwaymemoriallibrary.org/wp-content/uploads/2022/02/50644737_s-e1645481023470.jpg
END:VEVENT
BEGIN:VEVENT
DTSTART;TZID=America/New_York:20241102T110000
DTEND;TZID=America/New_York:20241102T130000
DTSTAMP:20260423T082009
CREATED:20240816T202655Z
LAST-MODIFIED:20250908T155301Z
UID:10002964-1730545200-1730552400@norwaymemoriallibrary.org
SUMMARY:Knitting and Crochet Group
DESCRIPTION:Knitting and Crochet Group\nBring your own project!\nFirst and third Saturdays from 11:00 am – 1:00 pm\n\nThis group is open to the public. Other needlework projects welcome! \nFor more information\, call the library’s information desk\, (207) 743-5309 ext. 1.
URL:https://norwaymemoriallibrary.org/event/knitting-and-crochet-group-5/2024-11-02/
LOCATION:Norway Memorial Library
END:VEVENT
BEGIN:VEVENT
DTSTART;TZID=America/New_York:20241105T103000
DTEND;TZID=America/New_York:20241105T120000
DTSTAMP:20260423T082009
CREATED:20220221T213455Z
LAST-MODIFIED:20250908T154752Z
UID:10001291-1730802600-1730808000@norwaymemoriallibrary.org
SUMMARY:Toybox Tuesday
DESCRIPTION:Every Tuesday starting at 10:30 am \nPlay time for children (birth-age four) and their caregivers.
URL:https://norwaymemoriallibrary.org/event/toybox-tuesday/2024-11-05/
LOCATION:Norway Memorial Library
CATEGORIES:Toybox Tuesdays
ATTACH;FMTTYPE=image/jpeg:https://norwaymemoriallibrary.org/wp-content/uploads/2022/02/117258094_s-e1645480934288.jpg
END:VEVENT
BEGIN:VEVENT
DTSTART;TZID=America/New_York:20241105T140000
DTEND;TZID=America/New_York:20241105T150000
DTSTAMP:20260423T082009
CREATED:20241031T175957Z
LAST-MODIFIED:20241105T183535Z
UID:10003083-1730815200-1730818800@norwaymemoriallibrary.org
SUMMARY:LEGO Club for homeschoolers ages 6-12
DESCRIPTION:First and third Tuesdays 2:00 – 3:00 pm. \n\nBuild for an hour and then have your caretaker take a photo of your creation to share on the Children’s Room Facebook page before you dismantle it. LEGOs will be provided by the library.
URL:https://norwaymemoriallibrary.org/event/lego-club-for-homeschoolers-ages-6-12/2024-11-05/
LOCATION:McLaughlin Garden and Homestead\, 97 Main Street\, South Paris\, ME\, 04281\, United States
GEO:44.2122183;-70.5392601
X-APPLE-STRUCTURED-LOCATION;VALUE=URI;X-ADDRESS=McLaughlin Garden and Homestead 97 Main Street South Paris ME 04281 United States;X-APPLE-RADIUS=500;X-TITLE=97 Main Street:geo:-70.5392601,44.2122183
END:VEVENT
BEGIN:VEVENT
DTSTART;TZID=America/New_York:20241106T103000
DTEND;TZID=America/New_York:20241106T233000
DTSTAMP:20260423T082009
CREATED:20220221T214303Z
LAST-MODIFIED:20250908T154906Z
UID:10001629-1730889000-1730935800@norwaymemoriallibrary.org
SUMMARY:Storytime
DESCRIPTION:Storytime\, Every Wednesday at 10:30 am \nCome explore the wonderful world of picture books with Ms. Annika. \nPlease enjoy this video link of Annika reading “Whoosh!”
URL:https://norwaymemoriallibrary.org/event/story-time/2024-11-06/
LOCATION:Norway Memorial Library
CATEGORIES:Story Time
ATTACH;FMTTYPE=image/png:https://norwaymemoriallibrary.org/wp-content/uploads/2022/02/Preschool-Storytime.png
END:VEVENT
BEGIN:VEVENT
DTSTART;TZID=America/New_York:20241108T103000
DTEND;TZID=America/New_York:20241108T233000
DTSTAMP:20260423T082009
CREATED:20220221T214634Z
LAST-MODIFIED:20250908T155012Z
UID:10001969-1731061800-1731108600@norwaymemoriallibrary.org
SUMMARY:Music & Movement
DESCRIPTION:Every Friday at 10:30 am \nJoin us as we play and sing in a casual and fun atmosphere.
URL:https://norwaymemoriallibrary.org/event/music-movement/2024-11-08/
LOCATION:Norway Memorial Library
CATEGORIES:Music & Movement
ATTACH;FMTTYPE=image/jpeg:https://norwaymemoriallibrary.org/wp-content/uploads/2022/02/50644737_s-e1645481023470.jpg
END:VEVENT
END:VCALENDAR