BEGIN:VCALENDAR
VERSION:2.0
PRODID:-//Norway Memorial Library - ECPv6.15.20//NONSGML v1.0//EN
CALSCALE:GREGORIAN
METHOD:PUBLISH
X-ORIGINAL-URL:https://norwaymemoriallibrary.org
X-WR-CALDESC:Events for Norway Memorial Library
REFRESH-INTERVAL;VALUE=DURATION:PT1H
X-Robots-Tag:noindex
X-PUBLISHED-TTL:PT1H
BEGIN:VTIMEZONE
TZID:America/New_York
BEGIN:DAYLIGHT
TZOFFSETFROM:-0500
TZOFFSETTO:-0400
TZNAME:EDT
DTSTART:20270314T070000
END:DAYLIGHT
BEGIN:STANDARD
TZOFFSETFROM:-0400
TZOFFSETTO:-0500
TZNAME:EST
DTSTART:20271107T060000
END:STANDARD
BEGIN:DAYLIGHT
TZOFFSETFROM:-0500
TZOFFSETTO:-0400
TZNAME:EDT
DTSTART:20280312T070000
END:DAYLIGHT
BEGIN:STANDARD
TZOFFSETFROM:-0400
TZOFFSETTO:-0500
TZNAME:EST
DTSTART:20281105T060000
END:STANDARD
BEGIN:DAYLIGHT
TZOFFSETFROM:-0500
TZOFFSETTO:-0400
TZNAME:EDT
DTSTART:20290311T070000
END:DAYLIGHT
BEGIN:STANDARD
TZOFFSETFROM:-0400
TZOFFSETTO:-0500
TZNAME:EST
DTSTART:20291104T060000
END:STANDARD
END:VTIMEZONE
BEGIN:VEVENT
DTSTART;TZID=America/New_York:20280808T103000
DTEND;TZID=America/New_York:20280808T120000
DTSTAMP:20260423T191250
CREATED:20220221T213455Z
LAST-MODIFIED:20250908T154752Z
UID:10001487-1849343400-1849348800@norwaymemoriallibrary.org
SUMMARY:Toybox Tuesday
DESCRIPTION:Every Tuesday starting at 10:30 am \nPlay time for children (birth-age four) and their caregivers.
URL:https://norwaymemoriallibrary.org/event/toybox-tuesday/2028-08-08/
LOCATION:Norway Memorial Library
CATEGORIES:Toybox Tuesdays
ATTACH;FMTTYPE=image/jpeg:https://norwaymemoriallibrary.org/wp-content/uploads/2022/02/117258094_s-e1645480934288.jpg
END:VEVENT
BEGIN:VEVENT
DTSTART;TZID=America/New_York:20280809T103000
DTEND;TZID=America/New_York:20280809T233000
DTSTAMP:20260423T191250
CREATED:20220221T214303Z
LAST-MODIFIED:20250908T154906Z
UID:10001825-1849429800-1849476600@norwaymemoriallibrary.org
SUMMARY:Storytime
DESCRIPTION:Storytime\, Every Wednesday at 10:30 am \nCome explore the wonderful world of picture books with Ms. Annika. \nPlease enjoy this video link of Annika reading “Whoosh!”
URL:https://norwaymemoriallibrary.org/event/story-time/2028-08-09/
LOCATION:Norway Memorial Library
CATEGORIES:Story Time
ATTACH;FMTTYPE=image/png:https://norwaymemoriallibrary.org/wp-content/uploads/2022/02/Preschool-Storytime.png
END:VEVENT
BEGIN:VEVENT
DTSTART;TZID=America/New_York:20280811T103000
DTEND;TZID=America/New_York:20280811T233000
DTSTAMP:20260423T191250
CREATED:20220221T214634Z
LAST-MODIFIED:20250908T155012Z
UID:10002165-1849602600-1849649400@norwaymemoriallibrary.org
SUMMARY:Music & Movement
DESCRIPTION:Every Friday at 10:30 am \nJoin us as we play and sing in a casual and fun atmosphere.
URL:https://norwaymemoriallibrary.org/event/music-movement/2028-08-11/
LOCATION:Norway Memorial Library
CATEGORIES:Music & Movement
ATTACH;FMTTYPE=image/jpeg:https://norwaymemoriallibrary.org/wp-content/uploads/2022/02/50644737_s-e1645481023470.jpg
END:VEVENT
BEGIN:VEVENT
DTSTART;TZID=America/New_York:20280815T103000
DTEND;TZID=America/New_York:20280815T120000
DTSTAMP:20260423T191250
CREATED:20220221T213455Z
LAST-MODIFIED:20250908T154752Z
UID:10001488-1849948200-1849953600@norwaymemoriallibrary.org
SUMMARY:Toybox Tuesday
DESCRIPTION:Every Tuesday starting at 10:30 am \nPlay time for children (birth-age four) and their caregivers.
URL:https://norwaymemoriallibrary.org/event/toybox-tuesday/2028-08-15/
LOCATION:Norway Memorial Library
CATEGORIES:Toybox Tuesdays
ATTACH;FMTTYPE=image/jpeg:https://norwaymemoriallibrary.org/wp-content/uploads/2022/02/117258094_s-e1645480934288.jpg
END:VEVENT
BEGIN:VEVENT
DTSTART;TZID=America/New_York:20280816T103000
DTEND;TZID=America/New_York:20280816T233000
DTSTAMP:20260423T191250
CREATED:20220221T214303Z
LAST-MODIFIED:20250908T154906Z
UID:10001826-1850034600-1850081400@norwaymemoriallibrary.org
SUMMARY:Storytime
DESCRIPTION:Storytime\, Every Wednesday at 10:30 am \nCome explore the wonderful world of picture books with Ms. Annika. \nPlease enjoy this video link of Annika reading “Whoosh!”
URL:https://norwaymemoriallibrary.org/event/story-time/2028-08-16/
LOCATION:Norway Memorial Library
CATEGORIES:Story Time
ATTACH;FMTTYPE=image/png:https://norwaymemoriallibrary.org/wp-content/uploads/2022/02/Preschool-Storytime.png
END:VEVENT
BEGIN:VEVENT
DTSTART;TZID=America/New_York:20280818T103000
DTEND;TZID=America/New_York:20280818T233000
DTSTAMP:20260423T191250
CREATED:20220221T214634Z
LAST-MODIFIED:20250908T155012Z
UID:10002166-1850207400-1850254200@norwaymemoriallibrary.org
SUMMARY:Music & Movement
DESCRIPTION:Every Friday at 10:30 am \nJoin us as we play and sing in a casual and fun atmosphere.
URL:https://norwaymemoriallibrary.org/event/music-movement/2028-08-18/
LOCATION:Norway Memorial Library
CATEGORIES:Music & Movement
ATTACH;FMTTYPE=image/jpeg:https://norwaymemoriallibrary.org/wp-content/uploads/2022/02/50644737_s-e1645481023470.jpg
END:VEVENT
BEGIN:VEVENT
DTSTART;TZID=America/New_York:20280822T103000
DTEND;TZID=America/New_York:20280822T120000
DTSTAMP:20260423T191250
CREATED:20220221T213455Z
LAST-MODIFIED:20250908T154752Z
UID:10001489-1850553000-1850558400@norwaymemoriallibrary.org
SUMMARY:Toybox Tuesday
DESCRIPTION:Every Tuesday starting at 10:30 am \nPlay time for children (birth-age four) and their caregivers.
URL:https://norwaymemoriallibrary.org/event/toybox-tuesday/2028-08-22/
LOCATION:Norway Memorial Library
CATEGORIES:Toybox Tuesdays
ATTACH;FMTTYPE=image/jpeg:https://norwaymemoriallibrary.org/wp-content/uploads/2022/02/117258094_s-e1645480934288.jpg
END:VEVENT
BEGIN:VEVENT
DTSTART;TZID=America/New_York:20280823T103000
DTEND;TZID=America/New_York:20280823T233000
DTSTAMP:20260423T191250
CREATED:20220221T214303Z
LAST-MODIFIED:20250908T154906Z
UID:10001827-1850639400-1850686200@norwaymemoriallibrary.org
SUMMARY:Storytime
DESCRIPTION:Storytime\, Every Wednesday at 10:30 am \nCome explore the wonderful world of picture books with Ms. Annika. \nPlease enjoy this video link of Annika reading “Whoosh!”
URL:https://norwaymemoriallibrary.org/event/story-time/2028-08-23/
LOCATION:Norway Memorial Library
CATEGORIES:Story Time
ATTACH;FMTTYPE=image/png:https://norwaymemoriallibrary.org/wp-content/uploads/2022/02/Preschool-Storytime.png
END:VEVENT
BEGIN:VEVENT
DTSTART;TZID=America/New_York:20280825T103000
DTEND;TZID=America/New_York:20280825T233000
DTSTAMP:20260423T191250
CREATED:20220221T214634Z
LAST-MODIFIED:20250908T155012Z
UID:10002167-1850812200-1850859000@norwaymemoriallibrary.org
SUMMARY:Music & Movement
DESCRIPTION:Every Friday at 10:30 am \nJoin us as we play and sing in a casual and fun atmosphere.
URL:https://norwaymemoriallibrary.org/event/music-movement/2028-08-25/
LOCATION:Norway Memorial Library
CATEGORIES:Music & Movement
ATTACH;FMTTYPE=image/jpeg:https://norwaymemoriallibrary.org/wp-content/uploads/2022/02/50644737_s-e1645481023470.jpg
END:VEVENT
BEGIN:VEVENT
DTSTART;TZID=America/New_York:20280829T103000
DTEND;TZID=America/New_York:20280829T120000
DTSTAMP:20260423T191250
CREATED:20220221T213455Z
LAST-MODIFIED:20250908T154752Z
UID:10001490-1851157800-1851163200@norwaymemoriallibrary.org
SUMMARY:Toybox Tuesday
DESCRIPTION:Every Tuesday starting at 10:30 am \nPlay time for children (birth-age four) and their caregivers.
URL:https://norwaymemoriallibrary.org/event/toybox-tuesday/2028-08-29/
LOCATION:Norway Memorial Library
CATEGORIES:Toybox Tuesdays
ATTACH;FMTTYPE=image/jpeg:https://norwaymemoriallibrary.org/wp-content/uploads/2022/02/117258094_s-e1645480934288.jpg
END:VEVENT
BEGIN:VEVENT
DTSTART;TZID=America/New_York:20280830T103000
DTEND;TZID=America/New_York:20280830T233000
DTSTAMP:20260423T191250
CREATED:20220221T214303Z
LAST-MODIFIED:20250908T154906Z
UID:10001828-1851244200-1851291000@norwaymemoriallibrary.org
SUMMARY:Storytime
DESCRIPTION:Storytime\, Every Wednesday at 10:30 am \nCome explore the wonderful world of picture books with Ms. Annika. \nPlease enjoy this video link of Annika reading “Whoosh!”
URL:https://norwaymemoriallibrary.org/event/story-time/2028-08-30/
LOCATION:Norway Memorial Library
CATEGORIES:Story Time
ATTACH;FMTTYPE=image/png:https://norwaymemoriallibrary.org/wp-content/uploads/2022/02/Preschool-Storytime.png
END:VEVENT
BEGIN:VEVENT
DTSTART;TZID=America/New_York:20280901T103000
DTEND;TZID=America/New_York:20280901T233000
DTSTAMP:20260423T191250
CREATED:20220221T214634Z
LAST-MODIFIED:20250908T155012Z
UID:10002168-1851417000-1851463800@norwaymemoriallibrary.org
SUMMARY:Music & Movement
DESCRIPTION:Every Friday at 10:30 am \nJoin us as we play and sing in a casual and fun atmosphere.
URL:https://norwaymemoriallibrary.org/event/music-movement/2028-09-01/
LOCATION:Norway Memorial Library
CATEGORIES:Music & Movement
ATTACH;FMTTYPE=image/jpeg:https://norwaymemoriallibrary.org/wp-content/uploads/2022/02/50644737_s-e1645481023470.jpg
END:VEVENT
BEGIN:VEVENT
DTSTART;TZID=America/New_York:20280905T103000
DTEND;TZID=America/New_York:20280905T120000
DTSTAMP:20260423T191250
CREATED:20220221T213455Z
LAST-MODIFIED:20250908T154752Z
UID:10001491-1851762600-1851768000@norwaymemoriallibrary.org
SUMMARY:Toybox Tuesday
DESCRIPTION:Every Tuesday starting at 10:30 am \nPlay time for children (birth-age four) and their caregivers.
URL:https://norwaymemoriallibrary.org/event/toybox-tuesday/2028-09-05/
LOCATION:Norway Memorial Library
CATEGORIES:Toybox Tuesdays
ATTACH;FMTTYPE=image/jpeg:https://norwaymemoriallibrary.org/wp-content/uploads/2022/02/117258094_s-e1645480934288.jpg
END:VEVENT
BEGIN:VEVENT
DTSTART;TZID=America/New_York:20280906T103000
DTEND;TZID=America/New_York:20280906T233000
DTSTAMP:20260423T191250
CREATED:20220221T214303Z
LAST-MODIFIED:20250908T154906Z
UID:10001829-1851849000-1851895800@norwaymemoriallibrary.org
SUMMARY:Storytime
DESCRIPTION:Storytime\, Every Wednesday at 10:30 am \nCome explore the wonderful world of picture books with Ms. Annika. \nPlease enjoy this video link of Annika reading “Whoosh!”
URL:https://norwaymemoriallibrary.org/event/story-time/2028-09-06/
LOCATION:Norway Memorial Library
CATEGORIES:Story Time
ATTACH;FMTTYPE=image/png:https://norwaymemoriallibrary.org/wp-content/uploads/2022/02/Preschool-Storytime.png
END:VEVENT
BEGIN:VEVENT
DTSTART;TZID=America/New_York:20280908T103000
DTEND;TZID=America/New_York:20280908T233000
DTSTAMP:20260423T191250
CREATED:20220221T214634Z
LAST-MODIFIED:20250908T155012Z
UID:10002169-1852021800-1852068600@norwaymemoriallibrary.org
SUMMARY:Music & Movement
DESCRIPTION:Every Friday at 10:30 am \nJoin us as we play and sing in a casual and fun atmosphere.
URL:https://norwaymemoriallibrary.org/event/music-movement/2028-09-08/
LOCATION:Norway Memorial Library
CATEGORIES:Music & Movement
ATTACH;FMTTYPE=image/jpeg:https://norwaymemoriallibrary.org/wp-content/uploads/2022/02/50644737_s-e1645481023470.jpg
END:VEVENT
BEGIN:VEVENT
DTSTART;TZID=America/New_York:20280912T103000
DTEND;TZID=America/New_York:20280912T120000
DTSTAMP:20260423T191250
CREATED:20220221T213455Z
LAST-MODIFIED:20250908T154752Z
UID:10001492-1852367400-1852372800@norwaymemoriallibrary.org
SUMMARY:Toybox Tuesday
DESCRIPTION:Every Tuesday starting at 10:30 am \nPlay time for children (birth-age four) and their caregivers.
URL:https://norwaymemoriallibrary.org/event/toybox-tuesday/2028-09-12/
LOCATION:Norway Memorial Library
CATEGORIES:Toybox Tuesdays
ATTACH;FMTTYPE=image/jpeg:https://norwaymemoriallibrary.org/wp-content/uploads/2022/02/117258094_s-e1645480934288.jpg
END:VEVENT
BEGIN:VEVENT
DTSTART;TZID=America/New_York:20280913T103000
DTEND;TZID=America/New_York:20280913T233000
DTSTAMP:20260423T191250
CREATED:20220221T214303Z
LAST-MODIFIED:20250908T154906Z
UID:10001830-1852453800-1852500600@norwaymemoriallibrary.org
SUMMARY:Storytime
DESCRIPTION:Storytime\, Every Wednesday at 10:30 am \nCome explore the wonderful world of picture books with Ms. Annika. \nPlease enjoy this video link of Annika reading “Whoosh!”
URL:https://norwaymemoriallibrary.org/event/story-time/2028-09-13/
LOCATION:Norway Memorial Library
CATEGORIES:Story Time
ATTACH;FMTTYPE=image/png:https://norwaymemoriallibrary.org/wp-content/uploads/2022/02/Preschool-Storytime.png
END:VEVENT
BEGIN:VEVENT
DTSTART;TZID=America/New_York:20280915T103000
DTEND;TZID=America/New_York:20280915T233000
DTSTAMP:20260423T191250
CREATED:20220221T214634Z
LAST-MODIFIED:20250908T155012Z
UID:10002170-1852626600-1852673400@norwaymemoriallibrary.org
SUMMARY:Music & Movement
DESCRIPTION:Every Friday at 10:30 am \nJoin us as we play and sing in a casual and fun atmosphere.
URL:https://norwaymemoriallibrary.org/event/music-movement/2028-09-15/
LOCATION:Norway Memorial Library
CATEGORIES:Music & Movement
ATTACH;FMTTYPE=image/jpeg:https://norwaymemoriallibrary.org/wp-content/uploads/2022/02/50644737_s-e1645481023470.jpg
END:VEVENT
BEGIN:VEVENT
DTSTART;TZID=America/New_York:20280919T103000
DTEND;TZID=America/New_York:20280919T120000
DTSTAMP:20260423T191250
CREATED:20220221T213455Z
LAST-MODIFIED:20250908T154752Z
UID:10001493-1852972200-1852977600@norwaymemoriallibrary.org
SUMMARY:Toybox Tuesday
DESCRIPTION:Every Tuesday starting at 10:30 am \nPlay time for children (birth-age four) and their caregivers.
URL:https://norwaymemoriallibrary.org/event/toybox-tuesday/2028-09-19/
LOCATION:Norway Memorial Library
CATEGORIES:Toybox Tuesdays
ATTACH;FMTTYPE=image/jpeg:https://norwaymemoriallibrary.org/wp-content/uploads/2022/02/117258094_s-e1645480934288.jpg
END:VEVENT
BEGIN:VEVENT
DTSTART;TZID=America/New_York:20280920T103000
DTEND;TZID=America/New_York:20280920T233000
DTSTAMP:20260423T191250
CREATED:20220221T214303Z
LAST-MODIFIED:20250908T154906Z
UID:10001831-1853058600-1853105400@norwaymemoriallibrary.org
SUMMARY:Storytime
DESCRIPTION:Storytime\, Every Wednesday at 10:30 am \nCome explore the wonderful world of picture books with Ms. Annika. \nPlease enjoy this video link of Annika reading “Whoosh!”
URL:https://norwaymemoriallibrary.org/event/story-time/2028-09-20/
LOCATION:Norway Memorial Library
CATEGORIES:Story Time
ATTACH;FMTTYPE=image/png:https://norwaymemoriallibrary.org/wp-content/uploads/2022/02/Preschool-Storytime.png
END:VEVENT
BEGIN:VEVENT
DTSTART;TZID=America/New_York:20280922T103000
DTEND;TZID=America/New_York:20280922T233000
DTSTAMP:20260423T191250
CREATED:20220221T214634Z
LAST-MODIFIED:20250908T155012Z
UID:10002171-1853231400-1853278200@norwaymemoriallibrary.org
SUMMARY:Music & Movement
DESCRIPTION:Every Friday at 10:30 am \nJoin us as we play and sing in a casual and fun atmosphere.
URL:https://norwaymemoriallibrary.org/event/music-movement/2028-09-22/
LOCATION:Norway Memorial Library
CATEGORIES:Music & Movement
ATTACH;FMTTYPE=image/jpeg:https://norwaymemoriallibrary.org/wp-content/uploads/2022/02/50644737_s-e1645481023470.jpg
END:VEVENT
BEGIN:VEVENT
DTSTART;TZID=America/New_York:20280926T103000
DTEND;TZID=America/New_York:20280926T120000
DTSTAMP:20260423T191250
CREATED:20220221T213455Z
LAST-MODIFIED:20250908T154752Z
UID:10001494-1853577000-1853582400@norwaymemoriallibrary.org
SUMMARY:Toybox Tuesday
DESCRIPTION:Every Tuesday starting at 10:30 am \nPlay time for children (birth-age four) and their caregivers.
URL:https://norwaymemoriallibrary.org/event/toybox-tuesday/2028-09-26/
LOCATION:Norway Memorial Library
CATEGORIES:Toybox Tuesdays
ATTACH;FMTTYPE=image/jpeg:https://norwaymemoriallibrary.org/wp-content/uploads/2022/02/117258094_s-e1645480934288.jpg
END:VEVENT
BEGIN:VEVENT
DTSTART;TZID=America/New_York:20280927T103000
DTEND;TZID=America/New_York:20280927T233000
DTSTAMP:20260423T191250
CREATED:20220221T214303Z
LAST-MODIFIED:20250908T154906Z
UID:10001832-1853663400-1853710200@norwaymemoriallibrary.org
SUMMARY:Storytime
DESCRIPTION:Storytime\, Every Wednesday at 10:30 am \nCome explore the wonderful world of picture books with Ms. Annika. \nPlease enjoy this video link of Annika reading “Whoosh!”
URL:https://norwaymemoriallibrary.org/event/story-time/2028-09-27/
LOCATION:Norway Memorial Library
CATEGORIES:Story Time
ATTACH;FMTTYPE=image/png:https://norwaymemoriallibrary.org/wp-content/uploads/2022/02/Preschool-Storytime.png
END:VEVENT
BEGIN:VEVENT
DTSTART;TZID=America/New_York:20280929T103000
DTEND;TZID=America/New_York:20280929T233000
DTSTAMP:20260423T191250
CREATED:20220221T214634Z
LAST-MODIFIED:20250908T155012Z
UID:10002353-1853836200-1853883000@norwaymemoriallibrary.org
SUMMARY:Music & Movement
DESCRIPTION:Every Friday at 10:30 am \nJoin us as we play and sing in a casual and fun atmosphere.
URL:https://norwaymemoriallibrary.org/event/music-movement/2028-09-29/
LOCATION:Norway Memorial Library
CATEGORIES:Music & Movement
ATTACH;FMTTYPE=image/jpeg:https://norwaymemoriallibrary.org/wp-content/uploads/2022/02/50644737_s-e1645481023470.jpg
END:VEVENT
BEGIN:VEVENT
DTSTART;TZID=America/New_York:20281003T103000
DTEND;TZID=America/New_York:20281003T120000
DTSTAMP:20260423T191250
CREATED:20220221T213455Z
LAST-MODIFIED:20250908T154752Z
UID:10017138-1854181800-1854187200@norwaymemoriallibrary.org
SUMMARY:Toybox Tuesday
DESCRIPTION:Every Tuesday starting at 10:30 am \nPlay time for children (birth-age four) and their caregivers.
URL:https://norwaymemoriallibrary.org/event/toybox-tuesday/2028-10-03/
LOCATION:Norway Memorial Library
CATEGORIES:Toybox Tuesdays
ATTACH;FMTTYPE=image/jpeg:https://norwaymemoriallibrary.org/wp-content/uploads/2022/02/117258094_s-e1645480934288.jpg
END:VEVENT
BEGIN:VEVENT
DTSTART;TZID=America/New_York:20281004T103000
DTEND;TZID=America/New_York:20281004T233000
DTSTAMP:20260423T191250
CREATED:20220221T214303Z
LAST-MODIFIED:20250908T154906Z
UID:10017233-1854268200-1854315000@norwaymemoriallibrary.org
SUMMARY:Storytime
DESCRIPTION:Storytime\, Every Wednesday at 10:30 am \nCome explore the wonderful world of picture books with Ms. Annika. \nPlease enjoy this video link of Annika reading “Whoosh!”
URL:https://norwaymemoriallibrary.org/event/story-time/2028-10-04/
LOCATION:Norway Memorial Library
CATEGORIES:Story Time
ATTACH;FMTTYPE=image/png:https://norwaymemoriallibrary.org/wp-content/uploads/2022/02/Preschool-Storytime.png
END:VEVENT
BEGIN:VEVENT
DTSTART;TZID=America/New_York:20281006T103000
DTEND;TZID=America/New_York:20281006T233000
DTSTAMP:20260423T191250
CREATED:20220221T214634Z
LAST-MODIFIED:20250908T155012Z
UID:10002354-1854441000-1854487800@norwaymemoriallibrary.org
SUMMARY:Music & Movement
DESCRIPTION:Every Friday at 10:30 am \nJoin us as we play and sing in a casual and fun atmosphere.
URL:https://norwaymemoriallibrary.org/event/music-movement/2028-10-06/
LOCATION:Norway Memorial Library
CATEGORIES:Music & Movement
ATTACH;FMTTYPE=image/jpeg:https://norwaymemoriallibrary.org/wp-content/uploads/2022/02/50644737_s-e1645481023470.jpg
END:VEVENT
BEGIN:VEVENT
DTSTART;TZID=America/New_York:20281010T103000
DTEND;TZID=America/New_York:20281010T120000
DTSTAMP:20260423T191250
CREATED:20220221T213455Z
LAST-MODIFIED:20250908T154752Z
UID:10017139-1854786600-1854792000@norwaymemoriallibrary.org
SUMMARY:Toybox Tuesday
DESCRIPTION:Every Tuesday starting at 10:30 am \nPlay time for children (birth-age four) and their caregivers.
URL:https://norwaymemoriallibrary.org/event/toybox-tuesday/2028-10-10/
LOCATION:Norway Memorial Library
CATEGORIES:Toybox Tuesdays
ATTACH;FMTTYPE=image/jpeg:https://norwaymemoriallibrary.org/wp-content/uploads/2022/02/117258094_s-e1645480934288.jpg
END:VEVENT
BEGIN:VEVENT
DTSTART;TZID=America/New_York:20281011T103000
DTEND;TZID=America/New_York:20281011T233000
DTSTAMP:20260423T191250
CREATED:20220221T214303Z
LAST-MODIFIED:20250908T154906Z
UID:10017234-1854873000-1854919800@norwaymemoriallibrary.org
SUMMARY:Storytime
DESCRIPTION:Storytime\, Every Wednesday at 10:30 am \nCome explore the wonderful world of picture books with Ms. Annika. \nPlease enjoy this video link of Annika reading “Whoosh!”
URL:https://norwaymemoriallibrary.org/event/story-time/2028-10-11/
LOCATION:Norway Memorial Library
CATEGORIES:Story Time
ATTACH;FMTTYPE=image/png:https://norwaymemoriallibrary.org/wp-content/uploads/2022/02/Preschool-Storytime.png
END:VEVENT
BEGIN:VEVENT
DTSTART;TZID=America/New_York:20281013T103000
DTEND;TZID=America/New_York:20281013T233000
DTSTAMP:20260423T191250
CREATED:20220221T214634Z
LAST-MODIFIED:20250908T155012Z
UID:10002355-1855045800-1855092600@norwaymemoriallibrary.org
SUMMARY:Music & Movement
DESCRIPTION:Every Friday at 10:30 am \nJoin us as we play and sing in a casual and fun atmosphere.
URL:https://norwaymemoriallibrary.org/event/music-movement/2028-10-13/
LOCATION:Norway Memorial Library
CATEGORIES:Music & Movement
ATTACH;FMTTYPE=image/jpeg:https://norwaymemoriallibrary.org/wp-content/uploads/2022/02/50644737_s-e1645481023470.jpg
END:VEVENT
END:VCALENDAR