BEGIN:VCALENDAR
VERSION:2.0
PRODID:-//Norway Memorial Library - ECPv6.15.20//NONSGML v1.0//EN
CALSCALE:GREGORIAN
METHOD:PUBLISH
X-WR-CALNAME:Norway Memorial Library
X-ORIGINAL-URL:https://norwaymemoriallibrary.org
X-WR-CALDESC:Events for Norway Memorial Library
REFRESH-INTERVAL;VALUE=DURATION:PT1H
X-Robots-Tag:noindex
X-PUBLISHED-TTL:PT1H
BEGIN:VTIMEZONE
TZID:America/New_York
BEGIN:DAYLIGHT
TZOFFSETFROM:-0500
TZOFFSETTO:-0400
TZNAME:EDT
DTSTART:20240310T070000
END:DAYLIGHT
BEGIN:STANDARD
TZOFFSETFROM:-0400
TZOFFSETTO:-0500
TZNAME:EST
DTSTART:20241103T060000
END:STANDARD
BEGIN:DAYLIGHT
TZOFFSETFROM:-0500
TZOFFSETTO:-0400
TZNAME:EDT
DTSTART:20250309T070000
END:DAYLIGHT
BEGIN:STANDARD
TZOFFSETFROM:-0400
TZOFFSETTO:-0500
TZNAME:EST
DTSTART:20251102T060000
END:STANDARD
BEGIN:DAYLIGHT
TZOFFSETFROM:-0500
TZOFFSETTO:-0400
TZNAME:EDT
DTSTART:20260308T070000
END:DAYLIGHT
BEGIN:STANDARD
TZOFFSETFROM:-0400
TZOFFSETTO:-0500
TZNAME:EST
DTSTART:20261101T060000
END:STANDARD
END:VTIMEZONE
BEGIN:VEVENT
DTSTART;TZID=America/New_York:20250415T090000
DTEND;TZID=America/New_York:20250415T220000
DTSTAMP:20260419T104840
CREATED:20241218T144532Z
LAST-MODIFIED:20250123T151956Z
UID:10003102-1744707600-1744754400@norwaymemoriallibrary.org
SUMMARY:Winter 2025 Morning Book Club
DESCRIPTION:Morning Book Club meets on the third Tuesday of every month at 9:00 am. It is open to anyone who likes to read and discuss books with others. \nThe book selections for the winter of 2025 are: \nJanuary 21: Flags on the Bayou\, by James Lee Burke. Zoom link to join: https://us02web.zoom.us/j/82364744682?pwd=6dCYxUaJF7Oa7S5zp6b5TOv0kSHvF1.1\n \nFebruary 18: The Berry Pickers\, by Amanda Peters. Zoom link to join: https://us02web.zoom.us/j/87284169577?pwd=rQmUnPS2bKee01WWWzXxvCW0L2IY1M.1\n \nMarch 18: The Secret Diary of Hendrik Groen\, by Hendrik Groen. Zoom link to join: https://us02web.zoom.us/j/81110652765?pwd=zetz70WGjnahlMheK3CyUSioRgNksa.1\n \nApril 15: All’s Well\, by Mona Awad. Zoom link to join: https://us02web.zoom.us/j/83082683491?pwd=FrUOOs6abJWflm6DJS0g1WYwbjSB6E.1\n \nAttend in-person or remotely using zoom links above. \n 
URL:https://norwaymemoriallibrary.org/event/winter-2025-morning-book-club/2025-04-15/
LOCATION:McLaughlin Garden and Homestead\, 97 Main Street\, South Paris\, ME\, 04281\, United States
GEO:44.2122183;-70.5392601
X-APPLE-STRUCTURED-LOCATION;VALUE=URI;X-ADDRESS=McLaughlin Garden and Homestead 97 Main Street South Paris ME 04281 United States;X-APPLE-RADIUS=500;X-TITLE=97 Main Street:geo:-70.5392601,44.2122183
END:VEVENT
BEGIN:VEVENT
DTSTART;TZID=America/New_York:20250415T103000
DTEND;TZID=America/New_York:20250415T120000
DTSTAMP:20260419T104840
CREATED:20220221T213455Z
LAST-MODIFIED:20250908T154752Z
UID:10001314-1744713000-1744718400@norwaymemoriallibrary.org
SUMMARY:Toybox Tuesday
DESCRIPTION:Every Tuesday starting at 10:30 am \nPlay time for children (birth-age four) and their caregivers.
URL:https://norwaymemoriallibrary.org/event/toybox-tuesday/2025-04-15/
LOCATION:Norway Memorial Library
CATEGORIES:Toybox Tuesdays
ATTACH;FMTTYPE=image/jpeg:https://norwaymemoriallibrary.org/wp-content/uploads/2022/02/117258094_s-e1645480934288.jpg
END:VEVENT
BEGIN:VEVENT
DTSTART;TZID=America/New_York:20250415T140000
DTEND;TZID=America/New_York:20250415T150000
DTSTAMP:20260419T104840
CREATED:20241031T180241Z
LAST-MODIFIED:20241105T183342Z
UID:10003089-1744725600-1744729200@norwaymemoriallibrary.org
SUMMARY:LEGO Club for homeschoolers ages 6-12
DESCRIPTION:First and third Tuesdays 2:00 – 3:00 pm. \n\nBuild for an hour and then have your caretaker take a photo of your creation to share on the Children’s Room Facebook page before you dismantle it. LEGOs will be provided by the library.
URL:https://norwaymemoriallibrary.org/event/lego-club-for-homeschoolers-ages-6-12-2/2025-04-15/
LOCATION:McLaughlin Garden and Homestead\, 97 Main Street\, South Paris\, ME\, 04281\, United States
GEO:44.2122183;-70.5392601
X-APPLE-STRUCTURED-LOCATION;VALUE=URI;X-ADDRESS=McLaughlin Garden and Homestead 97 Main Street South Paris ME 04281 United States;X-APPLE-RADIUS=500;X-TITLE=97 Main Street:geo:-70.5392601,44.2122183
END:VEVENT
BEGIN:VEVENT
DTSTART;TZID=America/New_York:20250416T103000
DTEND;TZID=America/New_York:20250416T233000
DTSTAMP:20260419T104840
CREATED:20220221T214303Z
LAST-MODIFIED:20250908T154906Z
UID:10001652-1744799400-1744846200@norwaymemoriallibrary.org
SUMMARY:Storytime
DESCRIPTION:Storytime\, Every Wednesday at 10:30 am \nCome explore the wonderful world of picture books with Ms. Annika. \nPlease enjoy this video link of Annika reading “Whoosh!”
URL:https://norwaymemoriallibrary.org/event/story-time/2025-04-16/
LOCATION:Norway Memorial Library
CATEGORIES:Story Time
ATTACH;FMTTYPE=image/png:https://norwaymemoriallibrary.org/wp-content/uploads/2022/02/Preschool-Storytime.png
END:VEVENT
BEGIN:VEVENT
DTSTART;TZID=America/New_York:20250418T103000
DTEND;TZID=America/New_York:20250418T233000
DTSTAMP:20260419T104840
CREATED:20220221T214634Z
LAST-MODIFIED:20250908T155012Z
UID:10001992-1744972200-1745019000@norwaymemoriallibrary.org
SUMMARY:Music & Movement
DESCRIPTION:Every Friday at 10:30 am \nJoin us as we play and sing in a casual and fun atmosphere.
URL:https://norwaymemoriallibrary.org/event/music-movement/2025-04-18/
LOCATION:Norway Memorial Library
CATEGORIES:Music & Movement
ATTACH;FMTTYPE=image/jpeg:https://norwaymemoriallibrary.org/wp-content/uploads/2022/02/50644737_s-e1645481023470.jpg
END:VEVENT
BEGIN:VEVENT
DTSTART;TZID=America/New_York:20250419T110000
DTEND;TZID=America/New_York:20250419T130000
DTSTAMP:20260419T104840
CREATED:20240816T202841Z
LAST-MODIFIED:20250909T175309Z
UID:10002985-1745060400-1745067600@norwaymemoriallibrary.org
SUMMARY:Knitting and Crochet Group
DESCRIPTION:Knitting and Crochet Group\nBring your own project!\nFirst and third Saturdays from 11:00 am – 1:00 pm\n\nThis group is open to the public. Other needlework projects welcome! Newbies are welcome. \nFor more information\, call the library’s information desk\, (207) 743-5309 ext. 1.
URL:https://norwaymemoriallibrary.org/event/knitting-and-crochet-group-6/2025-04-19/
LOCATION:Norway Memorial Library
END:VEVENT
BEGIN:VEVENT
DTSTART;TZID=America/New_York:20250420T110000
DTEND;TZID=America/New_York:20250420T130000
DTSTAMP:20260419T104840
CREATED:20250107T203957Z
LAST-MODIFIED:20250701T154106Z
UID:10003167-1745146800-1745154000@norwaymemoriallibrary.org
SUMMARY:Knitting and Crochet Group Winter 2025 Schedule
DESCRIPTION:Make this winter cozy! \nJoin the Knitting and Crochet Group at the library from 11:00 am – 1:00 pm on the first and third Saturdays of the month this winter! \nNorway Memorial Library\, 258 Main Street\, (207) 743-5309 ext. 1 or www.norwaymemoriallibrary.org
URL:https://norwaymemoriallibrary.org/event/knitting-and-crochet-group-winter-2025-schedule/2025-04-20/
LOCATION:McLaughlin Garden and Homestead\, 97 Main Street\, South Paris\, ME\, 04281\, United States
GEO:44.2122183;-70.5392601
X-APPLE-STRUCTURED-LOCATION;VALUE=URI;X-ADDRESS=McLaughlin Garden and Homestead 97 Main Street South Paris ME 04281 United States;X-APPLE-RADIUS=500;X-TITLE=97 Main Street:geo:-70.5392601,44.2122183
END:VEVENT
END:VCALENDAR